Module-Install-ReadmeFromPod v0.30 Perl 5 v5.27.8 x86_64-linux

Status
Pass
From
Slaven Rezić (SREZIC)
Dist
Module-Install-ReadmeFromPod v0.30
Platform
Perl 5 v5.27.8 x86_64-linux
Date
2018-01-21 05:51:02
ID
10710c84-fe6f-11e7-812c-fd6a46fd1e9d
This distribution has been tested as part of the CPAN Testers
project, supporting the Perl programming language.  See
http://wiki.cpantesters.org/ for more information or email
questions to cpan-testers-discuss@perl.org


--
Dear Chris Williams,

This is a computer-generated report for Module-Install-ReadmeFromPod-0.30
on perl 5.27.8, created by CPAN-Reporter-1.2018.

Thank you for uploading your work to CPAN.  Congratulations!
All tests were successful.

Sections of this report:

    * Tester comments
    * Program output
    * Prerequisites
    * Environment and other context

------------------------------
TESTER COMMENTS
------------------------------

Additional comments from tester:

none provided

------------------------------
PROGRAM OUTPUT
------------------------------

Output from '/usr/bin/make test':

PERL_DL_NONLAZY=1 "/opt/perl-5.27.8/bin/perl5.27.8" "-MExtUtils::Command::MM" "-MTest::Harness" "-e" "undef *Test::Harness::Switches; test_harness(0, 'inc', 'blib/lib', 'blib/arch')" t/*.t
# Testing Module::Install::ReadmeFromPod 0.30, Perl 5.027008, /opt/perl-5.27.8/bin/perl5.27.8
t/00_compile.t ....... ok
# Subroutine Module::Install::ReadmeFromPod::io redefined at /opt/perl-5.27.8/lib/site_perl/5.27.8/IO/All/Base.pm line 24.
# include /home/cpansand/.cpan/build/2018012100/Module-Install-ReadmeFromPod-0.30-0/dist/oQCq0ZF_fk/inc/Module/Install.pm
# include inc/Module/Install/Metadata.pm
# include inc/Module/Install/Base.pm
# include inc/Module/Install/ReadmeFromPod.pm
# readme_from README.pm to txt
# readme_from README.pm to htm
# Subroutine Module::Install::ReadmeFromPod::io redefined at /opt/perl-5.27.8/lib/site_perl/5.27.8/IO/All/Base.pm line 24.
# Subroutine Module::Install::ReadmeFromPod::io redefined at /opt/perl-5.27.8/lib/site_perl/5.27.8/IO/All/Base.pm line 24.
# readme_from README.pm to man
# readme_from README.pm to md
# include inc/Module/Install/WriteAll.pm
# include inc/Module/Install/Makefile.pm
# include inc/Module/Install/Win32.pm
# include inc/Module/Install/Can.pm
# include inc/Module/Install/Fetch.pm
# Generating a Unix-style Makefile
# Writing Makefile for Foo::Bar
# Writing MYMETA.yml and MYMETA.json
# Writing META.yml
# make[1]: Verzeichnis „/home/cpansand/.cpan/build/2018012100/Module-Install-ReadmeFromPod-0.30-0/dist/oQCq0ZF_fk“ wird betreten
# rm -f \
#   Bar.bso Bar.def \
#   Bar.exp Bar.x \
#    blib/arch/auto/Foo/Bar/extralibs.all \
#   blib/arch/auto/Foo/Bar/extralibs.ld Makefile.aperl \
#   *.a *.o \
#   *perl.core MYMETA.json \
#   MYMETA.yml blibdirs.ts \
#   core core.*perl.*.? \
#   core.[0-9] core.[0-9][0-9] \
#   core.[0-9][0-9][0-9] core.[0-9][0-9][0-9][0-9] \
#   core.[0-9][0-9][0-9][0-9][0-9] libBar.def \
#   mon.out perl \
#   perl perl.exe \
#   perlmain.c pm_to_blib \
#   pm_to_blib.ts so_locations \
#   tmon.out 
# rm -rf \
#   blib 
# mv Makefile Makefile.old > /dev/null 2>&1
# rm -f \
#   Makefile Makefile.old 
# rm -rf \
#   Foo-Bar-0.01 MYMETA.yml 
# rm -f Foo-Bar-0.01.tar.gz
# rm -f MANIFEST.bak _build
# "/opt/perl-5.27.8/bin/perl5.27.8" "-Iinc" "-Ilib" "-MModule::Install::Admin" -e "remove_meta()"
# rm -rf inc
# "/opt/perl-5.27.8/bin/perl5.27.8" "-Iinc" "-MExtUtils::Manifest=fullcheck" -e fullcheck
# Problem opening MANIFEST: No such file or directory at /opt/perl-5.27.8/lib/5.27.8/ExtUtils/Manifest.pm line 349.
# Problem opening MANIFEST: No such file or directory at /opt/perl-5.27.8/lib/5.27.8/ExtUtils/Manifest.pm line 349.
# Not in MANIFEST: Makefile.PL
# Not in MANIFEST: README
# Not in MANIFEST: README.1
# Not in MANIFEST: README.htm
# Not in MANIFEST: README.md
# Not in MANIFEST: README.pm
# make[1]: Verzeichnis „/home/cpansand/.cpan/build/2018012100/Module-Install-ReadmeFromPod-0.30-0/dist/oQCq0ZF_fk“ wird verlassen
t/01_dist.t .......... ok
# Subroutine Module::Install::ReadmeFromPod::io redefined at /opt/perl-5.27.8/lib/site_perl/5.27.8/IO/All/Base.pm line 24.
# include /home/cpansand/.cpan/build/2018012100/Module-Install-ReadmeFromPod-0.30-0/dist/VTRELnkm5O/inc/Module/Install.pm
# include inc/Module/Install/Metadata.pm
# include inc/Module/Install/Base.pm
# include inc/Module/Install/ReadmeFromPod.pm
# readme_from README.pm to text
# include inc/Module/Install/Makefile.pm
# readme_from README.pm to html
# Subroutine Module::Install::ReadmeFromPod::io redefined at /opt/perl-5.27.8/lib/site_perl/5.27.8/IO/All/Base.pm line 24.
# Subroutine Module::Install::ReadmeFromPod::io redefined at /opt/perl-5.27.8/lib/site_perl/5.27.8/IO/All/Base.pm line 24.
# readme_from README.pm to md
# readme_from README.pm to man
# include inc/Module/Install/WriteAll.pm
# include inc/Module/Install/Win32.pm
# include inc/Module/Install/Can.pm
# include inc/Module/Install/Fetch.pm
# Generating a Unix-style Makefile
# Writing Makefile for Foo::Bar
# Writing MYMETA.yml and MYMETA.json
# Writing META.yml
# make[1]: Verzeichnis „/home/cpansand/.cpan/build/2018012100/Module-Install-ReadmeFromPod-0.30-0/dist/VTRELnkm5O“ wird betreten
# rm -f \
#   Bar.bso Bar.def \
#   Bar.exp Bar.x \
#    blib/arch/auto/Foo/Bar/extralibs.all \
#   blib/arch/auto/Foo/Bar/extralibs.ld Makefile.aperl \
#   *.a *.o \
#   *perl.core MYMETA.json \
#   MYMETA.yml blibdirs.ts \
#   core core.*perl.*.? \
#   core.[0-9] core.[0-9][0-9] \
#   core.[0-9][0-9][0-9] core.[0-9][0-9][0-9][0-9] \
#   core.[0-9][0-9][0-9][0-9][0-9] libBar.def \
#   mon.out perl \
#   perl perl.exe \
#   perlmain.c pm_to_blib \
#   pm_to_blib.ts so_locations \
#   tmon.out 
# rm -rf \
#   Foobar.htm Foobar.man \
#   Foobar.md Foobar.txt \
#   blib 
# mv Makefile Makefile.old > /dev/null 2>&1
# rm -f \
#   Makefile Makefile.old 
# rm -rf \
#   Foo-Bar-0.01 MYMETA.yml 
# rm -f Foo-Bar-0.01.tar.gz
# rm -f MANIFEST.bak _build
# "/opt/perl-5.27.8/bin/perl5.27.8" "-Iinc" "-Ilib" "-MModule::Install::Admin" -e "remove_meta()"
# rm -rf inc
# "/opt/perl-5.27.8/bin/perl5.27.8" "-Iinc" "-MExtUtils::Manifest=fullcheck" -e fullcheck
# Problem opening MANIFEST: No such file or directory at /opt/perl-5.27.8/lib/5.27.8/ExtUtils/Manifest.pm line 349.
# Problem opening MANIFEST: No such file or directory at /opt/perl-5.27.8/lib/5.27.8/ExtUtils/Manifest.pm line 349.
# Not in MANIFEST: Makefile.PL
# Not in MANIFEST: README.pm
# make[1]: Verzeichnis „/home/cpansand/.cpan/build/2018012100/Module-Install-ReadmeFromPod-0.30-0/dist/VTRELnkm5O“ wird verlassen
t/02_clean.t ......... ok
# include /home/cpansand/.cpan/build/2018012100/Module-Install-ReadmeFromPod-0.30-0/dist/3RwvytF8Cv/inc/Module/Install.pm
# include inc/Module/Install/Metadata.pm
# include inc/Module/Install/Base.pm
# include inc/Module/Install/Makefile.pm
# include inc/Module/Install/ReadmeFromPod.pm
# readme_from README.pm to txt
# include inc/Module/Install/WriteAll.pm
# include inc/Module/Install/Win32.pm
# include inc/Module/Install/Can.pm
# include inc/Module/Install/Fetch.pm
# Generating a Unix-style Makefile
# Writing Makefile for Foo::Bar
# Writing MYMETA.yml and MYMETA.json
# Writing META.yml
# make[1]: Verzeichnis „/home/cpansand/.cpan/build/2018012100/Module-Install-ReadmeFromPod-0.30-0/dist/3RwvytF8Cv“ wird betreten
# rm -f \
#   Bar.bso Bar.def \
#   Bar.exp Bar.x \
#    blib/arch/auto/Foo/Bar/extralibs.all \
#   blib/arch/auto/Foo/Bar/extralibs.ld Makefile.aperl \
#   *.a *.o \
#   *perl.core MYMETA.json \
#   MYMETA.yml blibdirs.ts \
#   core core.*perl.*.? \
#   core.[0-9] core.[0-9][0-9] \
#   core.[0-9][0-9][0-9] core.[0-9][0-9][0-9][0-9] \
#   core.[0-9][0-9][0-9][0-9][0-9] libBar.def \
#   mon.out perl \
#   perl perl.exe \
#   perlmain.c pm_to_blib \
#   pm_to_blib.ts so_locations \
#   tmon.out 
# rm -rf \
#   blib 
# mv Makefile Makefile.old > /dev/null 2>&1
# rm -f \
#   Makefile Makefile.old 
# rm -rf \
#   Foo-Bar-0.01 MYMETA.yml 
# rm -f Foo-Bar-0.01.tar.gz
# rm -f MANIFEST.bak _build
# "/opt/perl-5.27.8/bin/perl5.27.8" "-Iinc" "-Ilib" "-MModule::Install::Admin" -e "remove_meta()"
# rm -rf inc
# "/opt/perl-5.27.8/bin/perl5.27.8" "-Iinc" "-MExtUtils::Manifest=fullcheck" -e fullcheck
# Problem opening MANIFEST: No such file or directory at /opt/perl-5.27.8/lib/5.27.8/ExtUtils/Manifest.pm line 349.
# Problem opening MANIFEST: No such file or directory at /opt/perl-5.27.8/lib/5.27.8/ExtUtils/Manifest.pm line 349.
# Not in MANIFEST: Makefile.PL
# Not in MANIFEST: README
# Not in MANIFEST: README.pm
# make[1]: Verzeichnis „/home/cpansand/.cpan/build/2018012100/Module-Install-ReadmeFromPod-0.30-0/dist/3RwvytF8Cv“ wird verlassen
t/03_all_from.t ...... ok
t/04_distpdf.t ....... skipped: App::pod2pdf not installed
t/05_cleanpdf.t ...... skipped: App::pod2pdf not installed
t/99_pod.t ........... ok
t/99_pod_coverage.t .. ok
All tests successful.
Files=8, Tests=33,  2 wallclock secs ( 0.03 usr  0.02 sys +  1.20 cusr  0.24 csys =  1.49 CPU)
Result: PASS

------------------------------
PREREQUISITES
------------------------------

Prerequisite modules loaded:

requires:

    Module              Need  Have    
    ------------------- ----- --------
    IO::All             0     0.87    
    Module::Install     1     1.19    
    perl                5.006 5.027008
    Pod::Html           0     1.24    
    Pod::Man            0     4.10    
    Pod::Markdown       2     3.005   
    Pod::Text           3.13  4.10    

build_requires:

    Module              Need  Have    
    ------------------- ----- --------
    Capture::Tiny       0.05  0.46    
    ExtUtils::MakeMaker 6.59  7.30    
    File::Temp          0     0.2304  
    Test::InDistDir     0     1.112071
    Test::More          0.47  1.302120

configure_requires:

    Module              Need  Have    
    ------------------- ----- --------
    ExtUtils::MakeMaker 6.59  7.30    

opt_requires:

    Module              Need  Have    
    ------------------- ----- --------
  ! App::pod2pdf        0     n/a     


------------------------------
ENVIRONMENT AND OTHER CONTEXT
------------------------------

Environment variables:

    LANG = C
    LC_ALL = de_DE.UTF-8
    PATH = /usr/local/bin:/usr/bin:/bin:/usr/local/sbin:/usr/sbin:/sbin:/home/cpansand/bin/linux-gnu:/home/cpansand/bin/sh:/home/cpansand/bin:/usr/games:/home/cpansand/devel:/home/eserte/src/srezic-misc/scripts
    PERL5LIB = 
    PERL5OPT = 
    PERL5_CPANPLUS_IS_RUNNING = 18496
    PERL5_CPAN_IS_RUNNING = 18496
    PERL5_CPAN_IS_RUNNING_IN_RECURSION = 29813,18496
    PERLDOC = -MPod::Perldoc::ToTextOverstrike
    PERL_BATCH = yes
    PERL_CANARY_STABILITY_NOPROMPT = 1
    PERL_CPAN_REPORTER_CONFIG = /var/tmp/cpansmoker-1023/2018012100/cpanreporter_000_config.ini
    PERL_EXTUTILS_AUTOINSTALL = --defaultdeps
    PERL_PARALLEL_SMOKER = yes
    PERL_USE_UNSAFE_INC = 1
    SHELL = /usr/bin/zsh
    TERM = screen
    TMPDIR = /var/tmp/cpansmoker-1023/2018012100

Perl special variables (and OS-specific diagnostics, for MSWin32):

    $^X = /opt/perl-5.27.8/bin/perl5.27.8
    $UID/$EUID = 1023 / 1023
    $GID = 1023 1023
    $EGID = 1023 1023

Perl module toolchain versions installed:

    Module              Have    
    ------------------- --------
    CPAN                2.16    
    CPAN::Meta          2.150010
    Cwd                 3.72    
    ExtUtils::CBuilder  0.280230
    ExtUtils::Command   7.30    
    ExtUtils::Install   2.14    
    ExtUtils::MakeMaker 7.30    
    ExtUtils::Manifest  1.70    
    ExtUtils::ParseXS   3.36    
    File::Spec          3.72    
    JSON                2.97001 
    JSON::PP            2.97001 
    Module::Build       0.4224  
    Module::Signature   0.81    
    Parse::CPAN::Meta   2.150010
    Test::Harness       3.39    
    Test::More          1.302120
    YAML                1.24    
    YAML::Syck          1.30    
    version             0.9918  


--

Summary of my perl5 (revision 5 version 27 subversion 8) configuration:
   
  Platform:
    osname=linux
    osvers=4.9.0-3-amd64
    archname=x86_64-linux
    uname='linux debian9 4.9.0-3-amd64 #1 smp debian 4.9.30-2+deb9u5 (2017-09-19) x86_64 gnulinux '
    config_args='-ds -e -Dprefix=/opt/perl-5.27.8 -Dusedevel -Dusemallocwrap=no -Dcf_email=srezic@cpan.org'
    hint=recommended
    useposix=true
    d_sigaction=define
    useithreads=undef
    usemultiplicity=undef
    use64bitint=define
    use64bitall=define
    uselongdouble=undef
    usemymalloc=n
    default_inc_excludes_dot=define
    bincompat5005=undef
  Compiler:
    cc='cc'
    ccflags ='-fwrapv -fno-strict-aliasing -pipe -fstack-protector-strong -I/usr/local/include -D_LARGEFILE_SOURCE -D_FILE_OFFSET_BITS=64 -D_FORTIFY_SOURCE=2'
    optimize='-O2'
    cppflags='-fwrapv -fno-strict-aliasing -pipe -fstack-protector-strong -I/usr/local/include'
    ccversion=''
    gccversion='6.3.0 20170516'
    gccosandvers=''
    intsize=4
    longsize=8
    ptrsize=8
    doublesize=8
    byteorder=12345678
    doublekind=3
    d_longlong=define
    longlongsize=8
    d_longdbl=define
    longdblsize=16
    longdblkind=3
    ivtype='long'
    ivsize=8
    nvtype='double'
    nvsize=8
    Off_t='off_t'
    lseeksize=8
    alignbytes=8
    prototype=define
  Linker and Libraries:
    ld='cc'
    ldflags =' -fstack-protector-strong -L/usr/local/lib'
    libpth=/usr/local/lib /usr/lib/gcc/x86_64-linux-gnu/6/include-fixed /usr/include/x86_64-linux-gnu /usr/lib /lib/x86_64-linux-gnu /lib/../lib /usr/lib/x86_64-linux-gnu /usr/lib/../lib /lib
    libs=-lpthread -lnsl -lgdbm -ldb -ldl -lm -lcrypt -lutil -lc -lgdbm_compat
    perllibs=-lpthread -lnsl -ldl -lm -lcrypt -lutil -lc
    libc=libc-2.24.so
    so=so
    useshrplib=false
    libperl=libperl.a
    gnulibc_version='2.24'
  Dynamic Linking:
    dlsrc=dl_dlopen.xs
    dlext=so
    d_dlsymun=undef
    ccdlflags='-Wl,-E'
    cccdlflags='-fPIC'
    lddlflags='-shared -O2 -L/usr/local/lib -fstack-protector-strong'


Characteristics of this binary (from libperl): 
  Compile-time options:
    HAS_TIMES
    PERLIO_LAYERS
    PERL_COPY_ON_WRITE
    PERL_DONT_CREATE_GVSV
    PERL_OP_PARENT
    PERL_PRESERVE_IVUV
    PERL_USE_DEVEL
    USE_64_BIT_ALL
    USE_64_BIT_INT
    USE_LARGE_FILES
    USE_LOCALE
    USE_LOCALE_COLLATE
    USE_LOCALE_CTYPE
    USE_LOCALE_NUMERIC
    USE_LOCALE_TIME
    USE_PERLIO
    USE_PERL_ATOF
  Built under linux
  Compiled at Jan 20 2018 08:22:29
  %ENV:
    PERL5LIB=""
    PERL5OPT=""
    PERL5_CPANPLUS_IS_RUNNING="18496"
    PERL5_CPAN_IS_RUNNING="18496"
    PERL5_CPAN_IS_RUNNING_IN_RECURSION="29813,18496"
    PERLDOC="-MPod::Perldoc::ToTextOverstrike"
    PERL_BATCH="yes"
    PERL_CANARY_STABILITY_NOPROMPT="1"
    PERL_CPAN_REPORTER_CONFIG="/var/tmp/cpansmoker-1023/2018012100/cpanreporter_000_config.ini"
    PERL_EXTUTILS_AUTOINSTALL="--defaultdeps"
    PERL_PARALLEL_SMOKER="yes"
    PERL_USE_UNSAFE_INC="1"
  @INC:
    /opt/perl-5.27.8/lib/site_perl/5.27.8/x86_64-linux
    /opt/perl-5.27.8/lib/site_perl/5.27.8
    /opt/perl-5.27.8/lib/5.27.8/x86_64-linux
    /opt/perl-5.27.8/lib/5.27.8
    .