Gtk2 v1.24993 Perl 5 v5.18.4 x86_64-linux

Status
Pass
From
Slaven Rezić (SREZIC)
Dist
Gtk2 v1.24993
Platform
Perl 5 v5.18.4 x86_64-linux
Date
2019-11-24 07:36:01
ID
106b1a6a-0e8d-11ea-9d0c-31741f24ea8f
This distribution has been tested as part of the CPAN Testers
project, supporting the Perl programming language.  See
http://wiki.cpantesters.org/ for more information or email
questions to cpan-testers-discuss@perl.org


--
Dear Brian Manning,

This is a computer-generated report for Gtk2-1.24993
on perl 5.18.4, created by CPAN-Reporter-1.2018.

Thank you for uploading your work to CPAN.  Congratulations!
All tests were successful.

Sections of this report:

    * Tester comments
    * Program output
    * Prerequisites
    * Environment and other context

------------------------------
TESTER COMMENTS
------------------------------

Additional comments from tester:

none provided

------------------------------
PROGRAM OUTPUT
------------------------------

Output from '/usr/bin/make test':

PERL_DL_NONLAZY=1 /opt/perl-5.18.4/bin/perl5.18.4 "-MExtUtils::Command::MM" "-e" "test_harness(0, 'blib/lib', 'blib/arch')" t/*.t
# Testing Gtk2 1.24993
#    Running against gtk+ 2.24.30
#   Compiled against gtk+ 2.24.30
Xlib:  extension "RANDR" missing on display ":4".
t/00.Gtk2.t ........................ ok
Xlib:  extension "RANDR" missing on display ":4".
t/01.GtkWindow.t ................... ok
Xlib:  extension "RANDR" missing on display ":4".
t/02.GtkContainer.t ................ ok
t/constants.t ...................... ok
Xlib:  extension "RANDR" missing on display ":4".
t/Gdk.t ............................ ok
Xlib:  extension "RANDR" missing on display ":4".
t/GdkCairo.t ....................... ok
Xlib:  extension "RANDR" missing on display ":4".
t/GdkColor.t ....................... ok
Xlib:  extension "RANDR" missing on display ":4".
t/GdkCursor.t ...................... ok
Xlib:  extension "RANDR" missing on display ":4".
Xlib:  extension "RANDR" missing on display ":4".
Xlib:  extension "RANDR" missing on display ":4".
t/GdkDisplay.t ..................... ok
Xlib:  extension "RANDR" missing on display ":4".
t/GdkDisplayManager.t .............. ok
Xlib:  extension "RANDR" missing on display ":4".
t/GdkDrawable.t .................... ok
Xlib:  extension "RANDR" missing on display ":4".
t/GdkEvent.t ....................... ok
Xlib:  extension "RANDR" missing on display ":4".
t/GdkGC.t .......................... ok
Xlib:  extension "RANDR" missing on display ":4".
t/GdkImage.t ....................... ok
Xlib:  extension "RANDR" missing on display ":4".
t/GdkInput.t ....................... ok
Xlib:  extension "RANDR" missing on display ":4".
t/GdkKeys.t ........................ ok
Xlib:  extension "RANDR" missing on display ":4".
t/GdkPango.t ....................... ok
Xlib:  extension "RANDR" missing on display ":4".
t/GdkPixbuf.t ...................... ok
t/GdkPixbufLoader.t ................ ok
t/GdkPixbufSimpleAnim.t ............ ok
Xlib:  extension "RANDR" missing on display ":4".
Gdk-WARNING **: XID collision, trouble ahead at t/GdkPixmap.t line 16.
Gdk-WARNING **: XID collision, trouble ahead at t/GdkPixmap.t line 25.
Gdk-WARNING **: XID collision, trouble ahead at t/GdkPixmap.t line 40.
t/GdkPixmap.t ...................... ok
Xlib:  extension "RANDR" missing on display ":4".
t/GdkProperty.t .................... ok
t/GdkRegion.t ...................... ok
Xlib:  extension "RANDR" missing on display ":4".
t/GdkRgb.t ......................... ok
Xlib:  extension "RANDR" missing on display ":4".
t/GdkScreen.t ...................... ok
Xlib:  extension "RANDR" missing on display ":4".
t/GdkSelection.t ................... ok
Xlib:  extension "RANDR" missing on display ":4".
t/GdkVisual.t ...................... ok
Xlib:  extension "RANDR" missing on display ":4".
t/GdkWindow.t ...................... ok
Xlib:  extension "RANDR" missing on display ":4".
t/GdkX11.t ......................... ok
Xlib:  extension "RANDR" missing on display ":4".
t/GtkAboutDialog.t ................. ok
Xlib:  extension "RANDR" missing on display ":4".
t/GtkAccelGroup.t .................. ok
Xlib:  extension "RANDR" missing on display ":4".
t/GtkAccelLabel.t .................. ok
Xlib:  extension "RANDR" missing on display ":4".
t/GtkAccelMap.t .................... ok
Xlib:  extension "RANDR" missing on display ":4".
t/GtkAction.t ...................... ok
Xlib:  extension "RANDR" missing on display ":4".
t/GtkActionGroup.t ................. ok
Xlib:  extension "RANDR" missing on display ":4".
t/GtkActivatable.t ................. ok
t/GtkAdjustment.t .................. ok
t/GtkAlignment.t ................... ok
t/GtkArrow.t ....................... ok
t/GtkAspectFrame.t ................. ok
Xlib:  extension "RANDR" missing on display ":4".
t/GtkAssistant.t ................... ok
Xlib:  extension "RANDR" missing on display ":4".
t/GtkBin.t ......................... ok
Xlib:  extension "RANDR" missing on display ":4".
t/GtkBindings.t .................... ok
Xlib:  extension "RANDR" missing on display ":4".
t/GtkBox.t ......................... ok
Xlib:  extension "RANDR" missing on display ":4".
t/GtkBuildable.t ................... ok
Xlib:  extension "RANDR" missing on display ":4".
GLib-GObject-WARNING **: /build/glib2.0-pjKWYQ/glib2.0-2.48.2/./gobject/gsignal.c:1250: unable to lookup signal "changed" for non instantiatable type 'GtkBuildable' at /home/cpansand/.cpan/build/2019112407/Glib-1.3291-qE5J8L/blib/lib/Glib/Object/Subclass.pm line 235.
t/GtkBuildableIface.t .............. ok
Xlib:  extension "RANDR" missing on display ":4".
t/GtkBuilder.t ..................... ok
Xlib:  extension "RANDR" missing on display ":4".
t/GtkButton.t ...................... ok
Xlib:  extension "RANDR" missing on display ":4".
t/GtkButtonBox.t ................... ok
Xlib:  extension "RANDR" missing on display ":4".
t/GtkCalendar.t .................... ok
Xlib:  extension "RANDR" missing on display ":4".
GLib-GObject-CRITICAL **: Object class EditableTest doesn't implement property 'editing-canceled' from interface 'GtkCellEditable' at /home/cpansand/.cpan/build/2019112407/Glib-1.3291-qE5J8L/blib/lib/Glib/Object/Subclass.pm line 235.
t/GtkCellEditable.t ................ ok
Xlib:  extension "RANDR" missing on display ":4".
t/GtkCellLayout.t .................. ok
Xlib:  extension "RANDR" missing on display ":4".
t/GtkCellLayoutIface.t ............. ok
Xlib:  extension "RANDR" missing on display ":4".
t/GtkCellRenderer.t ................ ok
t/GtkCellRendererAccel.t ........... ok
t/GtkCellRendererCombo.t ........... ok
Xlib:  extension "RANDR" missing on display ":4".
t/GtkCellRendererIface-Chaining.t .. ok
t/GtkCellRendererPixbuf.t .......... ok
t/GtkCellRendererProgress.t ........ ok
t/GtkCellRendererSpin.t ............ ok
t/GtkCellRendererSpinner.t ......... ok
t/GtkCellRendererText.t ............ ok
t/GtkCellRendererToggle.t .......... ok
Xlib:  extension "RANDR" missing on display ":4".
t/GtkCellView.t .................... ok
Xlib:  extension "RANDR" missing on display ":4".
t/GtkCheckButton.t ................. ok
Xlib:  extension "RANDR" missing on display ":4".
t/GtkCheckMenuItem.t ............... ok
Xlib:  extension "RANDR" missing on display ":4".
t/GtkClipboard.t ................... ok
Xlib:  extension "RANDR" missing on display ":4".
t/GtkColorButton.t ................. ok
Xlib:  extension "RANDR" missing on display ":4".
t/GtkColorSelection.t .............. ok
Xlib:  extension "RANDR" missing on display ":4".
t/GtkColorSelectionDialog.t ........ ok
Xlib:  extension "RANDR" missing on display ":4".
t/GtkCombo.t ....................... ok
Xlib:  extension "RANDR" missing on display ":4".
t/GtkComboBox.t .................... ok
Xlib:  extension "RANDR" missing on display ":4".
t/GtkComboBoxEntry.t ............... ok
Xlib:  extension "RANDR" missing on display ":4".
t/GtkCurve.t ....................... ok
Xlib:  extension "RANDR" missing on display ":4".
t/GtkDialog.t ...................... ok
t/GtkDrawingArea.t ................. ok
Xlib:  extension "RANDR" missing on display ":4".
t/GtkEditable.t .................... ok
Xlib:  extension "RANDR" missing on display ":4".
t/GtkEntry.t ....................... ok
Xlib:  extension "RANDR" missing on display ":4".
t/GtkEntryBuffer.t ................. ok
Xlib:  extension "RANDR" missing on display ":4".
t/GtkEntryCompletion.t ............. ok
t/GtkEventBox.t .................... ok
Xlib:  extension "RANDR" missing on display ":4".
t/GtkExpander.t .................... ok
t/GtkFileChooser.t ................. skipped: this test is unreliable
Xlib:  extension "RANDR" missing on display ":4".
t/GtkFileChooserButton.t ........... ok
Xlib:  extension "RANDR" missing on display ":4".
t/GtkFileChooserDialog.t ........... ok
Xlib:  extension "RANDR" missing on display ":4".
t/GtkFileChooserWidget.t ........... ok
t/GtkFileFilter.t .................. ok
Xlib:  extension "RANDR" missing on display ":4".
t/GtkFileSelection.t ............... ok
t/GtkFixed.t ....................... ok
Xlib:  extension "RANDR" missing on display ":4".
t/GtkFontButton.t .................. ok
Xlib:  extension "RANDR" missing on display ":4".
t/GtkFontSelection.t ............... ok
t/GtkFrame.t ....................... ok
Xlib:  extension "RANDR" missing on display ":4".
t/GtkGammaCurve.t .................. ok
Xlib:  extension "RANDR" missing on display ":4".
t/GtkGC.t .......................... ok
t/GtkHandleBox.t ................... ok
t/GtkHBox.t ........................ ok
t/GtkHButtonBox.t .................. ok
t/GtkHPaned.t ...................... ok
t/GtkHRuler.t ...................... ok
Xlib:  extension "RANDR" missing on display ":4".
t/GtkHScale.t ...................... ok
t/GtkHScrollbar.t .................. ok
t/GtkHSeparator.t .................. ok
t/GtkHSV.t ......................... ok
Xlib:  extension "RANDR" missing on display ":4".
t/GtkIconFactory.t ................. ok
Xlib:  extension "RANDR" missing on display ":4".
t/GtkIconTheme.t ................... ok
Xlib:  extension "RANDR" missing on display ":4".
t/GtkIconView.t .................... ok
Xlib:  extension "RANDR" missing on display ":4".
t/GtkImage.t ....................... ok
Xlib:  extension "RANDR" missing on display ":4".
t/GtkImageMenuItem.t ............... ok
Xlib:  extension "RANDR" missing on display ":4".
t/GtkIMContext.t ................... ok
Xlib:  extension "RANDR" missing on display ":4".
t/GtkInfoBar.t ..................... ok
Xlib:  extension "RANDR" missing on display ":4".
t/GtkInputDialog.t ................. ok
Xlib:  extension "RANDR" missing on display ":4".
t/GtkInvisible.t ................... ok
Xlib:  extension "RANDR" missing on display ":4".
t/GtkItemFactory.t ................. ok
Xlib:  extension "RANDR" missing on display ":4".
t/GtkLabel.t ....................... ok
Xlib:  extension "RANDR" missing on display ":4".
t/GtkLayout.t ...................... ok
Xlib:  extension "RANDR" missing on display ":4".
t/GtkLinkButton.t .................. ok
Xlib:  extension "RANDR" missing on display ":4".
t/GtkListStore.t ................... ok
Xlib:  extension "RANDR" missing on display ":4".
t/GtkMenu.t ........................ ok
t/GtkMenuBar.t ..................... ok
Xlib:  extension "RANDR" missing on display ":4".
t/GtkMenuItem.t .................... ok
Xlib:  extension "RANDR" missing on display ":4".
t/GtkMenuShell.t ................... ok
Xlib:  extension "RANDR" missing on display ":4".
t/GtkMenuToolButton.t .............. ok
Xlib:  extension "RANDR" missing on display ":4".
t/GtkMessageDialog.t ............... ok
t/GtkMisc.t ........................ ok
Xlib:  extension "RANDR" missing on display ":4".
t/GtkNotebook.t .................... ok
t/GtkObject.t ...................... ok
Xlib:  extension "RANDR" missing on display ":4".
t/GtkOffscreenWindow.t ............. ok
Xlib:  extension "RANDR" missing on display ":4".
t/GtkOptionMenu.t .................. ok
Xlib:  extension "RANDR" missing on display ":4".
t/GtkOrientable.t .................. ok
Xlib:  extension "RANDR" missing on display ":4".
t/GtkPageSetup.t ................... ok
Xlib:  extension "RANDR" missing on display ":4".
t/GtkPaned.t ....................... ok
Xlib:  extension "RANDR" missing on display ":4".
t/GtkPaperSize.t ................... ok
Xlib:  extension "RANDR" missing on display ":4".
t/GtkPrintContext.t ................ ok
Xlib:  extension "RANDR" missing on display ":4".
t/GtkPrintOperation.t .............. ok
Xlib:  extension "RANDR" missing on display ":4".
t/GtkPrintOperationPreview.t ....... ok
Xlib:  extension "RANDR" missing on display ":4".
t/GtkPrintSettings.t ............... ok
t/GtkProgressBar.t ................. ok
t/GtkRadioAction.t ................. ok
Xlib:  extension "RANDR" missing on display ":4".
t/GtkRadioButton.t ................. ok
Xlib:  extension "RANDR" missing on display ":4".
t/GtkRadioMenuItem.t ............... ok
Xlib:  extension "RANDR" missing on display ":4".
t/GtkRadioToolButton.t ............. ok
Xlib:  extension "RANDR" missing on display ":4".
t/GtkRange.t ....................... ok
Xlib:  extension "RANDR" missing on display ":4".
t/GtkRc.t .......................... ok
Xlib:  extension "RANDR" missing on display ":4".
t/GtkRecentAction.t ................ ok
Xlib:  extension "RANDR" missing on display ":4".
GLib-CRITICAL **: Source ID 5 was not found when attempting to remove it at t/GtkRecentChooser.t line 67.
GLib-CRITICAL **: Source ID 9 was not found when attempting to remove it at /home/cpansand/.cpan/build/2019112407/Gtk2-1.24993-aVVRA0/blib/lib/Gtk2/TestHelper.pm line 84.
GLib-CRITICAL **: Source ID 12 was not found when attempting to remove it.
t/GtkRecentChooser.t ............... ok
Xlib:  extension "RANDR" missing on display ":4".
t/GtkRecentChooserDialog.t ......... ok
Xlib:  extension "RANDR" missing on display ":4".
t/GtkRecentChooserMenu.t ........... ok
Xlib:  extension "RANDR" missing on display ":4".
t/GtkRecentChooserWidget.t ......... ok
Xlib:  extension "RANDR" missing on display ":4".
t/GtkRecentFilter.t ................ ok
Xlib:  extension "RANDR" missing on display ":4".
t/GtkRecentManager.t ............... ok
t/GtkRuler.t ....................... ok
Xlib:  extension "RANDR" missing on display ":4".
t/GtkScale.t ....................... ok
Xlib:  extension "RANDR" missing on display ":4".
t/GtkScaleButton.t ................. ok
Xlib:  extension "RANDR" missing on display ":4".
t/GtkScrolledWindow.t .............. ok
Xlib:  extension "RANDR" missing on display ":4".
t/GtkSelection.t ................... ok
t/GtkSeparatorMenuItem.t ........... ok
Xlib:  extension "RANDR" missing on display ":4".
t/GtkSeparatorToolItem.t ........... ok
t/GtkShow.t ........................ skipped: can only test interactively
Xlib:  extension "RANDR" missing on display ":4".
t/GtkSimpleList.t .................. ok
Xlib:  extension "RANDR" missing on display ":4".
t/GtkSimpleMenu.t .................. ok
t/GtkSizeGroup.t ................... ok
Xlib:  extension "RANDR" missing on display ":4".
t/GtkSpinButton.t .................. ok
t/GtkSpinner.t ..................... ok
t/GtkStatusbar.t ................... ok
Xlib:  extension "RANDR" missing on display ":4".
t/GtkStatusIcon.t .................. ok
t/GtkStock.t ....................... ok
Xlib:  extension "RANDR" missing on display ":4".
t/GtkStyle.t ....................... ok
Xlib:  extension "RANDR" missing on display ":4".
t/GtkTable.t ....................... ok
t/GtkTearoffMenuItem.t ............. ok
Xlib:  extension "RANDR" missing on display ":4".
t/GtkTextBuffer.t .................. ok
Xlib:  extension "RANDR" missing on display ":4".
GLib-WARNING **: (/build/glib2.0-pjKWYQ/glib2.0-2.48.2/./glib/gerror.c:405):g_error_new_valist: runtime check failed: (domain != 0) at t/GtkTextBufferRichText.t line 210, <DATA> line 1.
t/GtkTextBufferRichText.t .......... ok
Xlib:  extension "RANDR" missing on display ":4".
t/GtkTextChildAnchor.t ............. ok
t/GtkTextIter.t .................... ok
t/GtkTextMark.t .................... ok
Xlib:  extension "RANDR" missing on display ":4".
t/GtkTextTag.t ..................... ok
t/GtkTextTagTable.t ................ ok
Xlib:  extension "RANDR" missing on display ":4".
t/GtkTextView.t .................... ok
Xlib:  extension "RANDR" missing on display ":4".
t/GtkToggleAction.t ................ ok
Xlib:  extension "RANDR" missing on display ":4".
t/GtkToggleButton.t ................ ok
Xlib:  extension "RANDR" missing on display ":4".
t/GtkToggleToolButton.t ............ ok
Xlib:  extension "RANDR" missing on display ":4".
t/GtkToolbar.t ..................... ok
Xlib:  extension "RANDR" missing on display ":4".
t/GtkToolButton.t .................. ok
Xlib:  extension "RANDR" missing on display ":4".
t/GtkToolItem.t .................... ok
Xlib:  extension "RANDR" missing on display ":4".
t/GtkToolItemGroup.t ............... ok
Xlib:  extension "RANDR" missing on display ":4".
t/GtkToolPalette.t ................. ok
Xlib:  extension "RANDR" missing on display ":4".
t/GtkToolShell.t ................... ok
Xlib:  extension "RANDR" missing on display ":4".
t/GtkTooltip.t ..................... ok
Xlib:  extension "RANDR" missing on display ":4".
t/GtkTooltips.t .................... ok
t/GtkTreeDnd.t ..................... ok
t/GtkTreeModel.t ................... ok
t/GtkTreeModelFilter.t ............. ok
t/GtkTreeModelIface.t .............. ok
t/GtkTreeModelSort.t ............... ok
Xlib:  extension "RANDR" missing on display ":4".
t/GtkTreeSelection.t ............... ok
t/GtkTreeSortable.t ................ ok
t/GtkTreeStore.t ................... ok
t/GtkTreeView-Dnd.t ................ skipped: this test is interactive
Xlib:  extension "RANDR" missing on display ":4".
t/GtkTreeView.t .................... ok
Xlib:  extension "RANDR" missing on display ":4".
t/GtkUIManager.t ................... ok
t/GtkVBox.t ........................ ok
t/GtkVButtonBox.t .................. ok
Xlib:  extension "RANDR" missing on display ":4".
t/GtkViewport.t .................... ok
Xlib:  extension "RANDR" missing on display ":4".
t/GtkVolumeButton.t ................ ok
t/GtkVPaned.t ...................... ok
t/GtkVRuler.t ...................... ok
Xlib:  extension "RANDR" missing on display ":4".
t/GtkVScale.t ...................... ok
t/GtkVScrollbar.t .................. ok
t/GtkVSeparator.t .................. ok
Xlib:  extension "RANDR" missing on display ":4".
t/GtkWidget.t ...................... ok
Xlib:  extension "RANDR" missing on display ":4".
t/options.t ........................ ok
Xlib:  extension "RANDR" missing on display ":4".
t/pango-compat.t ................... ok
Xlib:  extension "RANDR" missing on display ":4".
t/PangoAttributes.t ................ ok
t/PangoCairo.t ..................... ok
Xlib:  extension "RANDR" missing on display ":4".
t/PangoContext.t ................... ok
Xlib:  extension "RANDR" missing on display ":4".
t/PangoFont.t ...................... ok
Xlib:  extension "RANDR" missing on display ":4".
t/PangoFontMap.t ................... ok
Xlib:  extension "RANDR" missing on display ":4".
t/PangoFontset.t ................... ok
t/PangoGravity.t ................... ok
Xlib:  extension "RANDR" missing on display ":4".
t/PangoLayout.t .................... ok
t/PangoMatrix.t .................... ok
Xlib:  extension "RANDR" missing on display ":4".
t/PangoRenderer.t .................. ok
Xlib:  extension "RANDR" missing on display ":4".
t/PangoScript.t .................... ok
t/PangoTabs.t ...................... ok
t/PangoTypes.t ..................... ok
Xlib:  extension "RANDR" missing on display ":4".
t/set-scroll-adjustments-signal.t .. ok
Xlib:  extension "RANDR" missing on display ":4".
t/signal-chaining.t ................ ok
Xlib:  extension "RANDR" missing on display ":4".
t/tied-objects.t ................... ok
t/version-checks.t ................. ok
All tests successful.
Files=228, Tests=5065, 24 wallclock secs ( 0.62 usr  1.41 sys + 15.00 cusr  7.08 csys = 24.11 CPU)
Result: PASS

------------------------------
PREREQUISITES
------------------------------

Prerequisite modules loaded:

requires:

    Module              Need  Have  
    ------------------- ----- ------
    Cairo               1.000 1.107 
    ExtUtils::Depends   0.300 0.8000
    ExtUtils::PkgConfig 1.030 1.16  
    Glib                1.280 1.3291
    Pango               1.220 1.227 

build_requires:

    Module              Need  Have  
    ------------------- ----- ------
    ExtUtils::MakeMaker 0     6.66  

configure_requires:

    Module              Need  Have  
    ------------------- ----- ------
    Cairo               1.000 1.107 
    ExtUtils::Depends   0.300 0.8000
    ExtUtils::MakeMaker 0     6.66  
    ExtUtils::PkgConfig 1.030 1.16  
    Glib                1.280 1.3291
    Pango               1.220 1.227 


------------------------------
ENVIRONMENT AND OTHER CONTEXT
------------------------------

Environment variables:

    LANG = en_US.UTF-8
    PATH = /usr/local/bin:/usr/bin:/bin:/usr/local/sbin:/usr/sbin:/sbin:/home/cpansand/bin/linux-gnu:/home/cpansand/bin/sh:/home/cpansand/bin:/usr/games:/home/cpansand/devel:/home/eserte/src/srezic-misc/scripts
    PERL5LIB = /home/cpansand/.cpan/build/2019112407/Pango-1.227-4IUC6b/blib/arch:/home/cpansand/.cpan/build/2019112407/Pango-1.227-4IUC6b/blib/lib:/home/cpansand/.cpan/build/2019112407/Cairo-1.107-QkFR46/blib/arch:/home/cpansand/.cpan/build/2019112407/Cairo-1.107-QkFR46/blib/lib:/home/cpansand/.cpan/build/2019112407/Glib-Ex-ObjectBits-16-2fpr1o/blib/arch:/home/cpansand/.cpan/build/2019112407/Glib-Ex-ObjectBits-16-2fpr1o/blib/lib:/home/cpansand/.cpan/build/2019112407/Devel-GlobalDestruction-0.14-LMXjkd/blib/arch:/home/cpansand/.cpan/build/2019112407/Devel-GlobalDestruction-0.14-LMXjkd/blib/lib:/home/cpansand/.cpan/build/2019112407/Glib-1.3291-qE5J8L/blib/arch:/home/cpansand/.cpan/build/2019112407/Glib-1.3291-qE5J8L/blib/lib:/home/cpansand/.cpan/build/2019112407/ExtUtils-PkgConfig-1.16-F1FxAh/blib/arch:/home/cpansand/.cpan/build/2019112407/ExtUtils-PkgConfig-1.16-F1FxAh/blib/lib
    PERL5OPT = 
    PERL5_CPANPLUS_IS_RUNNING = 3480
    PERL5_CPAN_IS_RUNNING = 3480
    PERL5_CPAN_IS_RUNNING_IN_RECURSION = 3424,3480
    PERLDOC = -MPod::Perldoc::ToTextOverstrike
    PERL_BATCH = yes
    PERL_CANARY_STABILITY_NOPROMPT = 1
    PERL_CPAN_REPORTER_CONFIG = /var/tmp/cpansmoker-1023/2019112407/cpanreporter_000_config.ini
    PERL_EXTUTILS_AUTOINSTALL = --defaultdeps
    SHELL = /usr/bin/zsh
    TERM = screen
    TMPDIR = /var/tmp/cpansmoker-1023/2019112407

Perl special variables (and OS-specific diagnostics, for MSWin32):

    $^X = /opt/perl-5.18.4/bin/perl5.18.4
    $UID/$EUID = 1023 / 1023
    $GID = 1023 1023
    $EGID = 1023 1023

Perl module toolchain versions installed:

    Module              Have    
    ------------------- --------
    CPAN                2.00    
    CPAN::Meta          2.150010
    Cwd                 3.40    
    ExtUtils::CBuilder  0.280210
    ExtUtils::Command   1.17    
    ExtUtils::Install   1.59    
    ExtUtils::MakeMaker 6.66    
    ExtUtils::Manifest  1.63    
    ExtUtils::ParseXS   3.18    
    File::Spec          3.40    
    JSON                4.02    
    JSON::PP            4.04    
    Module::Build       0.4229  
    Module::Signature   n/a     
    Parse::CPAN::Meta   2.150010
    Test::Harness       3.42    
    Test::More          1.302164
    YAML                1.29    
    YAML::Syck          1.31    
    version             0.9902  


--

Summary of my perl5 (revision 5 version 18 subversion 4) configuration:
   
  Platform:
    osname=linux, osvers=4.4.0-157-generic, archname=x86_64-linux
    uname='linux ubuntu16 4.4.0-157-generic #185-ubuntu smp tue jul 23 09:17:01 utc 2019 x86_64 x86_64 x86_64 gnulinux '
    config_args='-ds -e -Dprefix=/opt/perl-5.18.4 -Dcf_email=srezic@cpan.org'
    hint=recommended, useposix=true, d_sigaction=define
    useithreads=undef, usemultiplicity=undef
    useperlio=define, d_sfio=undef, uselargefiles=define, usesocks=undef
    use64bitint=define, use64bitall=define, uselongdouble=undef
    usemymalloc=n, bincompat5005=undef
  Compiler:
    cc='cc', ccflags ='-fwrapv -fno-strict-aliasing -pipe -fstack-protector -I/usr/local/include -D_LARGEFILE_SOURCE -D_FILE_OFFSET_BITS=64',
    optimize='-O2',
    cppflags='-fwrapv -fno-strict-aliasing -pipe -fstack-protector -I/usr/local/include'
    ccversion='', gccversion='5.4.0 20160609', gccosandvers=''
    intsize=4, longsize=8, ptrsize=8, doublesize=8, byteorder=12345678
    d_longlong=define, longlongsize=8, d_longdbl=define, longdblsize=16
    ivtype='long', ivsize=8, nvtype='double', nvsize=8, Off_t='off_t', lseeksize=8
    alignbytes=8, prototype=define
  Linker and Libraries:
    ld='cc', ldflags =' -fstack-protector -L/usr/local/lib'
    libpth=/usr/local/lib /lib/x86_64-linux-gnu /lib/../lib /usr/lib/x86_64-linux-gnu /usr/lib/../lib /lib /usr/lib
    libs=-lnsl -ldb -ldl -lm -lcrypt -lutil -lc
    perllibs=-lnsl -ldl -lm -lcrypt -lutil -lc
    libc=libc-2.23.so, so=so, useshrplib=false, libperl=libperl.a
    gnulibc_version='2.23'
  Dynamic Linking:
    dlsrc=dl_dlopen.xs, dlext=so, d_dlsymun=undef, ccdlflags='-Wl,-E'
    cccdlflags='-fPIC', lddlflags='-shared -O2 -L/usr/local/lib -fstack-protector'


Characteristics of this binary (from libperl): 
  Compile-time options: HAS_TIMES PERLIO_LAYERS PERL_DONT_CREATE_GVSV
                        PERL_HASH_FUNC_ONE_AT_A_TIME_HARD PERL_MALLOC_WRAP
                        PERL_PRESERVE_IVUV PERL_SAWAMPERSAND USE_64_BIT_ALL
                        USE_64_BIT_INT USE_LARGE_FILES USE_LOCALE
                        USE_LOCALE_COLLATE USE_LOCALE_CTYPE
                        USE_LOCALE_NUMERIC USE_PERLIO USE_PERL_ATOF
  Locally applied patches:
	Devel::PatchPerl 1.64
  Built under linux
  Compiled at Aug  6 2019 18:40:30
  %ENV:
    PERL5LIB="/home/cpansand/.cpan/build/2019112407/Pango-1.227-4IUC6b/blib/arch:/home/cpansand/.cpan/build/2019112407/Pango-1.227-4IUC6b/blib/lib:/home/cpansand/.cpan/build/2019112407/Cairo-1.107-QkFR46/blib/arch:/home/cpansand/.cpan/build/2019112407/Cairo-1.107-QkFR46/blib/lib:/home/cpansand/.cpan/build/2019112407/Glib-Ex-ObjectBits-16-2fpr1o/blib/arch:/home/cpansand/.cpan/build/2019112407/Glib-Ex-ObjectBits-16-2fpr1o/blib/lib:/home/cpansand/.cpan/build/2019112407/Devel-GlobalDestruction-0.14-LMXjkd/blib/arch:/home/cpansand/.cpan/build/2019112407/Devel-GlobalDestruction-0.14-LMXjkd/blib/lib:/home/cpansand/.cpan/build/2019112407/Glib-1.3291-qE5J8L/blib/arch:/home/cpansand/.cpan/build/2019112407/Glib-1.3291-qE5J8L/blib/lib:/home/cpansand/.cpan/build/2019112407/ExtUtils-PkgConfig-1.16-F1FxAh/blib/arch:/home/cpansand/.cpan/build/2019112407/ExtUtils-PkgConfig-1.16-F1FxAh/blib/lib"
    PERL5OPT=""
    PERL5_CPANPLUS_IS_RUNNING="3480"
    PERL5_CPAN_IS_RUNNING="3480"
    PERL5_CPAN_IS_RUNNING_IN_RECURSION="3424,3480"
    PERLDOC="-MPod::Perldoc::ToTextOverstrike"
    PERL_BATCH="yes"
    PERL_CANARY_STABILITY_NOPROMPT="1"
    PERL_CPAN_REPORTER_CONFIG="/var/tmp/cpansmoker-1023/2019112407/cpanreporter_000_config.ini"
    PERL_EXTUTILS_AUTOINSTALL="--defaultdeps"
  @INC:
    /home/cpansand/.cpan/build/2019112407/Pango-1.227-4IUC6b/blib/arch
    /home/cpansand/.cpan/build/2019112407/Pango-1.227-4IUC6b/blib/lib
    /home/cpansand/.cpan/build/2019112407/Cairo-1.107-QkFR46/blib/arch
    /home/cpansand/.cpan/build/2019112407/Cairo-1.107-QkFR46/blib/lib
    /home/cpansand/.cpan/build/2019112407/Glib-Ex-ObjectBits-16-2fpr1o/blib/arch
    /home/cpansand/.cpan/build/2019112407/Glib-Ex-ObjectBits-16-2fpr1o/blib/lib
    /home/cpansand/.cpan/build/2019112407/Devel-GlobalDestruction-0.14-LMXjkd/blib/arch
    /home/cpansand/.cpan/build/2019112407/Devel-GlobalDestruction-0.14-LMXjkd/blib/lib
    /home/cpansand/.cpan/build/2019112407/Glib-1.3291-qE5J8L/blib/arch
    /home/cpansand/.cpan/build/2019112407/Glib-1.3291-qE5J8L/blib/lib
    /home/cpansand/.cpan/build/2019112407/ExtUtils-PkgConfig-1.16-F1FxAh/blib/arch
    /home/cpansand/.cpan/build/2019112407/ExtUtils-PkgConfig-1.16-F1FxAh/blib/lib
    /opt/perl-5.18.4/lib/site_perl/5.18.4/x86_64-linux
    /opt/perl-5.18.4/lib/site_perl/5.18.4
    /opt/perl-5.18.4/lib/5.18.4/x86_64-linux
    /opt/perl-5.18.4/lib/5.18.4
    .