HTML-FormatExternal v26 Perl 5 v5.10.1 i386-freebsd-thread-multi

Status
Pass
From
Chris Williams (BINGOS)
Dist
HTML-FormatExternal v26
Platform
Perl 5 v5.10.1 i386-freebsd-thread-multi
Date
2019-07-17 06:28:17
ID
10341ef8-a85c-11e9-9ccb-b1ae95f66eb9
This distribution has been tested as part of the CPAN Testers
project, supporting the Perl programming language.  See
http://wiki.cpantesters.org/ for more information or email
questions to cpan-testers-discuss@perl.org


--

Dear Kevin Ryde,

This is a computer-generated error report created automatically by
CPANPLUS, version 0.9178. Testers personal comments may appear
at the end of this report.


Thank you for uploading your work to CPAN.  Congratulations!
All tests were successful.

TEST RESULTS:

Below is the error stack from stage 'make test':

PERL_DL_NONLAZY=1 "/usr/home/cpan/pit/thr/perl-5.10.1/bin/perl" "-MExtUtils::Command::MM" "-MTest::Harness" "-e" "undef *Test::Harness::Switches; test_harness(0, 'blib/lib', 'blib/arch')" t/*.t
t/Elinks.t .......... ok
# HTML::FormatText::Elinks
# HTML::FormatText::Elinks program_full_version $VAR1 = undef;
# HTML::FormatText::Elinks program_version $VAR1 = undef;
# HTML::FormatText::Html2text
# HTML::FormatText::Html2text program_full_version $VAR1 = undef;
# HTML::FormatText::Html2text program_version $VAR1 = undef;
# HTML::FormatText::Html2text _have_ascii() no
# HTML::FormatText::Links
# HTML::FormatText::Links program_full_version $VAR1 = 'Links 2.16
# ';
# HTML::FormatText::Links program_version $VAR1 = '2.16';
# HTML::FormatText::Links _have_html_margin() yes
# $output = "123 567 9012\nabc def ghij\n";
# Colon character is ordinary in filenames: 0
# Temporary directory /tmp/RiRsIn3IbX
# HTML::FormatText::Lynx
# HTML::FormatText::Lynx program_full_version $VAR1 = 'Lynx Version 2.8.9rel.1 (08 Jul 2018)
# libwww-FM 2.14, SSL-MM 1.4.1, OpenSSL 1.0.2s-freebsd, ncurses 5.9.20140222(wide)
# Built on freebsd11.2 (Apr  8 2019 14:11:04).
# 
# Copyrights held by the Lynx Developers Group,
# the University of Kansas, CERN, and other contributors.
# Distributed under the GNU General Public License (Version 2).
# See https://lynx.invisible-island.net/ and the online help for more information.
# 
# See http://www.openssl.org/ for information about OpenSSL.
# ';
# HTML::FormatText::Lynx program_version $VAR1 = '2.8.9rel.1';
# HTML::FormatText::Lynx _have_nomargins() yes
# $output = "123 567 9012\nabc def ghij\n";
# Colon character is ordinary in filenames: 0
# Temporary directory /tmp/sd6ZYvNgsf
# HTML::FormatText::Netrik
# HTML::FormatText::Netrik program_full_version $VAR1 = undef;
# HTML::FormatText::Netrik program_version $VAR1 = undef;
# HTML::FormatText::W3m
# HTML::FormatText::W3m program_full_version $VAR1 = 'w3m version w3m/0.5.3+git20190421, options lang=en,m17n,color,ansi-color,mouse,sysmouse,menu,cookie,ssl,ssl-verify,external-uri-loader,w3mmailer,nntp,ipv6,alarm,mark
# ';
# HTML::FormatText::W3m program_version $VAR1 = '0.5.3+git20190421';
# $output = "123 567 9012\nabc def ghij\n";
# Colon character is ordinary in filenames: 0
# Temporary directory /tmp/ZHM_0sV4Cl
# HTML::FormatText::Zen
# HTML::FormatText::Zen program_full_version $VAR1 = undef;
# HTML::FormatText::Zen program_version $VAR1 = undef;
t/FormatExternal.t .. ok
t/Links.t ........... ok
# HTML::FormatText::W3m
t/taint.t ........... skipped: due to Taint::Util not available
# HTML::FormatText::W3m
t/wide.t ............ ok
All tests successful.
Files=5, Tests=316,  4 wallclock secs ( 0.07 usr  0.01 sys +  1.01 cusr  0.43 csys =  1.52 CPU)
Result: PASS


PREREQUISITES:

Here is a list of prerequisites you specified and versions we
managed to load:

	  Module Name                        Have     Want
	  ExtUtils::MakeMaker                7.36        0
	  File::Spec                         3.75      0.8
	  File::Temp                       0.2309     0.18
	  IPC::Run                       20180523.0        0
	  Test::More                     1.302164        0
	  URI::file                          4.21     0.08
	  constant::defer                       6        0

Perl module toolchain versions installed:
	Module Name                        Have
	CPANPLUS                         0.9178
	CPANPLUS::Dist::Build              0.90
	Cwd                                3.75
	ExtUtils::CBuilder             0.280231
	ExtUtils::Command                  7.36
	ExtUtils::Install                  2.14
	ExtUtils::MakeMaker                7.36
	ExtUtils::Manifest                 1.72
	ExtUtils::ParseXS                  3.35
	File::Spec                         3.75
	Module::Build                    0.4229
	Pod::Parser                        1.37
	Pod::Simple                        3.07
	Test2                          1.302164
	Test::Harness                      3.42
	Test::More                     1.302164
	version                          0.9924

******************************** NOTE ********************************
The comments above are created mechanically, possibly without manual
checking by the sender.  As there are many people performing automatic
tests on each upload to CPAN, it is likely that you will receive
identical messages about the same problem.

If you believe that the message is mistaken, please reply to the first
one with correction and/or additional informations, and do not take
it personally.  We appreciate your patience. :)
**********************************************************************

Additional comments:


This report was machine-generated by CPANPLUS::Dist::YACSmoke 1.08.
Powered by minismokebox version 0.68

CPANPLUS is prefering Build.PL

------------------------------
ENVIRONMENT AND OTHER CONTEXT
------------------------------

Environment variables:

    AUTOMATED_TESTING = 1
    NONINTERACTIVE_TESTING = 1
    PATH = /sbin:/bin:/usr/sbin:/usr/bin:/usr/local/sbin:/usr/local/bin:/home/cpan/bin
    PERL5LIB = /usr/home/cpan/pit/jail/SAGGq28gnr/lib/perl5:/usr/home/cpan/pit/thr/conf/perl-5.10.1/.cpanplus/5.10.1/build/tURrG78A35/HTML-FormatExternal-26/blib/lib:/usr/home/cpan/pit/thr/conf/perl-5.10.1/.cpanplus/5.10.1/build/tURrG78A35/HTML-FormatExternal-26/blib/arch
    PERL5_CPANPLUS_IS_RUNNING = 23611
    PERL5_CPANPLUS_IS_VERSION = 0.9178
    PERL5_MINISMOKEBOX = 0.68
    PERL5_YACSMOKE_BASE = /usr/home/cpan/pit/thr/conf/perl-5.10.1
    PERL_EXTUTILS_AUTOINSTALL = --defaultdeps
    PERL_LOCAL_LIB_ROOT = /usr/home/cpan/pit/jail/SAGGq28gnr
    PERL_MB_OPT = --install_base "/usr/home/cpan/pit/jail/SAGGq28gnr"
    PERL_MM_OPT = INSTALL_BASE=/usr/home/cpan/pit/jail/SAGGq28gnr
    PERL_MM_USE_DEFAULT = 1
    PERL_USE_UNSAFE_INC = 1
    SHELL = /usr/local/bin/bash
    TERM = screen

Perl special variables (and OS-specific diagnostics, for MSWin32):

    Perl: $^X = /usr/home/cpan/pit/thr/perl-5.10.1/bin/perl
    UID:  $<  = 1002
    EUID: $>  = 1002
    GID:  $(  = 1002 1002
    EGID: $)  = 1002 1002


-------------------------------


--

Summary of my perl5 (revision 5 version 10 subversion 1) configuration:
   
  Platform:
    osname=freebsd, osvers=11.3-release, archname=i386-freebsd-thread-multi
    uname='freebsd froggle 11.3-release freebsd 11.3-release #0 r349754: fri jul 5 04:31:33 utc 2019 root@releng2.nyi.freebsd.org:usrobjusrsrcsysgeneric i386 '
    config_args='-des -Dprefix=/usr/home/cpan/pit/thr/perl-5.10.1 -Dusethreads'
    hint=recommended, useposix=true, d_sigaction=define
    useithreads=define, usemultiplicity=define
    useperlio=define, d_sfio=undef, uselargefiles=define, usesocks=undef
    use64bitint=undef, use64bitall=undef, uselongdouble=undef
    usemymalloc=n, bincompat5005=undef
  Compiler:
    cc='cc', ccflags ='-DHAS_FPSETMASK -DHAS_FLOATINGPOINT_H -fno-strict-aliasing -pipe -fstack-protector -I/usr/local/include',
    optimize='-O2',
    cppflags='-DHAS_FPSETMASK -DHAS_FLOATINGPOINT_H -fno-strict-aliasing -pipe -fstack-protector -I/usr/local/include'
    ccversion='', gccversion='4.2.1 Compatible FreeBSD Clang 8.0.0 (tags/RELEASE_800/final 356365)', gccosandvers=''
    intsize=4, longsize=4, ptrsize=4, doublesize=8, byteorder=1234
    d_longlong=define, longlongsize=8, d_longdbl=define, longdblsize=12
    ivtype='long', ivsize=4, nvtype='double', nvsize=8, Off_t='off_t', lseeksize=8
    alignbytes=4, prototype=define
  Linker and Libraries:
    ld='cc', ldflags ='-pthread -Wl,-E  -fstack-protector -L/usr/local/lib'
    libpth=/usr/lib /usr/local/lib
    libs=-lgdbm -ldl -lm -lcrypt -lutil
    perllibs=-ldl -lm -lcrypt -lutil
    libc=, so=so, useshrplib=false, libperl=libperl.a
    gnulibc_version=''
  Dynamic Linking:
    dlsrc=dl_dlopen.xs, dlext=so, d_dlsymun=undef, ccdlflags=' '
    cccdlflags='-DPIC -fPIC', lddlflags='-shared  -L/usr/local/lib -fstack-protector'


Characteristics of this binary (from libperl): 
  Compile-time options: MULTIPLICITY PERL_DONT_CREATE_GVSV
                        PERL_IMPLICIT_CONTEXT PERL_MALLOC_WRAP USE_ITHREADS
                        USE_LARGE_FILES USE_PERLIO USE_REENTRANT_API
  Locally applied patches:
	Devel::PatchPerl 1.64
  Built under freebsd
  Compiled at Jul 13 2019 23:01:10
  %ENV:
    PERL5LIB="/usr/home/cpan/pit/jail/SAGGq28gnr/lib/perl5:/usr/home/cpan/pit/thr/conf/perl-5.10.1/.cpanplus/5.10.1/build/tURrG78A35/HTML-FormatExternal-26/blib/lib:/usr/home/cpan/pit/thr/conf/perl-5.10.1/.cpanplus/5.10.1/build/tURrG78A35/HTML-FormatExternal-26/blib/arch"
    PERL5_CPANPLUS_IS_RUNNING="23611"
    PERL5_CPANPLUS_IS_VERSION="0.9178"
    PERL5_MINISMOKEBOX="0.68"
    PERL5_YACSMOKE_BASE="/usr/home/cpan/pit/thr/conf/perl-5.10.1"
    PERL_EXTUTILS_AUTOINSTALL="--defaultdeps"
    PERL_LOCAL_LIB_ROOT="/usr/home/cpan/pit/jail/SAGGq28gnr"
    PERL_MB_OPT="--install_base "/usr/home/cpan/pit/jail/SAGGq28gnr""
    PERL_MM_OPT="INSTALL_BASE=/usr/home/cpan/pit/jail/SAGGq28gnr"
    PERL_MM_USE_DEFAULT="1"
    PERL_USE_UNSAFE_INC="1"
  @INC:
    /usr/home/cpan/pit/jail/SAGGq28gnr/lib/perl5/5.10.1/i386-freebsd-thread-multi
    /usr/home/cpan/pit/jail/SAGGq28gnr/lib/perl5/5.10.1
    /usr/home/cpan/pit/jail/SAGGq28gnr/lib/perl5/i386-freebsd-thread-multi
    /usr/home/cpan/pit/jail/SAGGq28gnr/lib/perl5
    /usr/home/cpan/pit/thr/conf/perl-5.10.1/.cpanplus/5.10.1/build/tURrG78A35/HTML-FormatExternal-26/blib/lib
    /usr/home/cpan/pit/thr/conf/perl-5.10.1/.cpanplus/5.10.1/build/tURrG78A35/HTML-FormatExternal-26/blib/arch
    /usr/home/cpan/pit/thr/perl-5.10.1/lib/5.10.1/i386-freebsd-thread-multi
    /usr/home/cpan/pit/thr/perl-5.10.1/lib/5.10.1
    /usr/home/cpan/pit/thr/perl-5.10.1/lib/site_perl/5.10.1/i386-freebsd-thread-multi
    /usr/home/cpan/pit/thr/perl-5.10.1/lib/site_perl/5.10.1
    .