Back
From: metabase:user:d1ac2ff8-7f34-11e0-ad7d-d635d302c8a1
Subject: PASS MozRepl-0.06 v5.14.0 OpenBSD
Date: 2011-05-17T20:41:38Z
This distribution has been tested as part of the CPAN Testers
project, supporting the Perl programming language. See
http://wiki.cpantesters.org/ for more information or email
questions to cpan-testers-discuss@perl.org
--
Dear Toru Yamaguchi,
This is a computer-generated report for MozRepl-0.06
on perl 5.14.0, created by CPAN-Reporter-1.1902.
Thank you for uploading your work to CPAN. Congratulations!
All tests were successful.
Sections of this report:
* Tester comments
* Program output
* Prerequisites
* Environment and other context
------------------------------
TESTER COMMENTS
------------------------------
Additional comments from tester:
this report is from an automated smoke testing program
and was not reviewed by a human for accuracy
------------------------------
PROGRAM OUTPUT
------------------------------
Output from '/usr/bin/make test':
/home/lonesome/perl5/perlbrew/perls/perl-5.14.0/bin/perl "-Iinc" Makefile.PL --config= --installdeps=Data::JavaScript::Anon,0,Module::Pluggable::Fast,0,Net::Telnet,0,Template::Provider::FromDATA,0
PERL_DL_NONLAZY=1 /home/lonesome/perl5/perlbrew/perls/perl-5.14.0/bin/perl "-MExtUtils::Command::MM" "-e" "test_harness(0, 'inc', 'blib/lib', 'blib/arch')" t/00-load.t t/10-plugin-repl-enter.t t/11-plugin-repl-search.t t/12-plugin-repl-inspect.t t/13-plugin-repl-load.t t/14-plugin-repl-rename.t t/15-plugin-repl-print.t t/16-plugin-repl-home.t t/17-plugin-repl-back.t t/18-plugin-repl-util-help_url_for.t t/19-plugin-repl-util-doc_for.t t/20-plugin-json.t t/pod-coverage.t t/pod.t
# Testing MozRepl 0.06
t/00-load.t ........................... ok
[DEBUG] MozRepl logging enabled
[DEBUG]
---- Client arguments ----
.----------------------+------------------------------------------.
| client_arg_name | client_arg_value |
+----------------------+------------------------------------------+
| host | localhost |
| port | 4242 |
| timeout | 10 |
| extra_client_args | {} |
'----------------------+------------------------------------------'
t/10-plugin-repl-enter.t .............. ok
[DEBUG] MozRepl logging enabled
[DEBUG]
---- Client arguments ----
.----------------------+------------------------------------------.
| client_arg_name | client_arg_value |
+----------------------+------------------------------------------+
| host | localhost |
| port | 4242 |
| timeout | 10 |
| extra_client_args | {} |
'----------------------+------------------------------------------'
t/11-plugin-repl-search.t ............. ok
[DEBUG] MozRepl logging enabled
[DEBUG]
---- Client arguments ----
.----------------------+------------------------------------------.
| client_arg_name | client_arg_value |
+----------------------+------------------------------------------+
| host | localhost |
| port | 4242 |
| timeout | 10 |
| extra_client_args | {} |
'----------------------+------------------------------------------'
t/12-plugin-repl-inspect.t ............ ok
[DEBUG] MozRepl logging enabled
[DEBUG]
---- Client arguments ----
.----------------------+------------------------------------------.
| client_arg_name | client_arg_value |
+----------------------+------------------------------------------+
| host | localhost |
| port | 4242 |
| timeout | 10 |
| extra_client_args | {} |
'----------------------+------------------------------------------'
t/13-plugin-repl-load.t ............... ok
[DEBUG] MozRepl logging enabled
[DEBUG]
---- Client arguments ----
.----------------------+------------------------------------------.
| client_arg_name | client_arg_value |
+----------------------+------------------------------------------+
| host | localhost |
| port | 4242 |
| timeout | 10 |
| extra_client_args | {} |
'----------------------+------------------------------------------'
t/14-plugin-repl-rename.t ............. ok
[DEBUG] MozRepl logging enabled
[DEBUG]
---- Client arguments ----
.----------------------+------------------------------------------.
| client_arg_name | client_arg_value |
+----------------------+------------------------------------------+
| host | localhost |
| port | 4242 |
| timeout | 10 |
| extra_client_args | {} |
'----------------------+------------------------------------------'
t/15-plugin-repl-print.t .............. ok
[DEBUG] MozRepl logging enabled
[DEBUG]
---- Client arguments ----
.----------------------+------------------------------------------.
| client_arg_name | client_arg_value |
+----------------------+------------------------------------------+
| host | localhost |
| port | 4242 |
| timeout | 10 |
| extra_client_args | {} |
'----------------------+------------------------------------------'
t/16-plugin-repl-home.t ............... ok
[DEBUG] MozRepl logging enabled
[DEBUG]
---- Client arguments ----
.----------------------+------------------------------------------.
| client_arg_name | client_arg_value |
+----------------------+------------------------------------------+
| host | localhost |
| port | 4242 |
| timeout | 10 |
| extra_client_args | {} |
'----------------------+------------------------------------------'
t/17-plugin-repl-back.t ............... ok
[DEBUG] MozRepl logging enabled
[DEBUG]
---- Client arguments ----
.----------------------+------------------------------------------.
| client_arg_name | client_arg_value |
+----------------------+------------------------------------------+
| host | localhost |
| port | 4242 |
| timeout | 10 |
| extra_client_args | {} |
'----------------------+------------------------------------------'
t/18-plugin-repl-util-help_url_for.t .. ok
[DEBUG] MozRepl logging enabled
[DEBUG]
---- Client arguments ----
.----------------------+------------------------------------------.
| client_arg_name | client_arg_value |
+----------------------+------------------------------------------+
| host | localhost |
| port | 4242 |
| timeout | 10 |
| extra_client_args | {} |
'----------------------+------------------------------------------'
t/19-plugin-repl-util-doc_for.t ....... ok
[DEBUG] MozRepl logging enabled
[DEBUG]
---- Client arguments ----
.----------------------+------------------------------------------.
| client_arg_name | client_arg_value |
+----------------------+------------------------------------------+
| host | localhost |
| port | 4242 |
| timeout | 10 |
| extra_client_args | {} |
'----------------------+------------------------------------------'
t/20-plugin-json.t .................... ok
t/pod-coverage.t ...................... ok
t/pod.t ............................... ok
All tests successful.
Files=14, Tests=74, 2 wallclock secs ( 0.04 usr 0.08 sys + 1.05 cusr 0.33 csys = 1.50 CPU)
Result: PASS
------------------------------
PREREQUISITES
------------------------------
Prerequisite modules loaded:
requires:
Module Need Have
---------------------------- ---- -------
Carp::Clan 0 6.04
Class::Accessor::Fast 0 0.34
Class::Data::Inheritable 0 0.08
Data::Dump 0 1.19
Data::JavaScript::Anon 0 1.03
File::Spec 0 3.33
Module::Pluggable::Fast 0 0.19
Net::Telnet 0 3.03
Template 0 2.22
Template::Provider::FromDATA 0 0.11
Text::SimpleTable 0 2.03
UNIVERSAL::require 0 0.13
URI 0 1.58
build_requires:
Module Need Have
---------------------------- ---- -------
ExtUtils::MakeMaker 0 6.57_05
------------------------------
ENVIRONMENT AND OTHER CONTEXT
------------------------------
Environment variables:
AUTOMATED_TESTING = 1
PATH = /home/lonesome/bin:/bin:/sbin:/usr/bin:/usr/sbin:/usr/X11R6/bin:/usr/local/bin:/usr/local/sbin:/usr/games:.
PERL5LIB =
PERL5OPT =
PERL5_CPANPLUS_IS_RUNNING = 10074
PERL5_CPAN_IS_RUNNING = 10074
PERL5_CPAN_IS_RUNNING_IN_RECURSION = 20268,10074
PERL_CR_SMOKER_CURRENT = WWW-Mechanize-Firefox-0.52
PERL_EXTUTILS_AUTOINSTALL = --defaultdeps
PERL_MM_USE_DEFAULT = 1
SHELL = /usr/local/bin/bash
TERM = screen
Perl special variables (and OS-specific diagnostics, for MSWin32):
$^X = /home/lonesome/perl5/perlbrew/perls/perl-5.14.0/bin/perl
$UID/$EUID = 1000 / 1000
$GID = 1000 1000 0
$EGID = 1000 1000 0
Perl module toolchain versions installed:
Module Have
------------------- --------
CPAN 1.9600
Cwd 3.36
ExtUtils::CBuilder 0.280203
ExtUtils::Command 1.17
ExtUtils::Install 1.56
ExtUtils::MakeMaker 6.57_05
ExtUtils::Manifest 1.58
ExtUtils::ParseXS 2.2210
File::Spec 3.33
Module::Build 0.3800
Module::Signature n/a
Test::Harness 3.23
Test::More 0.98
YAML 0.73
YAML::Syck 1.17
version 0.88
--
Summary of my perl5 (revision 5 version 14 subversion 0) configuration:
Platform:
osname=openbsd, osvers=4.9, archname=OpenBSD.amd64-openbsd
uname='openbsd openbsd-49.lan 4.9 generic#477 amd64 '
config_args='-de -Dprefix=/home/lonesome/perl5/perlbrew/perls/perl-5.14.0'
hint=recommended, useposix=true, d_sigaction=define
useithreads=undef, usemultiplicity=undef
useperlio=define, d_sfio=undef, uselargefiles=define, usesocks=undef
use64bitint=define, use64bitall=define, uselongdouble=undef
usemymalloc=y, bincompat5005=undef
Compiler:
cc='cc', ccflags ='-fno-strict-aliasing -pipe -fstack-protector -I/usr/local/include',
optimize='-O2',
cppflags='-fno-strict-aliasing -pipe -fstack-protector -I/usr/local/include'
ccversion='', gccversion='4.2.1 20070719 ', gccosandvers='openbsd4.9'
intsize=4, longsize=8, ptrsize=8, doublesize=8, byteorder=12345678
d_longlong=define, longlongsize=8, d_longdbl=define, longdblsize=16
ivtype='long', ivsize=8, nvtype='double', nvsize=8, Off_t='off_t', lseeksize=8
alignbytes=8, prototype=define
Linker and Libraries:
ld='cc', ldflags ='-Wl,-E -fstack-protector -L/usr/local/lib'
libpth=/usr/local/lib /usr/lib
libs=-lm -lutil -lc
perllibs=-lm -lutil -lc
libc=/usr/lib/libc.so.58.0, so=so, useshrplib=false, libperl=libperl.a
gnulibc_version=''
Dynamic Linking:
dlsrc=dl_dlopen.xs, dlext=so, d_dlsymun=undef, ccdlflags=' '
cccdlflags='-DPIC -fPIC ', lddlflags='-shared -fPIC -L/usr/local/lib -fstack-protector'
Characteristics of this binary (from libperl):
Compile-time options: MYMALLOC PERL_DONT_CREATE_GVSV PERL_MALLOC_WRAP
PERL_PRESERVE_IVUV USE_64_BIT_ALL USE_64_BIT_INT
USE_LARGE_FILES USE_PERLIO USE_PERL_ATOF
Built under openbsd
Compiled at May 17 2011 14:49:10
%ENV:
PERL5LIB=""
PERL5OPT=""
PERL5_CPANPLUS_IS_RUNNING="10074"
PERL5_CPAN_IS_RUNNING="10074"
PERL5_CPAN_IS_RUNNING_IN_RECURSION="20268,10074"
PERL_CR_SMOKER_CURRENT="WWW-Mechanize-Firefox-0.52"
PERL_EXTUTILS_AUTOINSTALL="--defaultdeps"
PERL_MM_USE_DEFAULT="1"
@INC:
/home/lonesome/perl5/perlbrew/perls/perl-5.14.0/lib/site_perl/5.14.0/OpenBSD.amd64-openbsd
/home/lonesome/perl5/perlbrew/perls/perl-5.14.0/lib/site_perl/5.14.0
/home/lonesome/perl5/perlbrew/perls/perl-5.14.0/lib/5.14.0/OpenBSD.amd64-openbsd
/home/lonesome/perl5/perlbrew/perls/perl-5.14.0/lib/5.14.0
.