Back
From: metabase:user:a0e144f2-373b-11e6-8edd-c6848980b093
Subject: PASS Swagger2-0.80 v5.25.0 GNU/Linux
Date: 2016-07-02T20:53:43Z
This distribution has been tested as part of the CPAN Testers
project, supporting the Perl programming language. See
http://wiki.cpantesters.org/ for more information or email
questions to cpan-testers-discuss@perl.org
--
Dear Jan Henning Thorsen,
This is a computer-generated report for Swagger2-0.80
on perl 5.25.0, created by CPAN-Reporter-1.2018.
Thank you for uploading your work to CPAN. Congratulations!
All tests were successful.
Sections of this report:
* Tester comments
* Program output
* Prerequisites
* Environment and other context
------------------------------
TESTER COMMENTS
------------------------------
Additional comments from tester:
none provided
------------------------------
PROGRAM OUTPUT
------------------------------
Output from '/usr/bin/make test':
PERL_DL_NONLAZY=1 "/usr/bin/perl5.25.0" "-MExtUtils::Command::MM" "-MTest::Harness" "-e" "undef *Test::Harness::Switches; test_harness(0, 'blib/lib', 'blib/arch')" t/*.t
t/00-basic.t .......................... ok
t/00-copy.t ........................... skipped: Author test
t/around-action.t ..................... ok
t/authenticate.t ...................... ok
t/blog.t .............................. skipped: BLOG_PG_URL=postgresql://postgres@/test
t/bodytest.t .......................... ok
t/boolean-in-url.t .................... ok
t/client-return-on-error.t ............ ok
t/client-with-swagger.t ............... ok
t/client.t ............................ ok
t/collection-format.t ................. ok
t/command-client.t .................... ok
t/discriminator.t ..................... ok
t/editor.t ............................ ok
t/emtpy-response.t .................... ok
t/ensure-swagger-response.t ........... ok
t/example-json-patch.t ................ skipped: TEST_ONLINE=1
t/example-lowercase-request-params.t .. ok
t/expand-yaml.t ....................... ok
t/expand.t ............................ ok
t/file.t .............................. ok
t/formdata.t .......................... ok
t/headers.t ........................... ok
t/ip-in-url.t ......................... ok
Format rule for 'unknown' is missing at /home/dcollins/toolchain/local/lib/perl5/site_perl/5.25.0/JSON/Validator.pm line 370, <DATA> line 2231.
t/jv-formats.t ........................ ok
t/multi-param.t ....................... ok
t/not-implemented-501.t ............... ok
t/nullable.t .......................... ok
t/operation-id.t ...................... ok
t/order-pathobjects-lengthwise.t ...... ok
t/parse-json.t ........................ ok
t/plugin-defaults.t ................... ok
# YAML::XS 0.62
# YAML::Syck 1.29
t/plugin-yaml.t ....................... ok
t/plugin.t ............................ ok
t/pod-as-string.t ..................... ok
t/read-only-property.t ................ ok
t/stash-defaults.t .................... ok
t/swagger.t ........................... ok
t/validate-json-schema.t .............. ok
t/validate.t .......................... ok
t/websocket.t ......................... ok
All tests successful.
Test Summary Report
-------------------
t/jv-formats.t (Wstat: 0 Tests: 23 Failed: 0)
TODO passed: 7, 10-11
Files=41, Tests=554, 38 wallclock secs ( 0.14 usr 0.04 sys + 33.60 cusr 1.36 csys = 35.14 CPU)
Result: PASS
------------------------------
PREREQUISITES
------------------------------
Prerequisite modules loaded:
requires:
Module Need Have
------------------- ----- --------
JSON::Validator 0.71 0.72
Mojolicious 6.00 6.66
build_requires:
Module Need Have
------------------- ----- --------
Test::More 0.88 1.302035
Test::Warnings 0.016 0.026
configure_requires:
Module Need Have
------------------- ----- --------
ExtUtils::MakeMaker 0 7.10_01
------------------------------
ENVIRONMENT AND OTHER CONTEXT
------------------------------
Environment variables:
LANG = en_US.UTF-8
PATH = /usr/local/bin:/usr/bin:/bin:/usr/local/games:/usr/games
PERL5LIB = /home/dcollins/toolchain/.afl1/.cpan/build/Mojolicious-6.66-9_gqhS/blib/arch:/home/dcollins/toolchain/.afl1/.cpan/build/Mojolicious-6.66-9_gqhS/blib/lib
PERL5OPT =
PERL5_CPANPLUS_IS_RUNNING = 43336
PERL5_CPAN_IS_RUNNING = 43336
SHELL = /bin/bash
TERM = screen
Perl special variables (and OS-specific diagnostics, for MSWin32):
$^X = /usr/bin/perl5.25.0
$UID/$EUID = 1001 / 1001
$GID = 1005 1005
$EGID = 1005 1005
Perl module toolchain versions installed:
Module Have
------------------- --------
CPAN 2.11
CPAN::Meta 2.150005
Cwd 3.63
ExtUtils::CBuilder 0.280225
ExtUtils::Command 7.10
ExtUtils::Install 2.04
ExtUtils::MakeMaker 7.10_01
ExtUtils::Manifest 1.70
ExtUtils::ParseXS 3.31
File::Spec 3.63
JSON 2.90
JSON::PP 2.27300
Module::Build 0.4218
Module::Signature n/a
Parse::CPAN::Meta 1.4417
Test::Harness 3.36
Test::More 1.302035
YAML 1.15
YAML::Syck 1.29
version 0.9916
--
Summary of my perl5 (revision 5 version 25 subversion 0) configuration:
Commit id: 2c5484a6fb758fd9bd9f56d504186972d12dd338
Platform:
osname=linux, osvers=4.6.0-1-amd64, archname=x86_64-linux-thread-multi-quadmath
uname='linux nightshade64 4.6.0-1-amd64 #1 smp debian 4.6.1-1 (2016-06-06) x86_64 gnulinux '
config_args='-Dusedevel -Dprefix=/usr -Dcc=ccache gcc-6 -Duse64bitall -Doptimize=-O3 -Dversiononly -Uman1dir -Uman3dir -Dsiteprefix=/home/dcollins/toolchain/local -DDEBUGGING -Uuselongdouble -Dusequadmath -Dusethreads -Dusemultiplicity -des'
hint=recommended, useposix=true, d_sigaction=define
useithreads=define, usemultiplicity=define
use64bitint=define, use64bitall=define, uselongdouble=undef
usemymalloc=n, bincompat5005=undef
Compiler:
cc='ccache gcc-6', ccflags ='-D_REENTRANT -D_GNU_SOURCE -fwrapv -DDEBUGGING -fno-strict-aliasing -pipe -fstack-protector-strong -I/usr/local/include -D_LARGEFILE_SOURCE -D_FILE_OFFSET_BITS=64',
optimize='-O3 -g',
cppflags='-D_REENTRANT -D_GNU_SOURCE -fwrapv -DDEBUGGING -fno-strict-aliasing -pipe -fstack-protector-strong -I/usr/local/include'
ccversion='', gccversion='6.1.1 20160519', gccosandvers=''
intsize=4, longsize=8, ptrsize=8, doublesize=8, byteorder=12345678, doublekind=3
d_longlong=define, longlongsize=8, d_longdbl=define, longdblsize=16, longdblkind=3
ivtype='long', ivsize=8, nvtype='__float128', nvsize=16, Off_t='off_t', lseeksize=8
alignbytes=16, prototype=define
Linker and Libraries:
ld='ccache gcc-6', ldflags =' -fstack-protector-strong -L/usr/local/lib'
libpth=/usr/local/lib /usr/lib/gcc/x86_64-linux-gnu/6/include-fixed /usr/include/x86_64-linux-gnu /usr/lib /lib/x86_64-linux-gnu /lib/../lib /usr/lib/x86_64-linux-gnu /usr/lib/../lib /lib
libs=-lpthread -lnsl -ldl -lm -lcrypt -lutil -lc -lquadmath
perllibs=-lpthread -lnsl -ldl -lm -lcrypt -lutil -lc -lquadmath
libc=libc-2.22.so, so=so, useshrplib=false, libperl=libperl.a
gnulibc_version='2.22'
Dynamic Linking:
dlsrc=dl_dlopen.xs, dlext=so, d_dlsymun=undef, ccdlflags='-Wl,-E'
cccdlflags='-fPIC', lddlflags='-shared -O3 -g -L/usr/local/lib -fstack-protector-strong'
Characteristics of this binary (from libperl):
Compile-time options: DEBUGGING HAS_TIMES MULTIPLICITY PERLIO_LAYERS
PERL_COPY_ON_WRITE PERL_DONT_CREATE_GVSV
PERL_HASH_FUNC_ONE_AT_A_TIME_HARD
PERL_IMPLICIT_CONTEXT PERL_MALLOC_WRAP
PERL_PRESERVE_IVUV PERL_TRACK_MEMPOOL PERL_USE_DEVEL
USE_64_BIT_ALL USE_64_BIT_INT USE_ITHREADS
USE_LARGE_FILES USE_LOCALE USE_LOCALE_COLLATE
USE_LOCALE_CTYPE USE_LOCALE_NUMERIC USE_LOCALE_TIME
USE_PERLIO USE_PERL_ATOF USE_QUADMATH
USE_REENTRANT_API
Built under linux
Compiled at Jan 1 1970 00:00:00
%ENV:
PERL5LIB="/home/dcollins/toolchain/.afl1/.cpan/build/Mojolicious-6.66-9_gqhS/blib/arch:/home/dcollins/toolchain/.afl1/.cpan/build/Mojolicious-6.66-9_gqhS/blib/lib"
PERL5OPT=""
PERL5_CPANPLUS_IS_RUNNING="43336"
PERL5_CPAN_IS_RUNNING="43336"
@INC:
/home/dcollins/toolchain/.afl1/.cpan/build/Mojolicious-6.66-9_gqhS/blib/arch
/home/dcollins/toolchain/.afl1/.cpan/build/Mojolicious-6.66-9_gqhS/blib/lib
/home/dcollins/toolchain/local/lib/perl5/site_perl/5.25.0/x86_64-linux-thread-multi-quadmath
/home/dcollins/toolchain/local/lib/perl5/site_perl/5.25.0
/usr/lib/perl5/5.25.0/x86_64-linux-thread-multi-quadmath
/usr/lib/perl5/5.25.0
.