Back
From: metabase:user:30f4dfbe-2aae-11df-837a-5e0a49663a4f
Subject: PASS Test-Pod-LinkCheck-0.008 v5.12.5 Mac OS X
Date: 2015-04-07T17:39:37Z
This distribution has been tested as part of the CPAN Testers
project, supporting the Perl programming language. See
http://wiki.cpantesters.org/ for more information or email
questions to cpan-testers-discuss@perl.org
--
Dear Apocalypse,
This is a computer-generated report for Test-Pod-LinkCheck-0.008
on perl 5.12.5, created by CPAN-Reporter-1.2011.
Thank you for uploading your work to CPAN. Congratulations!
All tests were successful.
Sections of this report:
* Tester comments
* Program output
* Prerequisites
* Environment and other context
------------------------------
TESTER COMMENTS
------------------------------
Additional comments from tester:
none provided
------------------------------
PROGRAM OUTPUT
------------------------------
Output from './Build test':
#
You should load Test::Tester before Test::Builder (or anything that loads Test::Builder) at /Users/hornenj/perl5/perlbrew/perls/perl-5.12.5/lib/site_perl/5.12.5/Test/Tester.pm line 9.
#
# Generated by Dist::Zilla::Plugin::ReportVersions::Tiny v1.10
# perl: 5.012005 (wanted 5.006) on darwin from /Users/hornenj/perl5/perlbrew/perls/perl-5.12.5/bin/perl
#
# App::PodLinkCheck::ParseLinks => 12 (want 4)
# App::PodLinkCheck::ParseSections => 12 (want any version)
# Capture::Tiny => 0.28 (want any version)
# Exporter => 5.70 (want any version)
# ExtUtils::MakeMaker => 7.04 (want any version)
# File::Spec => 3.47 (want any version)
# File::Temp => 0.2304 (want any version)
# IO::Handle => 1.28 (want any version)
# IPC::Open3 => 1.05 (want any version)
# Module::Build::Tiny => 0.039 (want 0.039)
# Moose => 2.1213 (want 1.01)
# Moose::Util::TypeConstraints => 2.1213 (want 1.01)
# Pod::Find => 1.62 (want any version)
# Test::Builder => 1.001014 (want 0.94)
# Test::More => 1.001014 (want 0.88)
# Test::Pod => 1.48 (want 1.44)
# Test::Tester => 0.114 (want any version)
# parent => 0.228 (want any version)
# strict => 1.04 (want any version)
# warnings => 1.09 (want any version)
#
# Thanks for using my code. I hope it works for you.
# If not, please try and include this output in the bug report.
# That will help me reproduce the issue and solve your problem.
#
t/apocalypse.t ................ skipped: Test::Apocalypse required for validating the distribution
t/00-compile.t ................ ok
t/000-report-versions-tiny.t .. ok
t/functions.t ................. ok
t/simple.t .................... ok
t/cpan_backend.t .............. ok
All tests successful.
Test Summary Report
-------------------
t/cpan_backend.t (Wstat: 0 Tests: 24 Failed: 0)
TODO passed: 3-12, 21-24
Files=6, Tests=130, 3 wallclock secs ( 0.03 usr 0.02 sys + 2.67 cusr 0.49 csys = 3.21 CPU)
Result: PASS
------------------------------
PREREQUISITES
------------------------------
Prerequisite modules loaded:
requires:
Module Need Have
-------------------------------- ----- --------
App::PodLinkCheck::ParseLinks 4 12
App::PodLinkCheck::ParseSections 0 12
Capture::Tiny 0 0.28
Exporter 0 5.70
File::Spec 0 3.47
Moose 1.01 2.1213
Moose::Util::TypeConstraints 1.01 2.1213
parent 0 0.228
perl 5.006 5.012005
Pod::Find 0 1.62
strict 0 1.04
Test::Builder 0.94 1.001014
Test::Pod 1.44 1.48
warnings 0 1.09
build_requires:
Module Need Have
-------------------------------- ----- --------
File::Spec 0 3.47
File::Temp 0 0.2304
IO::Handle 0 1.28
IPC::Open3 0 1.05
perl 5.006 5.012005
Test::More 0.88 1.001014
Test::Tester 0 0.114
configure_requires:
Module Need Have
-------------------------------- ----- --------
ExtUtils::MakeMaker 0 7.04
Module::Build::Tiny 0.039 0.039
perl 5.006 5.012005
------------------------------
ENVIRONMENT AND OTHER CONTEXT
------------------------------
Environment variables:
HARNESS_OPTIONS = c:j3
LANG = en_US.UTF-8
LC_ALL = POSIX
LD_LIBRARY_PATH = :/net/traces01.be-md.ncbi.nlm.nih.gov/trace_software/vdb/mac/release/x86_64/lib
NONINTERACTIVE_TESTING = 1
PATH = /Users/hornenj/perl5/perlbrew/bin:/Users/hornenj/perl5/perlbrew/perls/perl-5.12.5/bin:/Users/hornenj/perl5/perlbrew/bin:/Users/hornenj/perl5/perlbrew/perls/perl-5.10.0/bin:/Users/hornenj/bin:/sw/lib/perl5/ExtUtils:/sw/bin:/am/ncbiapdata/bin:/usr/bin:/bin:/usr/X11R6/bin:/netopt/ncbi_tools/bin:/usr/local/ncbi/blast/bin:/net/traces01.be-md.ncbi.nlm.nih.gov/trace_software/vdb/mac/release/x86_64/bin
PERL5LIB =
PERL5OPT =
PERL5_CPANPLUS_IS_RUNNING = 74967
PERL5_CPAN_IS_RUNNING = 74967
PERLBREW_BASHRC_VERSION = 0.73
PERLBREW_HOME = /Users/hornenj/.perlbrew
PERLBREW_LIB =
PERLBREW_MANPATH = /Users/hornenj/perl5/perlbrew/perls/perl-5.12.5/man
PERLBREW_PATH = /Users/hornenj/perl5/perlbrew/bin:/Users/hornenj/perl5/perlbrew/perls/perl-5.12.5/bin
PERLBREW_PERL = perl-5.12.5
PERLBREW_ROOT = /Users/hornenj/perl5/perlbrew
PERLBREW_VERSION = 0.73
PERL_LOCAL_LIB_ROOT =
PERL_MM_USE_DEFAULT = 1
SHELL = /bin/bash
TERM = xterm-256color
TMPDIR = /var/folders/pz/pd7y1qjs6s3cbk170cw50fjc000c61/T/
VERSIONER_PERL_PREFER_32_BIT = no
VERSIONER_PERL_VERSION = 5.18
ac_cv_path_INTLTOOL_PERL = /usr/bin/perl
Perl special variables (and OS-specific diagnostics, for MSWin32):
$^X = /Users/hornenj/perl5/perlbrew/perls/perl-5.12.5/bin/perl
$UID/$EUID = 12481 / 12481
$GID = 14 14 5344 527 241
$EGID = 14 14 5344 527 241
Perl module toolchain versions installed:
Module Have
------------------- --------
CPAN 2.10
CPAN::Meta 2.150001
Cwd 3.47
ExtUtils::CBuilder 0.280219
ExtUtils::Command 1.18
ExtUtils::Install 1.68
ExtUtils::MakeMaker 7.04
ExtUtils::Manifest 1.65
ExtUtils::ParseXS 3.24
File::Spec 3.47
JSON 2.90
JSON::PP 2.27203
Module::Build 0.4210
Module::Signature n/a
Parse::CPAN::Meta 1.4414
Test::Harness 3.33
Test::More 1.001014
YAML 1.11
YAML::Syck 1.29
version 0.9908
--
Summary of my perl5 (revision 5 version 12 subversion 5) configuration:
Platform:
osname=darwin, osvers=12.2.1, archname=darwin-2level
uname='darwin ncbimac2008.ncbi.nlm.nih.gov 12.2.1 darwin kernel version 12.2.1: thu oct 18 12:13:47 pdt 2012; root:xnu-2050.20.9~1release_x86_64 x86_64 '
config_args='-de -Dprefix=/Users/hornenj/perl5/perlbrew/perls/perl-5.12.5'
hint=recommended, useposix=true, d_sigaction=define
useithreads=undef, usemultiplicity=undef
useperlio=define, d_sfio=undef, uselargefiles=define, usesocks=undef
use64bitint=define, use64bitall=define, uselongdouble=undef
usemymalloc=n, bincompat5005=undef
Compiler:
cc='cc', ccflags ='-fno-common -DPERL_DARWIN -no-cpp-precomp -fno-strict-aliasing -pipe -fstack-protector',
optimize='-O3',
cppflags='-no-cpp-precomp -fno-common -DPERL_DARWIN -no-cpp-precomp -fno-strict-aliasing -pipe -fstack-protector'
ccversion='', gccversion='4.2.1 Compatible Apple LLVM 4.2 (clang-425.0.24)', gccosandvers=''
intsize=4, longsize=8, ptrsize=8, doublesize=8, byteorder=12345678
d_longlong=define, longlongsize=8, d_longdbl=define, longdblsize=16
ivtype='long', ivsize=8, nvtype='double', nvsize=8, Off_t='off_t', lseeksize=8
alignbytes=8, prototype=define
Linker and Libraries:
ld='env MACOSX_DEPLOYMENT_TARGET=10.3 cc', ldflags =' -fstack-protector'
libpth=/usr/lib
libs=-ldbm -ldl -lm -lutil -lc
perllibs=-ldl -lm -lutil -lc
libc=, so=dylib, useshrplib=false, libperl=libperl.a
gnulibc_version=''
Dynamic Linking:
dlsrc=dl_dlopen.xs, dlext=bundle, d_dlsymun=undef, ccdlflags=' '
cccdlflags=' ', lddlflags=' -bundle -undefined dynamic_lookup -fstack-protector'
Characteristics of this binary (from libperl):
Compile-time options: PERL_DONT_CREATE_GVSV PERL_MALLOC_WRAP USE_64_BIT_ALL
USE_64_BIT_INT USE_LARGE_FILES USE_PERLIO
USE_PERL_ATOF
Built under darwin
Compiled at Mar 5 2013 11:08:14
%ENV:
PERL5LIB=""
PERL5OPT=""
PERL5_CPANPLUS_IS_RUNNING="74967"
PERL5_CPAN_IS_RUNNING="74967"
PERLBREW_BASHRC_VERSION="0.73"
PERLBREW_HOME="/Users/hornenj/.perlbrew"
PERLBREW_LIB=""
PERLBREW_MANPATH="/Users/hornenj/perl5/perlbrew/perls/perl-5.12.5/man"
PERLBREW_PATH="/Users/hornenj/perl5/perlbrew/bin:/Users/hornenj/perl5/perlbrew/perls/perl-5.12.5/bin"
PERLBREW_PERL="perl-5.12.5"
PERLBREW_ROOT="/Users/hornenj/perl5/perlbrew"
PERLBREW_VERSION="0.73"
PERL_LOCAL_LIB_ROOT=""
PERL_MM_USE_DEFAULT="1"
@INC:
/Users/hornenj/perl5/perlbrew/perls/perl-5.12.5/lib/site_perl/5.12.5/darwin-2level
/Users/hornenj/perl5/perlbrew/perls/perl-5.12.5/lib/site_perl/5.12.5
/Users/hornenj/perl5/perlbrew/perls/perl-5.12.5/lib/5.12.5/darwin-2level
/Users/hornenj/perl5/perlbrew/perls/perl-5.12.5/lib/5.12.5
.