Test-DBIx-Class v0.52 Perl 5 v5.27.11 MSWin32-x86-multi-thread-64int
- Status
- Pass
- From
- Alexandr Ciornii (CHORNY)
- Dist
-
Test-DBIx-Class v0.52
- Platform
- Perl 5 v5.27.11 MSWin32-x86-multi-thread-64int
- Date
- 2018-05-01 19:27:56
- ID
- 0ff9db32-6bf6-1014-9f69-a174f8a58d7c
This distribution has been tested as part of the CPAN Testers
project, supporting the Perl programming language. See
http://wiki.cpantesters.org/ for more information or email
questions to cpan-testers-discuss@perl.org
--
Dear Colin Newell,
This is a computer-generated report for Test-DBIx-Class-0.52
on perl 5.27.11, created by CPAN-Reporter-1.2018.
Thank you for uploading your work to CPAN. Congratulations!
All tests were successful.
Sections of this report:
* Tester comments
* Program output
* Prerequisites
* Environment and other context
------------------------------
TESTER COMMENTS
------------------------------
Additional comments from tester:
this report is from an automated smoke testing program
and was not reviewed by a human for accuracy
------------------------------
PROGRAM OUTPUT
------------------------------
Output from 'C:\STRAWB~1\c\bin\gmake.exe test':
"C:\Strawberry2711\perl\bin\perl.exe" "-MExtUtils::Command::MM" "-MTest::Harness" "-e" "undef *Test::Harness::Switches; test_harness(0, 'blib\lib', 'blib\arch')" t/*.t t/stress_replication/*.t
t/00-basic.t .................................. ok
#
# Versions for all modules listed in MYMETA.json (including optional ones):
#
# === Configure Requires ===
#
# Module Want Have
# ------------------- ---- ----
# ExtUtils::MakeMaker any 7.34
#
# === Build Requires ===
#
# Module Want Have
# ------------------- ---- ----
# ExtUtils::MakeMaker any 7.34
#
# === Test Requires ===
#
# Module Want Have
# ------------------- ---- --------
# ExtUtils::MakeMaker any 7.34
# File::Spec any 3.74
# Test::More 0.94 1.302136
#
# === Test Recommends ===
#
# Module Want Have
# ---------- -------- --------
# CPAN::Meta 2.120900 2.150010
#
# === Runtime Requires ===
#
# Module Want Have
# --------------------------------- ------- --------
# Config::Any 0.19 0.32
# DBIx::Class 0.08123 0.082841
# DBIx::Class::Schema::PopulateMore 0.16 0.19
# DBIx::Class::TimeStamp 0.13 0.14
# DBIx::Class::UUIDColumns 0.02005 0.02006
# Data::UUID 1.215 1.221
# Data::Visitor 0.27 0.30
# Digest::MD5 2.39 2.55
# File::Path any 2.15
# File::Temp any 0.2304
# Hash::Merge 0.11 0.300
# List::MoreUtils 0.22 0.428
# Module::Runtime 0.013 0.016
# Moose 1.10 2.2010
# MooseX::Attribute::ENV 0.01 0.02
# MooseX::Types 0.23 0.50
# Path::Class 0.21 0.37
# SQL::Translator 0.11006 0.11024
# Scalar::Util 1.23 1.50
# Sub::Exporter 0.982 0.987
# Test::Builder 0.96 1.302136
# Test::Deep 0.106 1.128
#
t/00-report-prereqs.t ......................... ok
t/01-normalize-options.t ...................... ok
t/02-initialize-schema.t ...................... ok
t/03-merge-configs.t .......................... ok
t/04-load-fixtures.t .......................... ok
t/05-example-schema.t ......................... ok
t/06-basic-test-schema.t ...................... ok
t/07-alternative-config.t ..................... ok
t/08-test-mysqld.t ............................ skipped: Test::mysqld not installed
t/09-test-postgresql.t ........................ skipped: Test::Postgresql58 not installed
t/10-replication-mysql.t ...................... skipped: Test::mysqld not installed
t/11-fixtures_ok_populate.t ................... ok
t/11-set-from-env.t ........................... ok
t/12-fixtures_ok_populatemore.t ............... ok
t/13-test-sqlite.t ............................ ok
t/14-hide-diag.t .............................. ok
t/14-test-connection-opts.t ................... ok
t/15-hide-diag-mysqld.t ....................... skipped: Test::mysqld not installed
t/16-hide-diag-postgres.t ..................... skipped: Test::Postgresql58 not installed
t/17-importing-sources-gives-new-resultset.t .. ok
t/18-deploy-opts-sources.t .................... ok
t/19-deploy-opts-parser-args.t ................ ok
t/20-fixtures_ok_populate_hash.t .............. ok
t/stress_replication/10-replication-mysql.t ... skipped: Test::mysqld not installed
t/stress_replication/11-replication-mysql.t ... skipped: Test::mysqld not installed
t/stress_replication/12-replication-mysql.t ... skipped: Test::mysqld not installed
t/stress_replication/13-replication-mysql.t ... skipped: Test::mysqld not installed
t/stress_replication/14-replication-mysql.t ... skipped: Test::mysqld not installed
t/stress_replication/15-replication-mysql.t ... skipped: Test::mysqld not installed
All tests successful.
Files=30, Tests=180, 78 wallclock secs ( 0.09 usr + 0.25 sys = 0.34 CPU)
Result: PASS
------------------------------
PREREQUISITES
------------------------------
Prerequisite modules loaded:
requires:
Module Need Have
--------------------------------- ------- --------
Config::Any 0.19 0.32
Data::UUID 1.215 1.221
Data::Visitor 0.27 0.30
DBIx::Class 0.08123 0.082841
DBIx::Class::Schema::PopulateMore 0.16 0.19
DBIx::Class::TimeStamp 0.13 0.14
DBIx::Class::UUIDColumns 0.02005 0.02006
Digest::MD5 2.39 2.55
File::Path 0 2.15
File::Temp 0 0.2304
Hash::Merge 0.11 0.300
List::MoreUtils 0.22 0.428
Module::Runtime 0.013 0.016
Moose 1.10 2.2010
MooseX::Attribute::ENV 0.01 0.02
MooseX::Types 0.23 0.50
Path::Class 0.21 0.37
Scalar::Util 1.23 1.50
SQL::Translator 0.11006 0.11024
Sub::Exporter 0.982 0.987
Test::Builder 0.96 1.302136
Test::Deep 0.106 1.128
build_requires:
Module Need Have
--------------------------------- ------- --------
ExtUtils::MakeMaker 0 7.34
File::Spec 0 3.74
Test::More 0.94 1.302136
configure_requires:
Module Need Have
--------------------------------- ------- --------
ExtUtils::MakeMaker 0 7.34
------------------------------
ENVIRONMENT AND OTHER CONTEXT
------------------------------
Environment variables:
AUTOMATED_TESTING = 1
COMSPEC = C:\WINDOWS\system32\cmd.exe
NONINTERACTIVE_TESTING = 1
NUMBER_OF_PROCESSORS = 1
PATH = C:\Program Files\Far Manager\;C:\WINDOWS\system32;C:\WINDOWS;C:\WINDOWS\System32\Wbem;C:\Git\cmd;C:\Strawberry2711\c\bin;C:\Strawberry2711\perl\site\bin;C:\Strawberry2711\perl\bin
PERL5LIB =
PERL5OPT =
PERL5_CPANPLUS_IS_RUNNING = 1812
PERL5_CPAN_IS_RUNNING = 1812
PERL5_CPAN_IS_RUNNING_IN_RECURSION = 1644,1812
PERL_CR_SMOKER_CURRENT = Grimlock
PERL_EXTUTILS_AUTOINSTALL = --defaultdeps
PERL_HASH_SEED = 0x11111111
PERL_MM_USE_DEFAULT = 1
PERL_USE_UNSAFE_INC = 1
PROCESSOR_IDENTIFIER = x86 Family 16 Model 5 Stepping 3, AuthenticAMD
TEMP = C:\DOCUME~1\a\LOCALS~1\Temp
Perl special variables (and OS-specific diagnostics, for MSWin32):
$^X = C:\Strawberry2711\perl\bin\perl.exe
$UID/$EUID = 0 / 0
$GID = 0
$EGID = 0
Win32::GetOSName = WinXP/.Net
Win32::GetOSVersion = Service Pack 3, 5, 1, 2600, 2, 3, 0, 256, 1
Win32::FsType = NTFS
Win32::IsAdminUser = 1
Perl module toolchain versions installed:
Module Have
------------------- --------
CPAN 2.20
CPAN::Meta 2.150010
Cwd 3.74
ExtUtils::CBuilder 0.280230
ExtUtils::Command 7.34
ExtUtils::Install 2.14
ExtUtils::MakeMaker 7.34
ExtUtils::Manifest 1.70
ExtUtils::ParseXS 3.39
File::Spec 3.74
JSON 2.97001
JSON::PP 2.97001
Module::Build 0.4224
Module::Signature n/a
Parse::CPAN::Meta 2.150010
Test::Harness 3.42
Test::More 1.302136
YAML 1.24
YAML::Syck 1.30
version 0.9924
--
Summary of my perl5 (revision 5 version 27 subversion 11) configuration:
Platform:
osname=MSWin32
osvers=5.1.2600
archname=MSWin32-x86-multi-thread-64int
uname='Win32 strawberry-perl 5.27.11.1-beta1 #1 Sat Apr 21 21:04:44 2018 i386'
config_args='undef'
hint=recommended
useposix=true
d_sigaction=undef
useithreads=define
usemultiplicity=define
use64bitint=define
use64bitall=undef
uselongdouble=undef
usemymalloc=n
default_inc_excludes_dot=define
bincompat5005=undef
Compiler:
cc='gcc'
ccflags =' -s -O2 -DWIN32 -D__USE_MINGW_ANSI_STDIO -DPERL_TEXTMODE_SCRIPTS -DPERL_IMPLICIT_CONTEXT -DPERL_IMPLICIT_SYS -DUSE_PERLIO -fwrapv -fno-strict-aliasing -mms-bitfields'
optimize='-s -O2'
cppflags='-DWIN32'
ccversion=''
gccversion='7.1.0'
gccosandvers=''
intsize=4
longsize=4
ptrsize=4
doublesize=8
byteorder=12345678
doublekind=3
d_longlong=define
longlongsize=8
d_longdbl=define
longdblsize=12
longdblkind=3
ivtype='long long'
ivsize=8
nvtype='double'
nvsize=8
Off_t='long long'
lseeksize=8
alignbytes=8
prototype=define
Linker and Libraries:
ld='g++'
ldflags ='-s -L"C:\STRAWB~1\perl\lib\CORE" -L"C:\STRAWB~1\c\lib"'
libpth=C:\STRAWB~1\c\lib C:\STRAWB~1\c\i686-w64-mingw32\lib C:\STRAWB~1\c\lib\gcc\i686-w64-mingw32\7.1.0
libs= -lmoldname -lkernel32 -luser32 -lgdi32 -lwinspool -lcomdlg32 -ladvapi32 -lshell32 -lole32 -loleaut32 -lnetapi32 -luuid -lws2_32 -lmpr -lwinmm -lversion -lodbc32 -lodbccp32 -lcomctl32
perllibs= -lmoldname -lkernel32 -luser32 -lgdi32 -lwinspool -lcomdlg32 -ladvapi32 -lshell32 -lole32 -loleaut32 -lnetapi32 -luuid -lws2_32 -lmpr -lwinmm -lversion -lodbc32 -lodbccp32 -lcomctl32
libc=
so=dll
useshrplib=true
libperl=libperl527.a
gnulibc_version=''
Dynamic Linking:
dlsrc=dl_win32.xs
dlext=xs.dll
d_dlsymun=undef
ccdlflags=' '
cccdlflags=' '
lddlflags='-mdll -s -L"C:\STRAWB~1\perl\lib\CORE" -L"C:\STRAWB~1\c\lib"'
Characteristics of this binary (from libperl):
Compile-time options:
HAS_TIMES
HAVE_INTERP_INTERN
MULTIPLICITY
PERLIO_LAYERS
PERL_COPY_ON_WRITE
PERL_DONT_CREATE_GVSV
PERL_IMPLICIT_CONTEXT
PERL_IMPLICIT_SYS
PERL_MALLOC_WRAP
PERL_OP_PARENT
PERL_PRESERVE_IVUV
USE_64_BIT_INT
USE_ITHREADS
USE_LARGE_FILES
USE_LOCALE
USE_LOCALE_COLLATE
USE_LOCALE_CTYPE
USE_LOCALE_NUMERIC
USE_LOCALE_TIME
USE_PERLIO
USE_PERL_ATOF
Built under MSWin32
Compiled at Apr 21 2018 21:15:44
%ENV:
PERL5_CPANPLUS_IS_RUNNING="1812"
PERL5_CPAN_IS_RUNNING="1812"
PERL5_CPAN_IS_RUNNING_IN_RECURSION="1644,1812"
PERL_CR_SMOKER_CURRENT="Grimlock"
PERL_EXTUTILS_AUTOINSTALL="--defaultdeps"
PERL_HASH_SEED="0x11111111"
PERL_MM_USE_DEFAULT="1"
PERL_USE_UNSAFE_INC="1"
@INC:
C:/Strawberry2711/perl/site/lib
C:/Strawberry2711/perl/vendor/lib
C:/Strawberry2711/perl/lib
.