Acme-CPANAuthors-You-re_using v0.08 Perl 5 v5.38.0 x86_64-linux
- Status
- Pass
- From
- Slaven Rezić
- Dist
-
Acme-CPANAuthors-You-re_using v0.08
- Platform
- Perl 5 v5.38.0 x86_64-linux
- Date
- 2024-10-15 05:41:01
- ID
- 0fef851a-8ab8-11ef-9b3a-d20f6e8775ea
This distribution has been tested as part of the CPAN Testers
project, supporting the Perl programming language. See
http://wiki.cpantesters.org/ for more information or email
questions to cpan-testers-discuss@perl.org
--
Dear Vincent Pit,
This is a computer-generated report for Acme-CPANAuthors-You-re_using-0.08
on perl 5.38.0, created by CPAN-Reporter-1.2019.
Thank you for uploading your work to CPAN. Congratulations!
All tests were successful.
Sections of this report:
* Tester comments
* Program output
* Prerequisites
* Environment and other context
------------------------------
TESTER COMMENTS
------------------------------
Additional comments from tester:
none provided
------------------------------
PROGRAM OUTPUT
------------------------------
Output from '/usr/bin/make test':
PERL_DL_NONLAZY=1 "/opt/perl-5.38.0/bin/perl" "-MExtUtils::Command::MM" "-MTest::Harness" "-e" "undef *Test::Harness::Switches; test_harness(0, 'blib/lib', 'blib/arch')" t/*.t
Old package separator "'" deprecated at t/00-load.t line 10.
Old package separator "'" deprecated at t/00-load.t line 11.
Old package separator used in string at t/00-load.t line 14.
(Did you mean "$Acme::CPANAuthors::You\'re_using::VERSION" instead?)
# Testing Acme::CPANAuthors::You're_using 0.08, Perl 5.038000, /opt/perl-5.38.0/bin/perl
t/00-load.t ............. ok
# Directories in @INC :
# /home/cpansand/.cpan/build/2024101505/Acme-CPANAuthors-You-re_using-0.08-1/blib/lib
# /home/cpansand/.cpan/build/2024101505/Acme-CPANAuthors-You-re_using-0.08-1/blib/arch
# /opt/perl-5.38.0/lib/site_perl/5.38.0/x86_64-linux
# /opt/perl-5.38.0/lib/site_perl/5.38.0
# /opt/perl-5.38.0/lib/5.38.0/x86_64-linux
# /opt/perl-5.38.0/lib/5.38.0
# Old package separator "'" deprecated at (eval 9) line 1.
# Error evaling version line ' my $dummy = q# Hide from _packages_inside()
# #; package Module::Metadata::_version::p5488;
# use version;
# sub {
# local $VERSION;
# our \$VERSION = '$Lemonldap::NG::Manager::Build::Attributes::VERSION';;
# return $VERSION if defined $VERSION;
# return $Module::Metadata::_version::p5488::VERSION;
# };
# ' in /opt/perl-5.38.0/lib/site_perl/5.38.0/Lemonldap/NG/Manager/Build.pm: The experimental declared_refs feature is not enabled at (eval 5524) line 6, <$handle> line 181.
#
# Error evaling version line ' my $dummy = q# Hide from _packages_inside()
# #; package Module::Metadata::_version::p8540;
# use version;
# sub {
# local $Attr::Trait::VERSION;
# $Attr::Trait::VERSION = '0.40';use Moose::Role;around _process_options=>sub{my$orig=shift;my$c=shift;my($n,$o)=@_;$o->{is}||='rw';$o->{lazy}||=1 if defined$o->{default}or defined$o->{builder};$c->$orig(@_)};$INC{'Attr/Trait.pm'}=1};
# return $Attr::Trait::VERSION if defined $Attr::Trait::VERSION;
# return $Module::Metadata::_version::p8540::Attr::Trait::VERSION;
# };
# ' in /opt/perl-5.38.0/lib/site_perl/5.38.0/Mo/Moose.pm: Unmatched right curly bracket at (eval 8576) line 9, at end of line
# syntax error at (eval 8576) line 9, near ";
# }"
# Execution of (eval 8576) aborted due to compilation errors.
#
# Error evaling version line ' my $dummy = q# Hide from _packages_inside()
# #; package Module::Metadata::_version::p8548;
# use version;
# sub {
# local $Attr::Trait::VERSION;
# $Attr::Trait::VERSION = '0.40';use Mouse::Role;around _process_options=>sub{my$orig=shift;my$c=shift;my($n,$o)=@_;$o->{is}||='rw';$o->{lazy}||=1 if defined$o->{default}or defined$o->{builder};$c->$orig(@_)};$INC{'Attr/Trait.pm'}=1};
# return $Attr::Trait::VERSION if defined $Attr::Trait::VERSION;
# return $Module::Metadata::_version::p8548::Attr::Trait::VERSION;
# };
# ' in /opt/perl-5.38.0/lib/site_perl/5.38.0/Mo/Mouse.pm: Unmatched right curly bracket at (eval 8736) line 9, at end of line
# syntax error at (eval 8736) line 9, near ";
# }"
# Execution of (eval 8736) aborted due to compilation errors.
#
# Error evaling version line ' my $dummy = q# Hide from _packages_inside()
# #; package Module::Metadata::_version::p9174;
# use version;
# sub {
# local $VERSION;
# use JSON::Relaxed::Parser; our $VERSION = $JSON::Relaxed::Parser::VERSION;;
# return $VERSION if defined $VERSION;
# return $Module::Metadata::_version::p9174::VERSION;
# };
# ' in /opt/perl-5.38.0/lib/site_perl/5.38.0/ChordPro/lib/JSON/Relaxed.pm: Can't locate JSON/Relaxed/Parser.pm in @INC (you may need to install the JSON::Relaxed::Parser module) (@INC entries checked: lib /home/cpansand/.cpan/build/2024101505/Acme-CPANAuthors-You-re_using-0.08-1/blib/lib /home/cpansand/.cpan/build/2024101505/Acme-CPANAuthors-You-re_using-0.08-1/blib/arch /opt/perl-5.38.0/lib/site_perl/5.38.0/x86_64-linux /opt/perl-5.38.0/lib/site_perl/5.38.0 /opt/perl-5.38.0/lib/5.38.0/x86_64-linux /opt/perl-5.38.0/lib/5.38.0) at (eval 9364) line 6, <$handle> line 8.
# BEGIN failed--compilation aborted at (eval 9364) line 6, <$handle> line 8.
#
# Error evaling version line ' my $dummy = q# Hide from _packages_inside()
# #; package Module::Metadata::_version::p9175;
# use version;
# sub {
# local $VERSION;
# use JSON::Relaxed::Parser; our $VERSION = $JSON::Relaxed::Parser::VERSION;;
# return $VERSION if defined $VERSION;
# return $Module::Metadata::_version::p9175::VERSION;
# };
# ' in /opt/perl-5.38.0/lib/site_perl/5.38.0/ChordPro/lib/JSON/Relaxed/ErrorCodes.pm: Can't locate JSON/Relaxed/Parser.pm in @INC (you may need to install the JSON::Relaxed::Parser module) (@INC entries checked: lib /home/cpansand/.cpan/build/2024101505/Acme-CPANAuthors-You-re_using-0.08-1/blib/lib /home/cpansand/.cpan/build/2024101505/Acme-CPANAuthors-You-re_using-0.08-1/blib/arch /opt/perl-5.38.0/lib/site_perl/5.38.0/x86_64-linux /opt/perl-5.38.0/lib/site_perl/5.38.0 /opt/perl-5.38.0/lib/5.38.0/x86_64-linux /opt/perl-5.38.0/lib/5.38.0) at (eval 9366) line 6, <$handle> line 8.
# BEGIN failed--compilation aborted at (eval 9366) line 6, <$handle> line 8.
#
# 907 authors found
t/10-base.t ............. ok
# Old package separator "'" deprecated at (eval 9) line 1.
# Error evaling version line ' my $dummy = q# Hide from _packages_inside()
# #; package Module::Metadata::_version::p5489;
# use version;
# sub {
# local $VERSION;
# our \$VERSION = '$Lemonldap::NG::Manager::Build::Attributes::VERSION';;
# return $VERSION if defined $VERSION;
# return $Module::Metadata::_version::p5489::VERSION;
# };
# ' in /opt/perl-5.38.0/lib/site_perl/5.38.0/Lemonldap/NG/Manager/Build.pm: The experimental declared_refs feature is not enabled at (eval 5525) line 6, <$handle> line 181.
#
# Error evaling version line ' my $dummy = q# Hide from _packages_inside()
# #; package Module::Metadata::_version::p8541;
# use version;
# sub {
# local $Attr::Trait::VERSION;
# $Attr::Trait::VERSION = '0.40';use Moose::Role;around _process_options=>sub{my$orig=shift;my$c=shift;my($n,$o)=@_;$o->{is}||='rw';$o->{lazy}||=1 if defined$o->{default}or defined$o->{builder};$c->$orig(@_)};$INC{'Attr/Trait.pm'}=1};
# return $Attr::Trait::VERSION if defined $Attr::Trait::VERSION;
# return $Module::Metadata::_version::p8541::Attr::Trait::VERSION;
# };
# ' in /opt/perl-5.38.0/lib/site_perl/5.38.0/Mo/Moose.pm: Unmatched right curly bracket at (eval 8577) line 9, at end of line
# syntax error at (eval 8577) line 9, near ";
# }"
# Execution of (eval 8577) aborted due to compilation errors.
#
# Error evaling version line ' my $dummy = q# Hide from _packages_inside()
# #; package Module::Metadata::_version::p8549;
# use version;
# sub {
# local $Attr::Trait::VERSION;
# $Attr::Trait::VERSION = '0.40';use Mouse::Role;around _process_options=>sub{my$orig=shift;my$c=shift;my($n,$o)=@_;$o->{is}||='rw';$o->{lazy}||=1 if defined$o->{default}or defined$o->{builder};$c->$orig(@_)};$INC{'Attr/Trait.pm'}=1};
# return $Attr::Trait::VERSION if defined $Attr::Trait::VERSION;
# return $Module::Metadata::_version::p8549::Attr::Trait::VERSION;
# };
# ' in /opt/perl-5.38.0/lib/site_perl/5.38.0/Mo/Mouse.pm: Unmatched right curly bracket at (eval 8737) line 9, at end of line
# syntax error at (eval 8737) line 9, near ";
# }"
# Execution of (eval 8737) aborted due to compilation errors.
#
# Error evaling version line ' my $dummy = q# Hide from _packages_inside()
# #; package Module::Metadata::_version::p9175;
# use version;
# sub {
# local $VERSION;
# use JSON::Relaxed::Parser; our $VERSION = $JSON::Relaxed::Parser::VERSION;;
# return $VERSION if defined $VERSION;
# return $Module::Metadata::_version::p9175::VERSION;
# };
# ' in /opt/perl-5.38.0/lib/site_perl/5.38.0/ChordPro/lib/JSON/Relaxed.pm: Can't locate JSON/Relaxed/Parser.pm in @INC (you may need to install the JSON::Relaxed::Parser module) (@INC entries checked: lib t/lib /home/cpansand/.cpan/build/2024101505/Acme-CPANAuthors-You-re_using-0.08-1/blib/lib /home/cpansand/.cpan/build/2024101505/Acme-CPANAuthors-You-re_using-0.08-1/blib/arch /opt/perl-5.38.0/lib/site_perl/5.38.0/x86_64-linux /opt/perl-5.38.0/lib/site_perl/5.38.0 /opt/perl-5.38.0/lib/5.38.0/x86_64-linux /opt/perl-5.38.0/lib/5.38.0) at (eval 9365) line 6, <$handle> line 8.
# BEGIN failed--compilation aborted at (eval 9365) line 6, <$handle> line 8.
#
# Error evaling version line ' my $dummy = q# Hide from _packages_inside()
# #; package Module::Metadata::_version::p9176;
# use version;
# sub {
# local $VERSION;
# use JSON::Relaxed::Parser; our $VERSION = $JSON::Relaxed::Parser::VERSION;;
# return $VERSION if defined $VERSION;
# return $Module::Metadata::_version::p9176::VERSION;
# };
# ' in /opt/perl-5.38.0/lib/site_perl/5.38.0/ChordPro/lib/JSON/Relaxed/ErrorCodes.pm: Can't locate JSON/Relaxed/Parser.pm in @INC (you may need to install the JSON::Relaxed::Parser module) (@INC entries checked: lib t/lib /home/cpansand/.cpan/build/2024101505/Acme-CPANAuthors-You-re_using-0.08-1/blib/lib /home/cpansand/.cpan/build/2024101505/Acme-CPANAuthors-You-re_using-0.08-1/blib/arch /opt/perl-5.38.0/lib/site_perl/5.38.0/x86_64-linux /opt/perl-5.38.0/lib/site_perl/5.38.0 /opt/perl-5.38.0/lib/5.38.0/x86_64-linux /opt/perl-5.38.0/lib/5.38.0) at (eval 9367) line 6, <$handle> line 8.
# BEGIN failed--compilation aborted at (eval 9367) line 6, <$handle> line 8.
#
t/11-naughty-version.t .. ok
All tests successful.
Files=3, Tests=8, 96 wallclock secs ( 0.02 usr 0.01 sys + 73.54 cusr 8.73 csys = 82.30 CPU)
Result: PASS
------------------------------
PREREQUISITES
------------------------------
Prerequisite modules loaded:
requires:
Module Need Have
------------------- -------- --------
Acme::CPANAuthors 0.16 0.26
File::Find 0 1.43
Module::Metadata 1.000017 1.000037
perl 5.006 5.038000
build_requires:
Module Need Have
------------------- -------- --------
Acme::CPANAuthors 0.16 0.26
ExtUtils::MakeMaker 0 7.70
File::Find 0 1.43
lib 0 0.65
Module::Metadata 1.000017 1.000037
Test::More 0 1.302203
configure_requires:
Module Need Have
------------------- -------- --------
ExtUtils::MakeMaker 0 7.70
------------------------------
ENVIRONMENT AND OTHER CONTEXT
------------------------------
Environment variables:
LANG = C
PATH = /usr/local/bin:/usr/bin:/bin:/usr/local/sbin:/usr/sbin:/sbin:/home/cpansand/bin/linux-gnu:/home/cpansand/bin/sh:/home/cpansand/bin:/usr/games:/home/cpansand/devel:/home/eserte/src/srezic-misc/scripts
PERL5LIB =
PERL5OPT =
PERL5_CPANPLUS_IS_RUNNING = 3459268
PERL5_CPAN_IS_RUNNING = 3459268
PERL5_CPAN_IS_RUNNING_IN_RECURSION = 3456757,3459268
PERLDOC = -MPod::Perldoc::ToTextOverstrike
PERL_BATCH = yes
PERL_CANARY_STABILITY_NOPROMPT = 1
PERL_CPAN_REPORTER_CONFIG = /var/tmp/cpansmoker-1023/2024101505/cpanreporter_000_config.ini
PERL_EXTUTILS_AUTOINSTALL = --defaultdeps
PERL_USE_UNSAFE_INC = 1
SHELL = /usr/bin/zsh
TERM = screen
TMPDIR = /var/tmp/cpansmoker-1023/2024101505
Perl special variables (and OS-specific diagnostics, for MSWin32):
$^X = /opt/perl-5.38.0/bin/perl
$UID/$EUID = 1023 / 1023
$GID = 1023 1023
$EGID = 1023 1023
Perl module toolchain versions installed:
Module Have
------------------- --------
CPAN 2.37
CPAN::Meta 2.150010
Cwd 3.89
ExtUtils::CBuilder 0.280238
ExtUtils::Command 7.70
ExtUtils::Install 2.22
ExtUtils::MakeMaker 7.70
ExtUtils::Manifest 1.73
ExtUtils::ParseXS 3.51
File::Spec 3.88
JSON 4.10
JSON::PP 4.16
Module::Build 0.4234
Module::Signature 0.88
Parse::CPAN::Meta 2.150010
Test2 1.302203
Test::Harness 3.48
Test::More 1.302203
YAML 1.31
YAML::Syck 1.34
version 0.9929
--
Summary of my perl5 (revision 5 version 38 subversion 0) configuration:
Platform:
osname=linux
osvers=5.15.0-76-generic
archname=x86_64-linux
uname='linux cloud14.bbbike.org 5.15.0-76-generic #83-ubuntu smp thu jun 15 19:16:32 utc 2023 x86_64 x86_64 x86_64 gnulinux '
config_args='-ds -e -Dprefix=/opt/perl-5.38.0 -Dcf_email=srezic@cpan.org'
hint=recommended
useposix=true
d_sigaction=define
useithreads=undef
usemultiplicity=undef
use64bitint=define
use64bitall=define
uselongdouble=undef
usemymalloc=n
default_inc_excludes_dot=define
Compiler:
cc='cc'
ccflags ='-fwrapv -fno-strict-aliasing -pipe -fstack-protector-strong -I/usr/local/include -D_LARGEFILE_SOURCE -D_FILE_OFFSET_BITS=64'
optimize='-O2'
cppflags='-fwrapv -fno-strict-aliasing -pipe -fstack-protector-strong -I/usr/local/include'
ccversion=''
gccversion='11.3.0'
gccosandvers=''
intsize=4
longsize=8
ptrsize=8
doublesize=8
byteorder=12345678
doublekind=3
d_longlong=define
longlongsize=8
d_longdbl=define
longdblsize=16
longdblkind=3
ivtype='long'
ivsize=8
nvtype='double'
nvsize=8
Off_t='off_t'
lseeksize=8
alignbytes=8
prototype=define
Linker and Libraries:
ld='cc'
ldflags =' -fstack-protector-strong -L/usr/local/lib'
libpth=/usr/local/lib /usr/lib/x86_64-linux-gnu /usr/lib /usr/lib64
libs=-lpthread -lgdbm -ldb -ldl -lm -lcrypt -lutil -lc
perllibs=-lpthread -ldl -lm -lcrypt -lutil -lc
libc=/lib/x86_64-linux-gnu/libc.so.6
so=so
useshrplib=false
libperl=libperl.a
gnulibc_version='2.35'
Dynamic Linking:
dlsrc=dl_dlopen.xs
dlext=so
d_dlsymun=undef
ccdlflags='-Wl,-E'
cccdlflags='-fPIC'
lddlflags='-shared -O2 -L/usr/local/lib -fstack-protector-strong'
Characteristics of this binary (from libperl):
Compile-time options:
HAS_LONG_DOUBLE
HAS_STRTOLD
HAS_TIMES
PERLIO_LAYERS
PERL_COPY_ON_WRITE
PERL_DONT_CREATE_GVSV
PERL_HASH_FUNC_SIPHASH13
PERL_HASH_USE_SBOX32
PERL_MALLOC_WRAP
PERL_OP_PARENT
PERL_PRESERVE_IVUV
PERL_USE_SAFE_PUTENV
USE_64_BIT_ALL
USE_64_BIT_INT
USE_LARGE_FILES
USE_LOCALE
USE_LOCALE_COLLATE
USE_LOCALE_CTYPE
USE_LOCALE_NUMERIC
USE_LOCALE_TIME
USE_PERLIO
USE_PERL_ATOF
Built under linux
Compiled at Jul 8 2023 12:27:40
%ENV:
PERL5LIB=""
PERL5OPT=""
PERL5_CPANPLUS_IS_RUNNING="3459268"
PERL5_CPAN_IS_RUNNING="3459268"
PERL5_CPAN_IS_RUNNING_IN_RECURSION="3456757,3459268"
PERLDOC="-MPod::Perldoc::ToTextOverstrike"
PERL_BATCH="yes"
PERL_CANARY_STABILITY_NOPROMPT="1"
PERL_CPAN_REPORTER_CONFIG="/var/tmp/cpansmoker-1023/2024101505/cpanreporter_000_config.ini"
PERL_EXTUTILS_AUTOINSTALL="--defaultdeps"
PERL_USE_UNSAFE_INC="1"
@INC:
/opt/perl-5.38.0/lib/site_perl/5.38.0/x86_64-linux
/opt/perl-5.38.0/lib/site_perl/5.38.0
/opt/perl-5.38.0/lib/5.38.0/x86_64-linux
/opt/perl-5.38.0/lib/5.38.0
.