Report for AnyEvent-HTTP-LWP-UserAgent-0.10

Back
From: metabase:user:314402c4-2aae-11df-837a-5e0a49663a4f
Subject: PASS AnyEvent-HTTP-LWP-UserAgent-0.10 v5.19.8 FreeBSD
Date: 2014-02-09T07:44:52Z

This distribution has been tested as part of the CPAN Testers
project, supporting the Perl programming language.  See
http://wiki.cpantesters.org/ for more information or email
questions to cpan-testers-discuss@perl.org


--
Dear Yasutaka ATARASHI,

This is a computer-generated report for AnyEvent-HTTP-LWP-UserAgent-0.10
on perl 5.19.8, created by CPAN-Reporter-1.2010.

Thank you for uploading your work to CPAN.  Congratulations!
All tests were successful.

Sections of this report:

    * Tester comments
    * Program output
    * Prerequisites
    * Environment and other context

------------------------------
TESTER COMMENTS
------------------------------

Additional comments from tester:

none provided

------------------------------
PROGRAM OUTPUT
------------------------------

Output from '/usr/bin/make test':

PERL_DL_NONLAZY=1 /usr/perl5.19.8/bin/perl5.19.8 "-MExtUtils::Command::MM" "-MTest::Harness" "-e" "undef *Test::Harness::Switches; test_harness(0, 'blib/lib', 'blib/arch')" t/*.t
CGI will be removed from the Perl core distribution in the next major release. Please install it from CPAN. It is being used at /usr/perl5.19.8/lib/site_perl/5.19.8/HTTP/Server/Simple/CGI.pm, line 12.
t/async.t .................. ok
CGI will be removed from the Perl core distribution in the next major release. Please install it from CPAN. It is being used at /usr/perl5.19.8/lib/site_perl/5.19.8/HTTP/Server/Simple/CGI.pm, line 12.
t/callbacks.t .............. ok
t/invalid_host.t ........... ok
t/main.t ................... ok
t/release-pod-syntax.t ..... skipped: these tests are for release candidate testing
CGI will be removed from the Perl core distribution in the next major release. Please install it from CPAN. It is being used at /usr/perl5.19.8/lib/site_perl/5.19.8/HTTP/Server/Simple/CGI.pm, line 12.
t/request_content_ref.t .... ok
CGI will be removed from the Perl core distribution in the next major release. Please install it from CPAN. It is being used at /usr/perl5.19.8/lib/site_perl/5.19.8/HTTP/Server/Simple/CGI.pm, line 12.
t/response_content_cb.t .... ok
CGI will be removed from the Perl core distribution in the next major release. Please install it from CPAN. It is being used at /usr/perl5.19.8/lib/site_perl/5.19.8/HTTP/Server/Simple/CGI.pm, line 12.
t/response_content_file.t .. ok
All tests successful.
Files=8, Tests=42,  2 wallclock secs ( 0.06 usr  0.00 sys +  1.59 cusr  0.26 csys =  1.91 CPU)
Result: PASS

------------------------------
PREREQUISITES
------------------------------

Prerequisite modules loaded:

requires:

    Module                Need  Have    
    --------------------- ----- --------
    AnyEvent              5     7.07    
    AnyEvent::HTTP        2.1   2.15    
    HTTP::Headers::Util   0     6.03    
    HTTP::Request::Common 0     6.04    
    HTTP::Response        0     6.04    
    LWP::UserAgent        5.815 6.05    
    parent                0     0.228   
    strict                0     1.08    
    warnings              0     1.21    

build_requires:

    Module                Need  Have    
    --------------------- ----- --------
    File::Temp            0     0.2304  
    Test::More            0     1.001002

configure_requires:

    Module                Need  Have    
    --------------------- ----- --------
    ExtUtils::MakeMaker   6.30  6.88    


------------------------------
ENVIRONMENT AND OTHER CONTEXT
------------------------------

Environment variables:

    DBIC_NO_WARN_BAD_PERL = 1
    PATH = /usr/local/bin:/usr/bin:/bin:/usr/local/sbin:/usr/sbin:/sbin:/home/cpansand/bin/freebsd9.1:/home/cpansand/bin/sh:/home/cpansand/bin:/usr/games:/home/cpansand/devel:/usr/home/eserte/work/srezic-misc/scripts
    PERL5LIB = 
    PERL5OPT = 
    PERL5_CPANPLUS_IS_RUNNING = 91253
    PERL5_CPAN_IS_RUNNING = 91253
    PERL5_CPAN_IS_RUNNING_IN_RECURSION = 90962,91253
    PERLDOC = -MPod::Perldoc::ToTextOverstrike
    PERL_BATCH = yes
    PERL_CPAN_REPORTER_CONFIG = /var/tmp/cpansmoker-1023/gDhVcwNhWf_config.ini
    PERL_EXTUTILS_AUTOINSTALL = --defaultdeps
    PERL_HTML_DISPLAY_CLASS = HTML::Display::Mozilla
    SHELL = /usr/local/bin/zsh
    TERM = screen
    TMPDIR = /var/tmp/cpansmoker-1023

Perl special variables (and OS-specific diagnostics, for MSWin32):

    $^X = /usr/perl5.19.8/bin/perl5.19.8
    $UID/$EUID = 1023 / 1023
    $GID = 1023 1023
    $EGID = 1023 1023

Perl module toolchain versions installed:

    Module              Have    
    ------------------- --------
    CPAN                2.03    
    CPAN::Meta          2.133380
    Cwd                 3.45    
    ExtUtils::CBuilder  0.280213
    ExtUtils::Command   1.18    
    ExtUtils::Install   1.61    
    ExtUtils::MakeMaker 6.88    
    ExtUtils::Manifest  1.63    
    ExtUtils::ParseXS   3.23    
    File::Spec          3.45    
    JSON                2.90    
    JSON::PP            2.27203 
    Module::Build       0.4204  
    Module::Signature   0.73    
    Parse::CPAN::Meta   1.4409  
    Test::Harness       3.30    
    Test::More          1.001002
    YAML                0.89    
    YAML::Syck          1.27    
    version             0.9908  


--

Summary of my perl5 (revision 5 version 19 subversion 8) configuration:
   
  Platform:
    osname=freebsd, osvers=9.2-release, archname=amd64-freebsd
    uname='freebsd cvrsnica-freebsd-92 9.2-release freebsd 9.2-release #0 r255898: thu sep 26 22:50:31 utc 2013 root@bake.isc.freebsd.org:usrobjusrsrcsysgeneric amd64 '
    config_args='-ds -e -Dprefix=/usr/perl5.19.8 -Dusedevel'
    hint=recommended, useposix=true, d_sigaction=define
    useithreads=undef, usemultiplicity=undef
    use64bitint=define, use64bitall=define, uselongdouble=undef
    usemymalloc=n, bincompat5005=undef
  Compiler:
    cc='cc', ccflags ='-DHAS_FPSETMASK -DHAS_FLOATINGPOINT_H -fno-strict-aliasing -pipe -fstack-protector -I/usr/local/include',
    optimize='-O',
    cppflags='-DHAS_FPSETMASK -DHAS_FLOATINGPOINT_H -fno-strict-aliasing -pipe -fstack-protector -I/usr/local/include'
    ccversion='', gccversion='4.2.1 20070831 patched [FreeBSD]', gccosandvers=''
    intsize=4, longsize=8, ptrsize=8, doublesize=8, byteorder=12345678
    d_longlong=define, longlongsize=8, d_longdbl=define, longdblsize=16
    ivtype='long', ivsize=8, nvtype='double', nvsize=8, Off_t='off_t', lseeksize=8
    alignbytes=8, prototype=define
  Linker and Libraries:
    ld='cc', ldflags ='-Wl,-E  -fstack-protector -L/usr/local/lib'
    libpth=/usr/lib /usr/local/lib /usr/include/gcc/4.2 /usr/lib
    libs=-lgdbm -lm -lcrypt -lutil -lc
    perllibs=-lm -lcrypt -lutil -lc
    libc=, so=so, useshrplib=false, libperl=libperl.a
    gnulibc_version=''
  Dynamic Linking:
    dlsrc=dl_dlopen.xs, dlext=so, d_dlsymun=undef, ccdlflags=' '
    cccdlflags='-DPIC -fPIC', lddlflags='-shared  -L/usr/local/lib -fstack-protector'


Characteristics of this binary (from libperl): 
  Compile-time options: HAS_TIMES PERLIO_LAYERS PERL_DONT_CREATE_GVSV
                        PERL_HASH_FUNC_ONE_AT_A_TIME_HARD PERL_MALLOC_WRAP
                        PERL_NEW_COPY_ON_WRITE PERL_PRESERVE_IVUV
                        PERL_USE_DEVEL USE_64_BIT_ALL USE_64_BIT_INT
                        USE_LARGE_FILES USE_LOCALE USE_LOCALE_COLLATE
                        USE_LOCALE_CTYPE USE_LOCALE_NUMERIC USE_PERLIO
                        USE_PERL_ATOF
  Built under freebsd
  Compiled at Jan 23 2014 18:16:33
  %ENV:
    PERL5LIB=""
    PERL5OPT=""
    PERL5_CPANPLUS_IS_RUNNING="91253"
    PERL5_CPAN_IS_RUNNING="91253"
    PERL5_CPAN_IS_RUNNING_IN_RECURSION="90962,91253"
    PERLDOC="-MPod::Perldoc::ToTextOverstrike"
    PERL_BATCH="yes"
    PERL_CPAN_REPORTER_CONFIG="/var/tmp/cpansmoker-1023/gDhVcwNhWf_config.ini"
    PERL_EXTUTILS_AUTOINSTALL="--defaultdeps"
    PERL_HTML_DISPLAY_CLASS="HTML::Display::Mozilla"
  @INC:
    /usr/perl5.19.8/lib/site_perl/5.19.8/amd64-freebsd
    /usr/perl5.19.8/lib/site_perl/5.19.8
    /usr/perl5.19.8/lib/5.19.8/amd64-freebsd
    /usr/perl5.19.8/lib/5.19.8
    .