MooseX-Extended v0.35 Perl 5 v5.39.5 x86_64-linux
        
            - Status
 
            - Pass
 
            - From
 
            - Carlos Guevara
 
            - Dist
 
            - 
                MooseX-Extended v0.35
            
 
            - Platform
 
            - Perl 5 v5.39.5 x86_64-linux
 
            - Date
 
            - 2023-11-12 06:59:44
 
            - ID
 
            - 0f67c43e-8129-11ee-9d40-0939c4db341d
 
        
        This distribution has been tested as part of the CPAN Testers
project, supporting the Perl programming language.  See
http://wiki.cpantesters.org/ for more information or email
questions to cpan-testers-discuss@perl.org
--
Dear Curtis Poe,
This is a computer-generated report for MooseX-Extended-0.35
on perl 5.39.5, created by CPAN-Reporter-1.2019.
Thank you for uploading your work to CPAN.  Congratulations!
All tests were successful.
Sections of this report:
    * Tester comments
    * Program output
    * Prerequisites
    * Environment and other context
------------------------------
TESTER COMMENTS
------------------------------
Additional comments from tester:
this report is from an automated smoke testing program
and was not reviewed by a human for accuracy
------------------------------
PROGRAM OUTPUT
------------------------------
Output from '/usr/bin/make test':
PERL_DL_NONLAZY=1 "/home/cpan/bin/perl/bin/perl5.39.5" "-MExtUtils::Command::MM" "-MTest::Harness" "-e" "undef *Test::Harness::Switches; test_harness(0, 'blib/lib', 'blib/arch')" t/*.t
# Testing MooseX::Extended 0.35, Perl 5.039005, /home/cpan/bin/perl/bin/perl5.39.5
t/00-load.t ............... ok
# 
# Versions for all modules listed in MYMETA.json (including optional ones):
# 
# === Configure Requires ===
# 
#     Module              Want Have
#     ------------------- ---- ----
#     ExtUtils::MakeMaker  any 7.70
# 
# === Build Requires ===
# 
#     Module              Want Have
#     ------------------- ---- ----
#     ExtUtils::MakeMaker  any 7.70
# 
# === Test Requires ===
# 
#     Module              Want     Have
#     ------------------- ---- --------
#     Capture::Tiny        any     0.48
#     DateTime             any     1.65
#     ExtUtils::MakeMaker  any     7.70
#     File::Spec           any     3.90
#     List::Util           any     1.63
#     Scalar::Util         any     1.63
#     Test::Builder        any 1.302196
#     Test::More           any 1.302196
#     Test::Most           any     0.38
#     base                 any     2.27
#     lib                  any     0.65
#     version              any   0.9930
# 
# === Test Recommends ===
# 
#     Module              Want     Have
#     --------------- -------- --------
#     CPAN::Meta      2.120900 2.150010
#     Data::Printer        any 1.001001
#     IO::Async::Loop      any  missing
# 
# === Runtime Requires ===
# 
#     Module                            Want     Have
#     ----------------------------- -------- --------
#     B::Hooks::AtRuntime                  8        8
#     Carp                               any     1.54
#     Data::Printer                      any 1.001001
#     Exporter                           any     5.77
#     Import::Into                       any 1.002005
#     Module::Load                       any     0.36
#     Moose                              any   2.2206
#     Moose::Exception                   any   2.2206
#     Moose::Exception::Role::Class      any   2.2206
#     Moose::Exporter                    any   2.2206
#     Moose::Meta::Role                  any   2.2206
#     Moose::Role                        any   2.2206
#     Moose::Util                        any   2.2206
#     MooseX::Role::WarnOnConflict       any     0.01
#     MooseX::StrictConstructor          any     0.21
#     Ref::Util                          any    0.204
#     Storable                           any     3.32
#     Type::Library                      any 2.004000
#     Type::Params                       any 2.004000
#     Type::Tiny                    1.012004 2.004000
#     Type::Utils                        any 2.004000
#     Types::Common::Numeric             any 2.004000
#     Types::Common::String              any 2.004000
#     Types::Standard                    any 2.004000
#     constant                           any     1.33
#     feature                            any     1.85
#     mro                                any     1.28
#     namespace::autoclean               any     0.29
#     parent                             any    0.241
#     perl                          5.020000 5.039005
#     strict                             any     1.13
#     true                            v1.0.2   v1.0.2
#     warnings                           any     1.67
# 
# === Runtime Suggests ===
# 
#     Module                        Want     Have
#     ------------------------- -------- --------
#     Function::Parameters      2.001003 2.002004
#     Future                        0.48  missing
#     Future::AsyncAwait            0.58  missing
#     Syntax::Keyword::MultiSub     0.03  missing
#     Syntax::Keyword::Try         0.027  missing
# 
t/00-report-prereqs.t ..... ok
t/async.t ................. skipped: Could not load Future::AsyncAwait: Can't locate Future/AsyncAwait.pm in @INC (you may need to install the Future::AsyncAwait module) (@INC entries checked: t/lib /home/cpan/.cpan/build/MooseX-Extended-0.35-0/blib/lib /home/cpan/.cpan/build/MooseX-Extended-0.35-0/blib/arch /home/cpan/bin/perl/lib/site_perl/5.39.5/x86_64-linux /home/cpan/bin/perl/lib/site_perl/5.39.5 /home/cpan/bin/perl/lib/5.39.5/x86_64-linux /home/cpan/bin/perl/lib/5.39.5 .) at /home/cpan/bin/perl/lib/5.39.5/Module/Load.pm line 78.
t/basic.t ................. ok
t/clone.t ................. ok
t/configuration.t ......... ok
t/custom.t ................ ok
t/exceptions.t ............ ok
t/excludes_field_param.t .. ok
t/field_init_arg.t ........ ok
t/import-lists.t .......... skipped: Could not load Syntax::Keyword::Try: Can't locate Syntax/Keyword/Try.pm in @INC (you may need to install the Syntax::Keyword::Try module) (@INC entries checked: t/lib /home/cpan/.cpan/build/MooseX-Extended-0.35-0/blib/lib /home/cpan/.cpan/build/MooseX-Extended-0.35-0/blib/arch /home/cpan/bin/perl/lib/site_perl/5.39.5/x86_64-linux /home/cpan/bin/perl/lib/site_perl/5.39.5 /home/cpan/bin/perl/lib/5.39.5/x86_64-linux /home/cpan/bin/perl/lib/5.39.5 .) at /home/cpan/bin/perl/lib/5.39.5/Module/Load.pm line 78.
t/inheritance.t ........... ok
t/inline.t ................ ok
t/method-keyword.t ........ ok
t/moose_compatibility.t ... ok
t/multimethods.t .......... skipped: Could not load Syntax::Keyword::MultiSub: Can't locate Syntax/Keyword/MultiSub.pm in @INC (you may need to install the Syntax::Keyword::MultiSub module) (@INC entries checked: t/lib /home/cpan/.cpan/build/MooseX-Extended-0.35-0/blib/lib /home/cpan/.cpan/build/MooseX-Extended-0.35-0/blib/arch /home/cpan/bin/perl/lib/site_perl/5.39.5/x86_64-linux /home/cpan/bin/perl/lib/site_perl/5.39.5 /home/cpan/bin/perl/lib/5.39.5/x86_64-linux /home/cpan/bin/perl/lib/5.39.5 .) at /home/cpan/bin/perl/lib/5.39.5/Module/Load.pm line 78.
t/roles.t ................. ok
t/rwp.t ................... ok
t/stringy-eval.t .......... ok
t/try.t ................... skipped: Could not load Syntax::Keyword::Try: Can't locate Syntax/Keyword/Try.pm in @INC (you may need to install the Syntax::Keyword::Try module) (@INC entries checked: t/lib /home/cpan/.cpan/build/MooseX-Extended-0.35-0/blib/lib /home/cpan/.cpan/build/MooseX-Extended-0.35-0/blib/arch /home/cpan/bin/perl/lib/site_perl/5.39.5/x86_64-linux /home/cpan/bin/perl/lib/site_perl/5.39.5 /home/cpan/bin/perl/lib/5.39.5/x86_64-linux /home/cpan/bin/perl/lib/5.39.5 .) at /home/cpan/bin/perl/lib/5.39.5/Module/Load.pm line 78.
t/types.t ................. ok
t/warnings.t .............. ok
All tests successful.
Files=22, Tests=115,  6 wallclock secs ( 0.08 usr  0.01 sys +  5.48 cusr  0.86 csys =  6.43 CPU)
Result: PASS
------------------------------
PREREQUISITES
------------------------------
Prerequisite modules loaded:
requires:
    Module                        Need     Have    
    ----------------------------- -------- --------
    B::Hooks::AtRuntime           8        8       
    Carp                          0        1.54    
    constant                      0        1.33    
    Data::Printer                 0        1.001001
    Exporter                      0        5.77    
    feature                       0        1.85    
    Import::Into                  0        1.002005
    Module::Load                  0        0.36    
    Moose                         0        2.2206  
    Moose::Exception              0        2.2206  
    Moose::Exception::Role::Class 0        2.2206  
    Moose::Exporter               0        2.2206  
    Moose::Meta::Role             0        2.2206  
    Moose::Role                   0        2.2206  
    Moose::Util                   0        2.2206  
    MooseX::Role::WarnOnConflict  0        0.01    
    MooseX::StrictConstructor     0        0.21    
    mro                           0        1.28    
    namespace::autoclean          0        0.29    
    parent                        0        0.241   
    perl                          5.020000 5.039005
    Ref::Util                     0        0.204   
    Storable                      0        3.32    
    strict                        0        1.13    
    true                          v1.0.2   v1.0.2  
    Type::Library                 0        2.004000
    Type::Params                  0        2.004000
    Type::Tiny                    1.012004 2.004000
    Type::Utils                   0        2.004000
    Types::Common::Numeric        0        2.004000
    Types::Common::String         0        2.004000
    Types::Standard               0        2.004000
    warnings                      0        1.67    
build_requires:
    Module                        Need     Have    
    ----------------------------- -------- --------
    base                          0        2.27    
    Capture::Tiny                 0        0.48    
    DateTime                      0        1.65    
    ExtUtils::MakeMaker           0        7.70    
    File::Spec                    0        3.90    
    lib                           0        0.65    
    List::Util                    0        1.63    
    Scalar::Util                  0        1.63    
    Test::Builder                 0        1.302196
    Test::More                    0        1.302196
    Test::Most                    0        0.38    
    version                       0        0.9930  
configure_requires:
    Module                        Need     Have    
    ----------------------------- -------- --------
    ExtUtils::MakeMaker           0        7.70    
------------------------------
ENVIRONMENT AND OTHER CONTEXT
------------------------------
Environment variables:
    AUTOMATED_TESTING = 1
    DATE_MANIP_TEST_DM5 = 1
    LANG = C.UTF-8
    LC_COLLATE = C
    NONINTERACTIVE_TESTING = 1
    NO_NETWORK_TESTING = 1
    PATH = /home/cpan/bin/perl/bin:/usr/local/sbin:/usr/local/bin:/usr/sbin:/usr/bin:/sbin:/bin
    PERL5LIB = 
    PERL5OPT = 
    PERL5_CPANPLUS_IS_RUNNING = 24454
    PERL5_CPAN_IS_RUNNING = 24454
    PERL_MM_USE_DEFAULT = 1
    PERL_USE_UNSAFE_INC = 1
    SHELL = /bin/bash
    TERM = screen
Perl special variables (and OS-specific diagnostics, for MSWin32):
    $^X = /home/cpan/bin/perl/bin/perl5.39.5
    $UID/$EUID = 1001 / 1001
    $GID = 1001 1001
    $EGID = 1001 1001
Perl module toolchain versions installed:
    Module              Have    
    ------------------- --------
    CPAN                2.36    
    CPAN::Meta          2.150010
    Cwd                 3.90    
    ExtUtils::CBuilder  0.280240
    ExtUtils::Command   7.70    
    ExtUtils::Install   2.22    
    ExtUtils::MakeMaker 7.70    
    ExtUtils::Manifest  1.75    
    ExtUtils::ParseXS   3.51    
    File::Spec          3.90    
    JSON                4.10    
    JSON::PP            4.16    
    Module::Build       0.4234  
    Module::Signature   n/a     
    Parse::CPAN::Meta   2.150010
    Test2               1.302196
    Test::Harness       3.48    
    Test::More          1.302196
    YAML                1.30    
    YAML::Syck          n/a     
    version             0.9930  
--
Summary of my perl5 (revision 5 version 39 subversion 5) configuration:
  Commit id: 18cfa0e36983c43e06f88f6ffebe99d3788a0e6c
  Platform:
    osname=linux
    osvers=6.1.62-0-lts
    archname=x86_64-linux
    uname='linux cjg-alpine3 6.1.62-0-lts #1-alpine smp preempt_dynamic thu, 09 nov 2023 10:11:50 +0000 x86_64 linux '
    config_args='-des -Dprefix=/home/cpan/bin/perl -Dscriptdir=/home/cpan/bin/perl/bin -Dusedevel -Duse64bitall'
    hint=recommended
    useposix=true
    d_sigaction=define
    useithreads=undef
    usemultiplicity=undef
    use64bitint=define
    use64bitall=define
    uselongdouble=undef
    usemymalloc=n
    default_inc_excludes_dot=define
  Compiler:
    cc='cc'
    ccflags ='-D_GNU_SOURCE -fwrapv -fno-strict-aliasing -pipe -fstack-protector-strong -D_LARGEFILE_SOURCE -D_FILE_OFFSET_BITS=64'
    optimize='-O2'
    cppflags='-D_GNU_SOURCE -fwrapv -fno-strict-aliasing -pipe -fstack-protector-strong'
    ccversion=''
    gccversion='12.2.1 20220924'
    gccosandvers=''
    intsize=4
    longsize=8
    ptrsize=8
    doublesize=8
    byteorder=12345678
    doublekind=3
    d_longlong=define
    longlongsize=8
    d_longdbl=define
    longdblsize=16
    longdblkind=3
    ivtype='long'
    ivsize=8
    nvtype='double'
    nvsize=8
    Off_t='off_t'
    lseeksize=8
    alignbytes=8
    prototype=define
  Linker and Libraries:
    ld='cc'
    ldflags =' -fstack-protector-strong -L/usr/local/lib'
    libpth=/usr/lib /usr/local/lib /lib
    libs=-lpthread -ldb -ldl -lm -lcrypt -lutil -lc
    perllibs=-lpthread -ldl -lm -lcrypt -lutil -lc
    libc=/usr/lib/libc.a
    so=so
    useshrplib=false
    libperl=libperl.a
    gnulibc_version=''
  Dynamic Linking:
    dlsrc=dl_dlopen.xs
    dlext=so
    d_dlsymun=undef
    ccdlflags='-Wl,-E'
    cccdlflags='-fPIC'
    lddlflags='-shared -O2 -L/usr/local/lib -fstack-protector-strong'
Characteristics of this binary (from libperl): 
  Compile-time options:
    HAS_LONG_DOUBLE
    HAS_STRTOLD
    HAS_TIMES
    PERLIO_LAYERS
    PERL_COPY_ON_WRITE
    PERL_DONT_CREATE_GVSV
    PERL_HASH_FUNC_SIPHASH13
    PERL_HASH_USE_SBOX32
    PERL_MALLOC_WRAP
    PERL_OP_PARENT
    PERL_PRESERVE_IVUV
    PERL_USE_DEVEL
    PERL_USE_SAFE_PUTENV
    USE_64_BIT_ALL
    USE_64_BIT_INT
    USE_LARGE_FILES
    USE_LOCALE
    USE_LOCALE_COLLATE
    USE_LOCALE_CTYPE
    USE_LOCALE_NUMERIC
    USE_LOCALE_TIME
    USE_PERLIO
    USE_PERL_ATOF
  Built under linux
  Compiled at Nov 11 2023 21:39:32
  %ENV:
    PERL5LIB=""
    PERL5OPT=""
    PERL5_CPANPLUS_IS_RUNNING="24454"
    PERL5_CPAN_IS_RUNNING="24454"
    PERL_MM_USE_DEFAULT="1"
    PERL_USE_UNSAFE_INC="1"
  @INC:
    /home/cpan/bin/perl/lib/site_perl/5.39.5/x86_64-linux
    /home/cpan/bin/perl/lib/site_perl/5.39.5
    /home/cpan/bin/perl/lib/5.39.5/x86_64-linux
    /home/cpan/bin/perl/lib/5.39.5
    .