Mojolicious-Plugin-FormFieldsFromJSON v1.03 Perl 5 v5.43.4 i86pc-solaris-64

Status
Pass
From
Carlos Guevara
Dist
Mojolicious-Plugin-FormFieldsFromJSON v1.03
Platform
Perl 5 v5.43.4 i86pc-solaris-64
Date
2025-10-20 00:09:34
ID
0f4ab72e-ad49-11f0-a7a2-a45ad5e6635d
This distribution has been tested as part of the CPAN Testers
project, supporting the Perl programming language.  See
http://wiki.cpantesters.org/ for more information or email
questions to cpan-testers-discuss@perl.org


--
Dear Renee Baecker,

This is a computer-generated report for Mojolicious-Plugin-FormFieldsFromJSON-1.03
on perl 5.43.4, created by CPAN-Reporter-1.2020.

Thank you for uploading your work to CPAN.  Congratulations!
All tests were successful.

Sections of this report:

    * Tester comments
    * Program output
    * Prerequisites
    * Environment and other context

------------------------------
TESTER COMMENTS
------------------------------

Additional comments from tester:

this report is from an automated smoke testing program
and was not reviewed by a human for accuracy

------------------------------
PROGRAM OUTPUT
------------------------------

Output from '/usr/bin/make test':

PERL_DL_NONLAZY=1 "/export/home/cpan/bin/perl/bin/perl5.43.4" "-MExtUtils::Command::MM" "-MTest::Harness" "-e" "undef *Test::Harness::Switches; test_harness(0, 'blib/lib', 'blib/arch')" t/*.t t/fields/*.t t/validation/*.t
t/02_two_fields.t ...................................... ok
t/03_template.t ........................................ ok
t/04_fieldtype_template.t .............................. ok
t/05_template_twofields.t .............................. ok
t/06_fieldtype_template_select.t ....................... ok
t/07_template_configured_in_json.t ..................... ok
t/08_forms.t ........................................... ok
t/09_fields.t .......................................... ok
t/10_global_attributes.t ............................... ok
t/11_global_attributes_plus_field_attributes.t ......... ok
t/12_global_attributes_multirequest.t .................. ok
t/13_alias.t ........................................... ok
t/14_translation.t ..................................... ok
t/15_additional_type.t ................................. ok
t/16_dynamic_config.t .................................. ok
t/17_template_info.t ................................... ok
t/18_template_message.t ................................ ok
t/19_multiple_path.t ................................... ok
t/20_form_field_by_name.t .............................. ok
t/21_form_fields_any_stash.t ........................... ok
t/22_form_fields_without_a_field.t ..................... ok
t/23_template_file.t ................................... ok
t/basic.t .............................................. ok
t/fields/01_textfield.t ................................ ok
t/fields/02_textfield_default.t ........................ ok
t/fields/03_textfield_attributes.t ..................... ok
t/fields/04_select.t ................................... ok
t/fields/05_select_preselect.t ......................... ok
t/fields/06_select_multiple.t .......................... ok
t/fields/07_select_preselect_multiple.t ................ ok
t/fields/08_select_disabled_value.t .................... ok
t/fields/09_select_hash.t .............................. ok
t/fields/10_select_optgroup.t .......................... ok
t/fields/11_select_umlaut.t ............................ ok
t/fields/12_hidden.t ................................... ok
t/fields/13_textfield_with_attributes.t ................ ok
t/fields/14_select_with_attributes.t ................... ok
t/fields/15_password.t ................................. ok
t/fields/16_textarea.t ................................. ok
t/fields/17_textarea_with_cols_and_rows.t .............. ok
t/fields/18_radio.t .................................... ok
t/fields/19_radio_group.t .............................. ok
t/fields/20_radio_group_one_config.t ................... ok
t/fields/21_radio_group_one_config_disabled.t .......... ok
t/fields/22_radio_group_one_config_disabled_code.t ..... ok
t/fields/23_radio_group_disabled_code.t ................ ok
t/fields/24_radio_group_one_config_preselect.t ......... ok
t/fields/25_radio_group_template.t ..................... ok
t/fields/26_radio_group_one_config_template.t .......... ok
t/fields/27_checkbox.t ................................. ok
t/fields/28_checkbox_group.t ........................... ok
t/fields/29_checkbox_group_one_config.t ................ ok
t/fields/30_checkbox_group_one_config_disabled.t ....... ok
t/fields/31_checkbox_group_one_config_disabled_code.t .. ok
t/fields/32_checkbox_group_disabled_code.t ............. ok
t/fields/33_checkbox_group_one_config_preselect.t ...... ok
t/fields/34_checkbox_group_template.t .................. ok
t/fields/35_checkbox_group_one_config_template.t ....... ok
t/fields/36_radio_after_element.t ...................... ok
t/fields/37_checkbox_after_element.t ................... ok
t/fields/38_radio_show_value.t ......................... ok
t/fields/39_checkbox_show_value.t ...................... ok
t/fields/40_radio_translate_sublabel.t ................. ok
t/fields/41_checkbox_translate_sublabel.t .............. ok
# 9.42
t/fields/42_select_data_passed.t ....................... ok
t/fields/43_textfield_data_passed.t .................... ok
t/fields/44_hidden_data_passed.t ....................... ok
t/fields/45_textarea_data_passed.t ..................... ok
t/fields/46_radio_group_data_passed.t .................. ok
t/fields/47_checkbox_group_data_passed.t ............... ok
t/fields/48_glue.t ..................................... ok
t/fields/49_select_preselect_stash.t ................... ok
t/fields/50_radio_preselect_stash.t .................... ok
t/fields/51_checkbox_preselect_stash.t ................. ok
t/fields/52_select_data_callback.t ..................... ok
t/validation/01_textfield.t ............................ ok
t/validation/02_textfield_required.t ................... ok
t/validation/03_unset_optional.t ....................... ok
t/validation/04_unset_required.t ....................... ok
t/validation/05_error_message.t ........................ ok
t/validation/06_specific_error_message.t ............... ok
t/validation/07_mixed_errors.t ......................... ok
t/validation/08_required_error_message.t ............... ok
t/validation/09_required_no_error_message.t ............ ok
t/validation/10_change_value.t ......................... ok
t/validation/11_textfield_filters.t .................... ok
t/validation/12_textfield_required_filters.t ........... ok
All tests successful.
Files=87, Tests=450, 40 wallclock secs ( 0.26 usr  0.19 sys + 33.40 cusr  5.14 csys = 39.00 CPU)
Result: PASS

------------------------------
PREREQUISITES
------------------------------

Prerequisite modules loaded:

requires:

    Module              Need  Have    
    ------------------- ----- --------
    Mojo::File          0     0       
    Mojolicious         6.50  9.42    
    perl                5.010 5.043004

build_requires:

    Module              Need  Have    
    ------------------- ----- --------
    ExtUtils::MakeMaker 0     7.76    

configure_requires:

    Module              Need  Have    
    ------------------- ----- --------
    ExtUtils::MakeMaker 0     7.76    


------------------------------
ENVIRONMENT AND OTHER CONTEXT
------------------------------

Environment variables:

    AUTOMATED_TESTING = 1
    CJG_PERL_COMMIT = 6c696391d6
    DATE_MANIP_TEST_DM5 = 1
    LANG = en_US.UTF-8
    LC_ALL = C
    NONINTERACTIVE_TESTING = 1
    NO_NETWORK_TESTING = 1
    PATH = /export/home/cpan/bin/perl/bin:/usr/bin:/usr/sbin:/sbin:/opt/ooce/bin:/usr/gnu/bin
    PERL5LIB = 
    PERL5OPT = 
    PERL5_CPANPLUS_IS_RUNNING = 14326
    PERL5_CPAN_IS_RUNNING = 14326
    PERL_MM_USE_DEFAULT = 1
    PERL_PERTURB_KEYS = 0
    PERL_USE_UNSAFE_INC = 1
    SHELL = /usr/bin/bash
    TERM = screen

Perl special variables (and OS-specific diagnostics, for MSWin32):

    $^X = /export/home/cpan/bin/perl/bin/perl5.43.4
    $UID/$EUID = 101 / 101
    $GID = 1 1
    $EGID = 1 1

Perl module toolchain versions installed:

    Module              Have    
    ------------------- --------
    CPAN                2.38    
    CPAN::Meta          2.150010
    Cwd                 3.94    
    ExtUtils::CBuilder  0.280242
    ExtUtils::Command   7.76    
    ExtUtils::Install   2.22    
    ExtUtils::MakeMaker 7.76    
    ExtUtils::Manifest  1.75    
    ExtUtils::ParseXS   3.60    
    File::Spec          3.94    
    JSON                4.10    
    JSON::PP            4.16    
    Module::Build       0.4234  
    Module::Signature   n/a     
    Parse::CPAN::Meta   2.150010
    Test2               1.302214
    Test::Harness       3.52    
    Test::More          1.302214
    YAML                1.31    
    YAML::Syck          1.36    
    version             0.9933  


--

Summary of my perl5 (revision 5 version 43 subversion 4) configuration:
  Commit id: 6c696391d6a59512901eaa88e2a6ab65f548021e
  Platform:
    osname=solaris
    osvers=2.11
    archname=i86pc-solaris-64
    uname='sunos cjg-omniosce 5.11 omnios-r151052-92934720d80 i86pc i386 i86pc '
    config_args='-des -Dprefix=/export/home/cpan/bin/perl -Dscriptdir=/export/home/cpan/bin/perl/bin -Dusedevel -Duse64bitall -Dcc=gcc'
    hint=recommended
    useposix=true
    d_sigaction=define
    useithreads=undef
    usemultiplicity=undef
    use64bitint=define
    use64bitall=define
    uselongdouble=undef
    usemymalloc=n
    default_inc_excludes_dot=define
  Compiler:
    cc='gcc'
    ccflags ='-m64 -fwrapv -fno-strict-aliasing -pipe -fstack-protector-strong -D_LARGEFILE_SOURCE -D_FILE_OFFSET_BITS=64 -D_FORTIFY_SOURCE=2'
    optimize='-O'
    cppflags='-m64 -fwrapv -fno-strict-aliasing -pipe -fstack-protector-strong'
    ccversion=''
    gccversion='14.2.0'
    gccosandvers=''
    intsize=4
    longsize=8
    ptrsize=8
    doublesize=8
    byteorder=12345678
    doublekind=3
    d_longlong=define
    longlongsize=8
    d_longdbl=define
    longdblsize=16
    longdblkind=3
    ivtype='long'
    ivsize=8
    nvtype='double'
    nvsize=8
    Off_t='off_t'
    lseeksize=8
    alignbytes=8
    prototype=define
  Linker and Libraries:
    ld='gcc'
    ldflags =' -m64 -fstack-protector-strong -L/usr/gnu/lib '
    libpth=/opt/gcc-14/lib /usr/lib /usr/gnu/lib /usr/ccs/lib
    libs=-lpthread -lsocket -lnsl -ldl -lm -lc
    perllibs=-lpthread -lsocket -lnsl -ldl -lm -lc
    libc=/lib/libc.so
    so=so
    useshrplib=true
    libperl=libperl.so
    gnulibc_version=''
  Dynamic Linking:
    dlsrc=dl_dlopen.xs
    dlext=so
    d_dlsymun=undef
    ccdlflags='  -R /export/home/cpan/bin/perl/lib/5.43.4/i86pc-solaris-64/CORE'
    cccdlflags='-fPIC'
    lddlflags=' -shared -m64 -L/usr/gnu/lib -fstack-protector-strong'


Characteristics of this binary (from libperl): 
  Compile-time options:
    HAS_LONG_DOUBLE
    HAS_STRTOLD
    HAS_TIMES
    PERLIO_LAYERS
    PERL_COPY_ON_WRITE
    PERL_DONT_CREATE_GVSV
    PERL_HASH_FUNC_SIPHASH13
    PERL_HASH_USE_SBOX32
    PERL_MALLOC_WRAP
    PERL_OP_PARENT
    PERL_PRESERVE_IVUV
    PERL_USE_DEVEL
    PERL_USE_SAFE_PUTENV
    USE_64_BIT_ALL
    USE_64_BIT_INT
    USE_LARGE_FILES
    USE_LOCALE
    USE_LOCALE_COLLATE
    USE_LOCALE_CTYPE
    USE_LOCALE_NUMERIC
    USE_LOCALE_TIME
    USE_PERLIO
    USE_PERL_ATOF
  Built under solaris
  Compiled at Oct 18 2025 22:24:15
  %ENV:
    PERL5LIB=""
    PERL5OPT=""
    PERL5_CPANPLUS_IS_RUNNING="14326"
    PERL5_CPAN_IS_RUNNING="14326"
    PERL_MM_USE_DEFAULT="1"
    PERL_PERTURB_KEYS="0"
    PERL_USE_UNSAFE_INC="1"
  @INC:
    /export/home/cpan/bin/perl/lib/site_perl/5.43.4/i86pc-solaris-64
    /export/home/cpan/bin/perl/lib/site_perl/5.43.4
    /export/home/cpan/bin/perl/lib/5.43.4/i86pc-solaris-64
    /export/home/cpan/bin/perl/lib/5.43.4
    .