WebAPI-DBIC v0.004002 Perl 5 v5.27.8 OpenBSD.amd64-openbsd
- Status
- Pass
- From
- Alceu Rodrigues de Freitas Junior
- Dist
-
WebAPI-DBIC v0.004002
- Platform
- Perl 5 v5.27.8 OpenBSD.amd64-openbsd
- Date
- 2018-01-28 04:02:29
- ID
- 0f03f5b6-03e0-11e8-af6f-94abd6fa0a8b
This distribution has been tested as part of the CPAN Testers
project, supporting the Perl programming language. See
http://wiki.cpantesters.org/ for more information or email
questions to cpan-testers-discuss@perl.org
--
Dear Tim Bunce,
This is a computer-generated report for WebAPI-DBIC-0.004002
on perl 5.27.8, created by CPAN-Reporter-1.2018.
Thank you for uploading your work to CPAN. Congratulations!
All tests were successful.
Sections of this report:
* Tester comments
* Program output
* Prerequisites
* Environment and other context
------------------------------
TESTER COMMENTS
------------------------------
Additional comments from tester:
this report is from an automated smoke testing program
and was not reviewed by a human for accuracy
------------------------------
PROGRAM OUTPUT
------------------------------
Output from '/usr/bin/make test':
PERL_DL_NONLAZY=1 "/home/vegeta/perl5/perlbrew/perls/perl-5.27.8/bin/perl5.27.8" "-MExtUtils::Command::MM" "-MTest::Harness" "-e" "undef *Test::Harness::Switches; test_harness(0, 'blib/lib', 'blib/arch')" t/*.t t/media-active-model/*.t t/media-hal/*.t t/media-jsonapi/*.t
perl5.27.8:/home/vegeta/perl5/perlbrew/perls/perl-5.27.8/lib/site_perl/5.27.8/OpenBSD.amd64-openbsd/auto/version/vxs/vxs.so: undefined symbol 'new_numeric'
perl5.27.8:/home/vegeta/perl5/perlbrew/perls/perl-5.27.8/lib/site_perl/5.27.8/OpenBSD.amd64-openbsd/auto/version/vxs/vxs.so: undefined symbol 'new_numeric'
webapi-dbic-any.psgi syntax OK
webapi-dbic-demo.psgi syntax OK
t/00-compile.t .......................... ok
(in cleanup) Test::DBIx::Class::SchemaManager::drop_source(): DBI Exception: DBD::SQLite::db do failed: no such table: city at /home/vegeta/perl5/perlbrew/perls/perl-5.27.8/lib/site_perl/5.27.8/Test/DBIx/Class/SchemaManager.pm line 225
# Can't initialize a schema with the given configuration
# Returned Error: Can't locate DBIx/Class/Fixtures.pm in @INC (you may need to install the DBIx::Class::Fixtures module) (@INC contains: t/lib /mnt/cpan_build_dir/vegeta/WebAPI-DBIC-0.004002-0/blib/lib /mnt/cpan_build_dir/vegeta/WebAPI-DBIC-0.004002-0/blib/arch /home/vegeta/perl5/perlbrew/perls/perl-5.27.8/lib/site_perl/5.27.8/OpenBSD.amd64-openbsd /home/vegeta/perl5/perlbrew/perls/perl-5.27.8/lib/site_perl/5.27.8 /home/vegeta/perl5/perlbrew/perls/perl-5.27.8/lib/5.27.8/OpenBSD.amd64-openbsd /home/vegeta/perl5/perlbrew/perls/perl-5.27.8/lib/5.27.8 .) at t/lib/Test/DBIx/Class/FixtureCommand/TestFixtureCommand.pm line 4.
# BEGIN failed--compilation aborted at t/lib/Test/DBIx/Class/FixtureCommand/TestFixtureCommand.pm line 4.
# Compilation failed in require at /home/vegeta/perl5/perlbrew/perls/perl-5.27.8/lib/site_perl/5.27.8/Module/Runtime.pm line 314.
# configuration: {
# 'connect_info' => {
# 'dsn' => 'dbi:SQLite:dbname=temp_test_db'
# },
# 'fixture_class' => '::TestFixtureCommand',
# 'fixture_sets' => {},
# 'schema_class' => 'TestSchema'
# }
t/10-basics-req.t ....................... skipped: Skipping remaining tests since we don't have a schema
(in cleanup) Test::DBIx::Class::SchemaManager::drop_source(): DBI Exception: DBD::SQLite::db do failed: no such table: city at /home/vegeta/perl5/perlbrew/perls/perl-5.27.8/lib/site_perl/5.27.8/Test/DBIx/Class/SchemaManager.pm line 225
# Can't initialize a schema with the given configuration
# Returned Error: Can't locate DBIx/Class/Fixtures.pm in @INC (you may need to install the DBIx::Class::Fixtures module) (@INC contains: t/lib /mnt/cpan_build_dir/vegeta/WebAPI-DBIC-0.004002-0/blib/lib /mnt/cpan_build_dir/vegeta/WebAPI-DBIC-0.004002-0/blib/arch /home/vegeta/perl5/perlbrew/perls/perl-5.27.8/lib/site_perl/5.27.8/OpenBSD.amd64-openbsd /home/vegeta/perl5/perlbrew/perls/perl-5.27.8/lib/site_perl/5.27.8 /home/vegeta/perl5/perlbrew/perls/perl-5.27.8/lib/5.27.8/OpenBSD.amd64-openbsd /home/vegeta/perl5/perlbrew/perls/perl-5.27.8/lib/5.27.8 .) at t/lib/Test/DBIx/Class/FixtureCommand/TestFixtureCommand.pm line 4.
# BEGIN failed--compilation aborted at t/lib/Test/DBIx/Class/FixtureCommand/TestFixtureCommand.pm line 4.
# Compilation failed in require at /home/vegeta/perl5/perlbrew/perls/perl-5.27.8/lib/site_perl/5.27.8/Module/Runtime.pm line 314.
# configuration: {
# 'connect_info' => {
# 'dsn' => 'dbi:SQLite:dbname=temp_test_db'
# },
# 'fixture_class' => '::TestFixtureCommand',
# 'fixture_sets' => {},
# 'schema_class' => 'TestSchema'
# }
t/11-paging-req.t ....................... skipped: Skipping remaining tests since we don't have a schema
(in cleanup) Test::DBIx::Class::SchemaManager::drop_source(): DBI Exception: DBD::SQLite::db do failed: no such table: cd_to_producer at /home/vegeta/perl5/perlbrew/perls/perl-5.27.8/lib/site_perl/5.27.8/Test/DBIx/Class/SchemaManager.pm line 225
# Can't initialize a schema with the given configuration
# Returned Error: Can't locate DBIx/Class/Fixtures.pm in @INC (you may need to install the DBIx::Class::Fixtures module) (@INC contains: t/lib /mnt/cpan_build_dir/vegeta/WebAPI-DBIC-0.004002-0/blib/lib /mnt/cpan_build_dir/vegeta/WebAPI-DBIC-0.004002-0/blib/arch /home/vegeta/perl5/perlbrew/perls/perl-5.27.8/lib/site_perl/5.27.8/OpenBSD.amd64-openbsd /home/vegeta/perl5/perlbrew/perls/perl-5.27.8/lib/site_perl/5.27.8 /home/vegeta/perl5/perlbrew/perls/perl-5.27.8/lib/5.27.8/OpenBSD.amd64-openbsd /home/vegeta/perl5/perlbrew/perls/perl-5.27.8/lib/5.27.8 .) at t/lib/Test/DBIx/Class/FixtureCommand/TestFixtureCommand.pm line 4.
# BEGIN failed--compilation aborted at t/lib/Test/DBIx/Class/FixtureCommand/TestFixtureCommand.pm line 4.
# Compilation failed in require at /home/vegeta/perl5/perlbrew/perls/perl-5.27.8/lib/site_perl/5.27.8/Module/Runtime.pm line 314.
# configuration: {
# 'connect_info' => {
# 'dsn' => 'dbi:SQLite:dbname=temp_test_db'
# },
# 'fixture_class' => '::TestFixtureCommand',
# 'fixture_sets' => {},
# 'schema_class' => 'TestSchema'
# }
t/12-searching-req.t .................... skipped: Skipping remaining tests since we don't have a schema
# Can't initialize a schema with the given configuration
# Returned Error: Can't locate DBIx/Class/Fixtures.pm in @INC (you may need to install the DBIx::Class::Fixtures module) (@INC contains: t/lib /mnt/cpan_build_dir/vegeta/WebAPI-DBIC-0.004002-0/blib/lib /mnt/cpan_build_dir/vegeta/WebAPI-DBIC-0.004002-0/blib/arch /home/vegeta/perl5/perlbrew/perls/perl-5.27.8/lib/site_perl/5.27.8/OpenBSD.amd64-openbsd /home/vegeta/perl5/perlbrew/perls/perl-5.27.8/lib/site_perl/5.27.8 /home/vegeta/perl5/perlbrew/perls/perl-5.27.8/lib/5.27.8/OpenBSD.amd64-openbsd /home/vegeta/perl5/perlbrew/perls/perl-5.27.8/lib/5.27.8 .) at t/lib/Test/DBIx/Class/FixtureCommand/TestFixtureCommand.pm line 4.
# BEGIN failed--compilation aborted at t/lib/Test/DBIx/Class/FixtureCommand/TestFixtureCommand.pm line 4.
# Compilation failed in require at /home/vegeta/perl5/perlbrew/perls/perl-5.27.8/lib/site_perl/5.27.8/Module/Runtime.pm line 314.
# configuration: {
# 'connect_info' => {
# 'dsn' => 'dbi:SQLite:dbname=temp_test_db'
# },
# 'fixture_class' => '::TestFixtureCommand',
# 'fixture_sets' => {},
# 'schema_class' => 'TestSchema'
# }
t/13-fields-req.t ....................... skipped: Skipping remaining tests since we don't have a schema
# Can't initialize a schema with the given configuration
# Returned Error: Can't locate DBIx/Class/Fixtures.pm in @INC (you may need to install the DBIx::Class::Fixtures module) (@INC contains: t/lib /mnt/cpan_build_dir/vegeta/WebAPI-DBIC-0.004002-0/blib/lib /mnt/cpan_build_dir/vegeta/WebAPI-DBIC-0.004002-0/blib/arch /home/vegeta/perl5/perlbrew/perls/perl-5.27.8/lib/site_perl/5.27.8/OpenBSD.amd64-openbsd /home/vegeta/perl5/perlbrew/perls/perl-5.27.8/lib/site_perl/5.27.8 /home/vegeta/perl5/perlbrew/perls/perl-5.27.8/lib/5.27.8/OpenBSD.amd64-openbsd /home/vegeta/perl5/perlbrew/perls/perl-5.27.8/lib/5.27.8 .) at t/lib/Test/DBIx/Class/FixtureCommand/TestFixtureCommand.pm line 4.
# BEGIN failed--compilation aborted at t/lib/Test/DBIx/Class/FixtureCommand/TestFixtureCommand.pm line 4.
# Compilation failed in require at /home/vegeta/perl5/perlbrew/perls/perl-5.27.8/lib/site_perl/5.27.8/Module/Runtime.pm line 314.
# configuration: {
# 'connect_info' => {
# 'dsn' => 'dbi:SQLite:dbname=temp_test_db'
# },
# 'fixture_class' => '::TestFixtureCommand',
# 'fixture_sets' => {},
# 'schema_class' => 'TestSchema'
# }
t/14-distinct-req.t ..................... skipped: Skipping remaining tests since we don't have a schema
# Can't initialize a schema with the given configuration
# Returned Error: Can't locate DBIx/Class/Fixtures.pm in @INC (you may need to install the DBIx::Class::Fixtures module) (@INC contains: t/lib /mnt/cpan_build_dir/vegeta/WebAPI-DBIC-0.004002-0/blib/lib /mnt/cpan_build_dir/vegeta/WebAPI-DBIC-0.004002-0/blib/arch /home/vegeta/perl5/perlbrew/perls/perl-5.27.8/lib/site_perl/5.27.8/OpenBSD.amd64-openbsd /home/vegeta/perl5/perlbrew/perls/perl-5.27.8/lib/site_perl/5.27.8 /home/vegeta/perl5/perlbrew/perls/perl-5.27.8/lib/5.27.8/OpenBSD.amd64-openbsd /home/vegeta/perl5/perlbrew/perls/perl-5.27.8/lib/5.27.8 .) at t/lib/Test/DBIx/Class/FixtureCommand/TestFixtureCommand.pm line 4.
# BEGIN failed--compilation aborted at t/lib/Test/DBIx/Class/FixtureCommand/TestFixtureCommand.pm line 4.
# Compilation failed in require at /home/vegeta/perl5/perlbrew/perls/perl-5.27.8/lib/site_perl/5.27.8/Module/Runtime.pm line 314.
# configuration: {
# 'connect_info' => {
# 'dsn' => 'dbi:SQLite:dbname=temp_test_db'
# },
# 'fixture_class' => '::TestFixtureCommand',
# 'fixture_sets' => {},
# 'schema_class' => 'TestSchema'
# }
t/30-ordering-req.t ..................... skipped: Skipping remaining tests since we don't have a schema
# Can't initialize a schema with the given configuration
# Returned Error: Can't locate DBIx/Class/Fixtures.pm in @INC (you may need to install the DBIx::Class::Fixtures module) (@INC contains: t/lib /mnt/cpan_build_dir/vegeta/WebAPI-DBIC-0.004002-0/blib/lib /mnt/cpan_build_dir/vegeta/WebAPI-DBIC-0.004002-0/blib/arch /home/vegeta/perl5/perlbrew/perls/perl-5.27.8/lib/site_perl/5.27.8/OpenBSD.amd64-openbsd /home/vegeta/perl5/perlbrew/perls/perl-5.27.8/lib/site_perl/5.27.8 /home/vegeta/perl5/perlbrew/perls/perl-5.27.8/lib/5.27.8/OpenBSD.amd64-openbsd /home/vegeta/perl5/perlbrew/perls/perl-5.27.8/lib/5.27.8 .) at t/lib/Test/DBIx/Class/FixtureCommand/TestFixtureCommand.pm line 4.
# BEGIN failed--compilation aborted at t/lib/Test/DBIx/Class/FixtureCommand/TestFixtureCommand.pm line 4.
# Compilation failed in require at /home/vegeta/perl5/perlbrew/perls/perl-5.27.8/lib/site_perl/5.27.8/Module/Runtime.pm line 314.
# configuration: {
# 'connect_info' => {
# 'dsn' => 'dbi:SQLite:dbname=temp_test_db'
# },
# 'fixture_class' => '::TestFixtureCommand',
# 'fixture_sets' => {},
# 'schema_class' => 'TestSchema'
# }
t/50-modify-req.t ....................... skipped: Skipping remaining tests since we don't have a schema
# Can't initialize a schema with the given configuration
# Returned Error: Can't locate DBIx/Class/Fixtures.pm in @INC (you may need to install the DBIx::Class::Fixtures module) (@INC contains: t/lib /mnt/cpan_build_dir/vegeta/WebAPI-DBIC-0.004002-0/blib/lib /mnt/cpan_build_dir/vegeta/WebAPI-DBIC-0.004002-0/blib/arch /home/vegeta/perl5/perlbrew/perls/perl-5.27.8/lib/site_perl/5.27.8/OpenBSD.amd64-openbsd /home/vegeta/perl5/perlbrew/perls/perl-5.27.8/lib/site_perl/5.27.8 /home/vegeta/perl5/perlbrew/perls/perl-5.27.8/lib/5.27.8/OpenBSD.amd64-openbsd /home/vegeta/perl5/perlbrew/perls/perl-5.27.8/lib/5.27.8 .) at t/lib/Test/DBIx/Class/FixtureCommand/TestFixtureCommand.pm line 4.
# BEGIN failed--compilation aborted at t/lib/Test/DBIx/Class/FixtureCommand/TestFixtureCommand.pm line 4.
# Compilation failed in require at /home/vegeta/perl5/perlbrew/perls/perl-5.27.8/lib/site_perl/5.27.8/Module/Runtime.pm line 314.
# configuration: {
# 'connect_info' => {
# 'dsn' => 'dbi:SQLite:dbname=temp_test_db'
# },
# 'fixture_class' => '::TestFixtureCommand',
# 'fixture_sets' => {},
# 'schema_class' => 'TestSchema'
# }
t/53-put_rel-req.t ...................... skipped: Skipping remaining tests since we don't have a schema
# Can't initialize a schema with the given configuration
# Returned Error: Can't locate DBIx/Class/Fixtures.pm in @INC (you may need to install the DBIx::Class::Fixtures module) (@INC contains: t/lib /mnt/cpan_build_dir/vegeta/WebAPI-DBIC-0.004002-0/blib/lib /mnt/cpan_build_dir/vegeta/WebAPI-DBIC-0.004002-0/blib/arch /home/vegeta/perl5/perlbrew/perls/perl-5.27.8/lib/site_perl/5.27.8/OpenBSD.amd64-openbsd /home/vegeta/perl5/perlbrew/perls/perl-5.27.8/lib/site_perl/5.27.8 /home/vegeta/perl5/perlbrew/perls/perl-5.27.8/lib/5.27.8/OpenBSD.amd64-openbsd /home/vegeta/perl5/perlbrew/perls/perl-5.27.8/lib/5.27.8 .) at t/lib/Test/DBIx/Class/FixtureCommand/TestFixtureCommand.pm line 4.
# BEGIN failed--compilation aborted at t/lib/Test/DBIx/Class/FixtureCommand/TestFixtureCommand.pm line 4.
# Compilation failed in require at /home/vegeta/perl5/perlbrew/perls/perl-5.27.8/lib/site_perl/5.27.8/Module/Runtime.pm line 314.
# configuration: {
# 'connect_info' => {
# 'dsn' => 'dbi:SQLite:dbname=temp_test_db'
# },
# 'fixture_class' => '::TestFixtureCommand',
# 'fixture_sets' => {},
# 'schema_class' => 'TestSchema'
# }
t/60-invoke-req.t ....................... skipped: Skipping remaining tests since we don't have a schema
# Can't initialize a schema with the given configuration
# Returned Error: Can't locate DBIx/Class/Fixtures.pm in @INC (you may need to install the DBIx::Class::Fixtures module) (@INC contains: t/lib /mnt/cpan_build_dir/vegeta/WebAPI-DBIC-0.004002-0/blib/lib /mnt/cpan_build_dir/vegeta/WebAPI-DBIC-0.004002-0/blib/arch /home/vegeta/perl5/perlbrew/perls/perl-5.27.8/lib/site_perl/5.27.8/OpenBSD.amd64-openbsd /home/vegeta/perl5/perlbrew/perls/perl-5.27.8/lib/site_perl/5.27.8 /home/vegeta/perl5/perlbrew/perls/perl-5.27.8/lib/5.27.8/OpenBSD.amd64-openbsd /home/vegeta/perl5/perlbrew/perls/perl-5.27.8/lib/5.27.8 .) at t/lib/Test/DBIx/Class/FixtureCommand/TestFixtureCommand.pm line 4.
# BEGIN failed--compilation aborted at t/lib/Test/DBIx/Class/FixtureCommand/TestFixtureCommand.pm line 4.
# Compilation failed in require at /home/vegeta/perl5/perlbrew/perls/perl-5.27.8/lib/site_perl/5.27.8/Module/Runtime.pm line 314.
# configuration: {
# 'connect_info' => {
# 'dsn' => 'dbi:SQLite:dbname=temp_test_db'
# },
# 'fixture_class' => '::TestFixtureCommand',
# 'fixture_sets' => {},
# 'schema_class' => 'TestSchema'
# }
t/90-root-req.t ......................... skipped: Skipping remaining tests since we don't have a schema
(in cleanup) Test::DBIx::Class::SchemaManager::drop_source(): DBI Exception: DBD::SQLite::db do failed: no such table: genre at /home/vegeta/perl5/perlbrew/perls/perl-5.27.8/lib/site_perl/5.27.8/Test/DBIx/Class/SchemaManager.pm line 225
# Can't initialize a schema with the given configuration
# Returned Error: Can't locate DBIx/Class/Fixtures.pm in @INC (you may need to install the DBIx::Class::Fixtures module) (@INC contains: t/lib /mnt/cpan_build_dir/vegeta/WebAPI-DBIC-0.004002-0/blib/lib /mnt/cpan_build_dir/vegeta/WebAPI-DBIC-0.004002-0/blib/arch /home/vegeta/perl5/perlbrew/perls/perl-5.27.8/lib/site_perl/5.27.8/OpenBSD.amd64-openbsd /home/vegeta/perl5/perlbrew/perls/perl-5.27.8/lib/site_perl/5.27.8 /home/vegeta/perl5/perlbrew/perls/perl-5.27.8/lib/5.27.8/OpenBSD.amd64-openbsd /home/vegeta/perl5/perlbrew/perls/perl-5.27.8/lib/5.27.8 .) at t/lib/Test/DBIx/Class/FixtureCommand/TestFixtureCommand.pm line 4.
# BEGIN failed--compilation aborted at t/lib/Test/DBIx/Class/FixtureCommand/TestFixtureCommand.pm line 4.
# Compilation failed in require at /home/vegeta/perl5/perlbrew/perls/perl-5.27.8/lib/site_perl/5.27.8/Module/Runtime.pm line 314.
# configuration: {
# 'connect_info' => {
# 'dsn' => 'dbi:SQLite:dbname=temp_test_db'
# },
# 'fixture_class' => '::TestFixtureCommand',
# 'fixture_sets' => {},
# 'schema_class' => 'TestSchema'
# }
t/media-active-model/10-basics-req.t .... skipped: Skipping remaining tests since we don't have a schema
(in cleanup) Test::DBIx::Class::SchemaManager::drop_source(): DBI Exception: DBD::SQLite::db do failed: near "(": syntax error at /home/vegeta/perl5/perlbrew/perls/perl-5.27.8/lib/site_perl/5.27.8/Test/DBIx/Class/SchemaManager.pm line 225
# Can't initialize a schema with the given configuration
# Returned Error: Can't locate DBIx/Class/Fixtures.pm in @INC (you may need to install the DBIx::Class::Fixtures module) (@INC contains: t/lib /mnt/cpan_build_dir/vegeta/WebAPI-DBIC-0.004002-0/blib/lib /mnt/cpan_build_dir/vegeta/WebAPI-DBIC-0.004002-0/blib/arch /home/vegeta/perl5/perlbrew/perls/perl-5.27.8/lib/site_perl/5.27.8/OpenBSD.amd64-openbsd /home/vegeta/perl5/perlbrew/perls/perl-5.27.8/lib/site_perl/5.27.8 /home/vegeta/perl5/perlbrew/perls/perl-5.27.8/lib/5.27.8/OpenBSD.amd64-openbsd /home/vegeta/perl5/perlbrew/perls/perl-5.27.8/lib/5.27.8 .) at t/lib/Test/DBIx/Class/FixtureCommand/TestFixtureCommand.pm line 4.
# BEGIN failed--compilation aborted at t/lib/Test/DBIx/Class/FixtureCommand/TestFixtureCommand.pm line 4.
# Compilation failed in require at /home/vegeta/perl5/perlbrew/perls/perl-5.27.8/lib/site_perl/5.27.8/Module/Runtime.pm line 314.
# configuration: {
# 'connect_info' => {
# 'dsn' => 'dbi:SQLite:dbname=temp_test_db'
# },
# 'fixture_class' => '::TestFixtureCommand',
# 'fixture_sets' => {},
# 'schema_class' => 'TestSchema'
# }
t/media-active-model/40-prefetch-req.t .. skipped: Skipping remaining tests since we don't have a schema
# Can't initialize a schema with the given configuration
# Returned Error: Can't locate DBIx/Class/Fixtures.pm in @INC (you may need to install the DBIx::Class::Fixtures module) (@INC contains: t/lib /mnt/cpan_build_dir/vegeta/WebAPI-DBIC-0.004002-0/blib/lib /mnt/cpan_build_dir/vegeta/WebAPI-DBIC-0.004002-0/blib/arch /home/vegeta/perl5/perlbrew/perls/perl-5.27.8/lib/site_perl/5.27.8/OpenBSD.amd64-openbsd /home/vegeta/perl5/perlbrew/perls/perl-5.27.8/lib/site_perl/5.27.8 /home/vegeta/perl5/perlbrew/perls/perl-5.27.8/lib/5.27.8/OpenBSD.amd64-openbsd /home/vegeta/perl5/perlbrew/perls/perl-5.27.8/lib/5.27.8 .) at t/lib/Test/DBIx/Class/FixtureCommand/TestFixtureCommand.pm line 4.
# BEGIN failed--compilation aborted at t/lib/Test/DBIx/Class/FixtureCommand/TestFixtureCommand.pm line 4.
# Compilation failed in require at /home/vegeta/perl5/perlbrew/perls/perl-5.27.8/lib/site_perl/5.27.8/Module/Runtime.pm line 314.
# configuration: {
# 'connect_info' => {
# 'dsn' => 'dbi:SQLite:dbname=temp_test_db'
# },
# 'fixture_class' => '::TestFixtureCommand',
# 'fixture_sets' => {},
# 'schema_class' => 'TestSchema'
# }
t/media-hal/10-basics-req.t ............. skipped: Skipping remaining tests since we don't have a schema
# Can't initialize a schema with the given configuration
# Returned Error: Can't locate DBIx/Class/Fixtures.pm in @INC (you may need to install the DBIx::Class::Fixtures module) (@INC contains: t/lib /mnt/cpan_build_dir/vegeta/WebAPI-DBIC-0.004002-0/blib/lib /mnt/cpan_build_dir/vegeta/WebAPI-DBIC-0.004002-0/blib/arch /home/vegeta/perl5/perlbrew/perls/perl-5.27.8/lib/site_perl/5.27.8/OpenBSD.amd64-openbsd /home/vegeta/perl5/perlbrew/perls/perl-5.27.8/lib/site_perl/5.27.8 /home/vegeta/perl5/perlbrew/perls/perl-5.27.8/lib/5.27.8/OpenBSD.amd64-openbsd /home/vegeta/perl5/perlbrew/perls/perl-5.27.8/lib/5.27.8 .) at t/lib/Test/DBIx/Class/FixtureCommand/TestFixtureCommand.pm line 4.
# BEGIN failed--compilation aborted at t/lib/Test/DBIx/Class/FixtureCommand/TestFixtureCommand.pm line 4.
# Compilation failed in require at /home/vegeta/perl5/perlbrew/perls/perl-5.27.8/lib/site_perl/5.27.8/Module/Runtime.pm line 314.
# configuration: {
# 'connect_info' => {
# 'dsn' => 'dbi:SQLite:dbname=temp_test_db'
# },
# 'fixture_class' => '::TestFixtureCommand',
# 'fixture_sets' => {},
# 'schema_class' => 'TestSchema'
# }
t/media-hal/11-paging-req.t ............. skipped: Skipping remaining tests since we don't have a schema
(in cleanup) Test::DBIx::Class::SchemaManager::drop_source(): DBI Exception: DBD::SQLite::db do failed: no such table: city at /home/vegeta/perl5/perlbrew/perls/perl-5.27.8/lib/site_perl/5.27.8/Test/DBIx/Class/SchemaManager.pm line 225
# Can't initialize a schema with the given configuration
# Returned Error: Can't locate DBIx/Class/Fixtures.pm in @INC (you may need to install the DBIx::Class::Fixtures module) (@INC contains: t/lib /mnt/cpan_build_dir/vegeta/WebAPI-DBIC-0.004002-0/blib/lib /mnt/cpan_build_dir/vegeta/WebAPI-DBIC-0.004002-0/blib/arch /home/vegeta/perl5/perlbrew/perls/perl-5.27.8/lib/site_perl/5.27.8/OpenBSD.amd64-openbsd /home/vegeta/perl5/perlbrew/perls/perl-5.27.8/lib/site_perl/5.27.8 /home/vegeta/perl5/perlbrew/perls/perl-5.27.8/lib/5.27.8/OpenBSD.amd64-openbsd /home/vegeta/perl5/perlbrew/perls/perl-5.27.8/lib/5.27.8 .) at t/lib/Test/DBIx/Class/FixtureCommand/TestFixtureCommand.pm line 4.
# BEGIN failed--compilation aborted at t/lib/Test/DBIx/Class/FixtureCommand/TestFixtureCommand.pm line 4.
# Compilation failed in require at /home/vegeta/perl5/perlbrew/perls/perl-5.27.8/lib/site_perl/5.27.8/Module/Runtime.pm line 314.
# configuration: {
# 'connect_info' => {
# 'dsn' => 'dbi:SQLite:dbname=temp_test_db'
# },
# 'fixture_class' => '::TestFixtureCommand',
# 'fixture_sets' => {},
# 'schema_class' => 'TestSchema'
# }
t/media-hal/12-searching-req.t .......... skipped: Skipping remaining tests since we don't have a schema
(in cleanup) Test::DBIx::Class::SchemaManager::drop_source(): DBI Exception: DBD::SQLite::db do failed: no such table: cd_to_producer at /home/vegeta/perl5/perlbrew/perls/perl-5.27.8/lib/site_perl/5.27.8/Test/DBIx/Class/SchemaManager.pm line 225
# Can't initialize a schema with the given configuration
# Returned Error: Can't locate DBIx/Class/Fixtures.pm in @INC (you may need to install the DBIx::Class::Fixtures module) (@INC contains: t/lib /mnt/cpan_build_dir/vegeta/WebAPI-DBIC-0.004002-0/blib/lib /mnt/cpan_build_dir/vegeta/WebAPI-DBIC-0.004002-0/blib/arch /home/vegeta/perl5/perlbrew/perls/perl-5.27.8/lib/site_perl/5.27.8/OpenBSD.amd64-openbsd /home/vegeta/perl5/perlbrew/perls/perl-5.27.8/lib/site_perl/5.27.8 /home/vegeta/perl5/perlbrew/perls/perl-5.27.8/lib/5.27.8/OpenBSD.amd64-openbsd /home/vegeta/perl5/perlbrew/perls/perl-5.27.8/lib/5.27.8 .) at t/lib/Test/DBIx/Class/FixtureCommand/TestFixtureCommand.pm line 4.
# BEGIN failed--compilation aborted at t/lib/Test/DBIx/Class/FixtureCommand/TestFixtureCommand.pm line 4.
# Compilation failed in require at /home/vegeta/perl5/perlbrew/perls/perl-5.27.8/lib/site_perl/5.27.8/Module/Runtime.pm line 314.
# configuration: {
# 'connect_info' => {
# 'dsn' => 'dbi:SQLite:dbname=temp_test_db'
# },
# 'fixture_class' => '::TestFixtureCommand',
# 'fixture_sets' => {},
# 'schema_class' => 'TestSchema'
# }
t/media-hal/13-fields-req.t ............. skipped: Skipping remaining tests since we don't have a schema
(in cleanup) Test::DBIx::Class::SchemaManager::drop_source(): DBI Exception: DBD::SQLite::db do failed: no such table: cd_to_producer at /home/vegeta/perl5/perlbrew/perls/perl-5.27.8/lib/site_perl/5.27.8/Test/DBIx/Class/SchemaManager.pm line 225
# Can't initialize a schema with the given configuration
# Returned Error: Can't locate DBIx/Class/Fixtures.pm in @INC (you may need to install the DBIx::Class::Fixtures module) (@INC contains: t/lib /mnt/cpan_build_dir/vegeta/WebAPI-DBIC-0.004002-0/blib/lib /mnt/cpan_build_dir/vegeta/WebAPI-DBIC-0.004002-0/blib/arch /home/vegeta/perl5/perlbrew/perls/perl-5.27.8/lib/site_perl/5.27.8/OpenBSD.amd64-openbsd /home/vegeta/perl5/perlbrew/perls/perl-5.27.8/lib/site_perl/5.27.8 /home/vegeta/perl5/perlbrew/perls/perl-5.27.8/lib/5.27.8/OpenBSD.amd64-openbsd /home/vegeta/perl5/perlbrew/perls/perl-5.27.8/lib/5.27.8 .) at t/lib/Test/DBIx/Class/FixtureCommand/TestFixtureCommand.pm line 4.
# BEGIN failed--compilation aborted at t/lib/Test/DBIx/Class/FixtureCommand/TestFixtureCommand.pm line 4.
# Compilation failed in require at /home/vegeta/perl5/perlbrew/perls/perl-5.27.8/lib/site_perl/5.27.8/Module/Runtime.pm line 314.
# configuration: {
# 'connect_info' => {
# 'dsn' => 'dbi:SQLite:dbname=temp_test_db'
# },
# 'fixture_class' => '::TestFixtureCommand',
# 'fixture_sets' => {},
# 'schema_class' => 'TestSchema'
# }
t/media-hal/14-distinct-req.t ........... skipped: Skipping remaining tests since we don't have a schema
(in cleanup) Test::DBIx::Class::SchemaManager::drop_source(): DBI Exception: DBD::SQLite::db do failed: no such table: gig at /home/vegeta/perl5/perlbrew/perls/perl-5.27.8/lib/site_perl/5.27.8/Test/DBIx/Class/SchemaManager.pm line 225
# Can't initialize a schema with the given configuration
# Returned Error: Can't locate DBIx/Class/Fixtures.pm in @INC (you may need to install the DBIx::Class::Fixtures module) (@INC contains: t/lib /mnt/cpan_build_dir/vegeta/WebAPI-DBIC-0.004002-0/blib/lib /mnt/cpan_build_dir/vegeta/WebAPI-DBIC-0.004002-0/blib/arch /home/vegeta/perl5/perlbrew/perls/perl-5.27.8/lib/site_perl/5.27.8/OpenBSD.amd64-openbsd /home/vegeta/perl5/perlbrew/perls/perl-5.27.8/lib/site_perl/5.27.8 /home/vegeta/perl5/perlbrew/perls/perl-5.27.8/lib/5.27.8/OpenBSD.amd64-openbsd /home/vegeta/perl5/perlbrew/perls/perl-5.27.8/lib/5.27.8 .) at t/lib/Test/DBIx/Class/FixtureCommand/TestFixtureCommand.pm line 4.
# BEGIN failed--compilation aborted at t/lib/Test/DBIx/Class/FixtureCommand/TestFixtureCommand.pm line 4.
# Compilation failed in require at /home/vegeta/perl5/perlbrew/perls/perl-5.27.8/lib/site_perl/5.27.8/Module/Runtime.pm line 314.
# configuration: {
# 'connect_info' => {
# 'dsn' => 'dbi:SQLite:dbname=temp_test_db'
# },
# 'fixture_class' => '::TestFixtureCommand',
# 'fixture_sets' => {},
# 'schema_class' => 'TestSchema'
# }
t/media-hal/30-ordering-req.t ........... skipped: Skipping remaining tests since we don't have a schema
# Can't initialize a schema with the given configuration
# Returned Error: Can't locate DBIx/Class/Fixtures.pm in @INC (you may need to install the DBIx::Class::Fixtures module) (@INC contains: t/lib /mnt/cpan_build_dir/vegeta/WebAPI-DBIC-0.004002-0/blib/lib /mnt/cpan_build_dir/vegeta/WebAPI-DBIC-0.004002-0/blib/arch /home/vegeta/perl5/perlbrew/perls/perl-5.27.8/lib/site_perl/5.27.8/OpenBSD.amd64-openbsd /home/vegeta/perl5/perlbrew/perls/perl-5.27.8/lib/site_perl/5.27.8 /home/vegeta/perl5/perlbrew/perls/perl-5.27.8/lib/5.27.8/OpenBSD.amd64-openbsd /home/vegeta/perl5/perlbrew/perls/perl-5.27.8/lib/5.27.8 .) at t/lib/Test/DBIx/Class/FixtureCommand/TestFixtureCommand.pm line 4.
# BEGIN failed--compilation aborted at t/lib/Test/DBIx/Class/FixtureCommand/TestFixtureCommand.pm line 4.
# Compilation failed in require at /home/vegeta/perl5/perlbrew/perls/perl-5.27.8/lib/site_perl/5.27.8/Module/Runtime.pm line 314.
# configuration: {
# 'connect_info' => {
# 'dsn' => 'dbi:SQLite:dbname=temp_test_db'
# },
# 'fixture_class' => '::TestFixtureCommand',
# 'fixture_sets' => {},
# 'schema_class' => 'TestSchema'
# }
t/media-hal/40-prefetch-req.t ........... skipped: Skipping remaining tests since we don't have a schema
# Can't initialize a schema with the given configuration
# Returned Error: Can't locate DBIx/Class/Fixtures.pm in @INC (you may need to install the DBIx::Class::Fixtures module) (@INC contains: t/lib /mnt/cpan_build_dir/vegeta/WebAPI-DBIC-0.004002-0/blib/lib /mnt/cpan_build_dir/vegeta/WebAPI-DBIC-0.004002-0/blib/arch /home/vegeta/perl5/perlbrew/perls/perl-5.27.8/lib/site_perl/5.27.8/OpenBSD.amd64-openbsd /home/vegeta/perl5/perlbrew/perls/perl-5.27.8/lib/site_perl/5.27.8 /home/vegeta/perl5/perlbrew/perls/perl-5.27.8/lib/5.27.8/OpenBSD.amd64-openbsd /home/vegeta/perl5/perlbrew/perls/perl-5.27.8/lib/5.27.8 .) at t/lib/Test/DBIx/Class/FixtureCommand/TestFixtureCommand.pm line 4.
# BEGIN failed--compilation aborted at t/lib/Test/DBIx/Class/FixtureCommand/TestFixtureCommand.pm line 4.
# Compilation failed in require at /home/vegeta/perl5/perlbrew/perls/perl-5.27.8/lib/site_perl/5.27.8/Module/Runtime.pm line 314.
# configuration: {
# 'connect_info' => {
# 'dsn' => 'dbi:SQLite:dbname=temp_test_db'
# },
# 'fixture_class' => '::TestFixtureCommand',
# 'fixture_sets' => {},
# 'schema_class' => 'TestSchema'
# }
t/media-hal/50-modify-req.t ............. skipped: Skipping remaining tests since we don't have a schema
# Can't initialize a schema with the given configuration
# Returned Error: Can't locate DBIx/Class/Fixtures.pm in @INC (you may need to install the DBIx::Class::Fixtures module) (@INC contains: t/lib /mnt/cpan_build_dir/vegeta/WebAPI-DBIC-0.004002-0/blib/lib /mnt/cpan_build_dir/vegeta/WebAPI-DBIC-0.004002-0/blib/arch /home/vegeta/perl5/perlbrew/perls/perl-5.27.8/lib/site_perl/5.27.8/OpenBSD.amd64-openbsd /home/vegeta/perl5/perlbrew/perls/perl-5.27.8/lib/site_perl/5.27.8 /home/vegeta/perl5/perlbrew/perls/perl-5.27.8/lib/5.27.8/OpenBSD.amd64-openbsd /home/vegeta/perl5/perlbrew/perls/perl-5.27.8/lib/5.27.8 .) at t/lib/Test/DBIx/Class/FixtureCommand/TestFixtureCommand.pm line 4.
# BEGIN failed--compilation aborted at t/lib/Test/DBIx/Class/FixtureCommand/TestFixtureCommand.pm line 4.
# Compilation failed in require at /home/vegeta/perl5/perlbrew/perls/perl-5.27.8/lib/site_perl/5.27.8/Module/Runtime.pm line 314.
# configuration: {
# 'connect_info' => {
# 'dsn' => 'dbi:SQLite:dbname=temp_test_db'
# },
# 'fixture_class' => '::TestFixtureCommand',
# 'fixture_sets' => {},
# 'schema_class' => 'TestSchema'
# }
t/media-hal/52-post_rel-req.t ........... skipped: Skipping remaining tests since we don't have a schema
# Can't initialize a schema with the given configuration
# Returned Error: Can't locate DBIx/Class/Fixtures.pm in @INC (you may need to install the DBIx::Class::Fixtures module) (@INC contains: t/lib /mnt/cpan_build_dir/vegeta/WebAPI-DBIC-0.004002-0/blib/lib /mnt/cpan_build_dir/vegeta/WebAPI-DBIC-0.004002-0/blib/arch /home/vegeta/perl5/perlbrew/perls/perl-5.27.8/lib/site_perl/5.27.8/OpenBSD.amd64-openbsd /home/vegeta/perl5/perlbrew/perls/perl-5.27.8/lib/site_perl/5.27.8 /home/vegeta/perl5/perlbrew/perls/perl-5.27.8/lib/5.27.8/OpenBSD.amd64-openbsd /home/vegeta/perl5/perlbrew/perls/perl-5.27.8/lib/5.27.8 .) at t/lib/Test/DBIx/Class/FixtureCommand/TestFixtureCommand.pm line 4.
# BEGIN failed--compilation aborted at t/lib/Test/DBIx/Class/FixtureCommand/TestFixtureCommand.pm line 4.
# Compilation failed in require at /home/vegeta/perl5/perlbrew/perls/perl-5.27.8/lib/site_perl/5.27.8/Module/Runtime.pm line 314.
# configuration: {
# 'connect_info' => {
# 'dsn' => 'dbi:SQLite:dbname=temp_test_db'
# },
# 'fixture_class' => '::TestFixtureCommand',
# 'fixture_sets' => {},
# 'schema_class' => 'TestSchema'
# }
t/media-hal/53-put_rel-req.t ............ skipped: Skipping remaining tests since we don't have a schema
# Can't initialize a schema with the given configuration
# Returned Error: Can't locate DBIx/Class/Fixtures.pm in @INC (you may need to install the DBIx::Class::Fixtures module) (@INC contains: t/lib /mnt/cpan_build_dir/vegeta/WebAPI-DBIC-0.004002-0/blib/lib /mnt/cpan_build_dir/vegeta/WebAPI-DBIC-0.004002-0/blib/arch /home/vegeta/perl5/perlbrew/perls/perl-5.27.8/lib/site_perl/5.27.8/OpenBSD.amd64-openbsd /home/vegeta/perl5/perlbrew/perls/perl-5.27.8/lib/site_perl/5.27.8 /home/vegeta/perl5/perlbrew/perls/perl-5.27.8/lib/5.27.8/OpenBSD.amd64-openbsd /home/vegeta/perl5/perlbrew/perls/perl-5.27.8/lib/5.27.8 .) at t/lib/Test/DBIx/Class/FixtureCommand/TestFixtureCommand.pm line 4.
# BEGIN failed--compilation aborted at t/lib/Test/DBIx/Class/FixtureCommand/TestFixtureCommand.pm line 4.
# Compilation failed in require at /home/vegeta/perl5/perlbrew/perls/perl-5.27.8/lib/site_perl/5.27.8/Module/Runtime.pm line 314.
# configuration: {
# 'connect_info' => {
# 'dsn' => 'dbi:SQLite:dbname=temp_test_db'
# },
# 'fixture_class' => '::TestFixtureCommand',
# 'fixture_sets' => {},
# 'schema_class' => 'TestSchema'
# }
t/media-hal/90-root-req.t ............... skipped: Skipping remaining tests since we don't have a schema
(in cleanup) Test::DBIx::Class::SchemaManager::drop_source(): DBI Exception: DBD::SQLite::db do failed: no such table: city at /home/vegeta/perl5/perlbrew/perls/perl-5.27.8/lib/site_perl/5.27.8/Test/DBIx/Class/SchemaManager.pm line 225
# Can't initialize a schema with the given configuration
# Returned Error: Can't locate DBIx/Class/Fixtures.pm in @INC (you may need to install the DBIx::Class::Fixtures module) (@INC contains: t/lib /mnt/cpan_build_dir/vegeta/WebAPI-DBIC-0.004002-0/blib/lib /mnt/cpan_build_dir/vegeta/WebAPI-DBIC-0.004002-0/blib/arch /home/vegeta/perl5/perlbrew/perls/perl-5.27.8/lib/site_perl/5.27.8/OpenBSD.amd64-openbsd /home/vegeta/perl5/perlbrew/perls/perl-5.27.8/lib/site_perl/5.27.8 /home/vegeta/perl5/perlbrew/perls/perl-5.27.8/lib/5.27.8/OpenBSD.amd64-openbsd /home/vegeta/perl5/perlbrew/perls/perl-5.27.8/lib/5.27.8 .) at t/lib/Test/DBIx/Class/FixtureCommand/TestFixtureCommand.pm line 4.
# BEGIN failed--compilation aborted at t/lib/Test/DBIx/Class/FixtureCommand/TestFixtureCommand.pm line 4.
# Compilation failed in require at /home/vegeta/perl5/perlbrew/perls/perl-5.27.8/lib/site_perl/5.27.8/Module/Runtime.pm line 314.
# configuration: {
# 'connect_info' => {
# 'dsn' => 'dbi:SQLite:dbname=temp_test_db'
# },
# 'fixture_class' => '::TestFixtureCommand',
# 'fixture_sets' => {},
# 'schema_class' => 'TestSchema'
# }
t/media-jsonapi/10-basics-req.t ......... skipped: Skipping remaining tests since we don't have a schema
# Can't initialize a schema with the given configuration
# Returned Error: Can't locate DBIx/Class/Fixtures.pm in @INC (you may need to install the DBIx::Class::Fixtures module) (@INC contains: t/lib /mnt/cpan_build_dir/vegeta/WebAPI-DBIC-0.004002-0/blib/lib /mnt/cpan_build_dir/vegeta/WebAPI-DBIC-0.004002-0/blib/arch /home/vegeta/perl5/perlbrew/perls/perl-5.27.8/lib/site_perl/5.27.8/OpenBSD.amd64-openbsd /home/vegeta/perl5/perlbrew/perls/perl-5.27.8/lib/site_perl/5.27.8 /home/vegeta/perl5/perlbrew/perls/perl-5.27.8/lib/5.27.8/OpenBSD.amd64-openbsd /home/vegeta/perl5/perlbrew/perls/perl-5.27.8/lib/5.27.8 .) at t/lib/Test/DBIx/Class/FixtureCommand/TestFixtureCommand.pm line 4.
# BEGIN failed--compilation aborted at t/lib/Test/DBIx/Class/FixtureCommand/TestFixtureCommand.pm line 4.
# Compilation failed in require at /home/vegeta/perl5/perlbrew/perls/perl-5.27.8/lib/site_perl/5.27.8/Module/Runtime.pm line 314.
# configuration: {
# 'connect_info' => {
# 'dsn' => 'dbi:SQLite:dbname=temp_test_db'
# },
# 'fixture_class' => '::TestFixtureCommand',
# 'fixture_sets' => {},
# 'schema_class' => 'TestSchema'
# }
t/media-jsonapi/40-prefetch-req.t ....... skipped: Skipping remaining tests since we don't have a schema
t/release-pod-syntax.t .................. skipped: these tests are for release candidate testing
All tests successful.
Files=27, Tests=103, 27 wallclock secs ( 0.07 usr 0.29 sys + 16.67 cusr 6.66 csys = 23.69 CPU)
Result: PASS
------------------------------
PREREQUISITES
------------------------------
Prerequisite modules loaded:
requires:
Module Need Have
--------------------------- -------------------- --------
Alien::Web::HalBrowser 0 1
Data::Dumper::Concise 0 2.023
DBD::SQLite 1.46 1.55_07
DBIx::Class 0.08250 0.082840
HTTP::Headers::ActionPack 0 0.09
HTTP::Throwable 0 0.026
JSON::MaybeXS 0 1.003009
Lingua::EN::Inflect 1.894 1.903
Lingua::EN::Inflect::Number 1.11 1.12
List::MoreUtils 0.408 0.428
List::Util 0 1.49
Module::Runtime 0 0.016
Moo 1.001000 2.003004
MooX::StrictConstructor 0.006 0.008
namespace::clean 0.25 0.27
parent 0 0.236
Path::Router 0.14 0.15
perl 5.010 5.027008
Plack 1.0033 1.0045
Plack::App::File 0 0
Plack::App::Path::Router 0.08 0.08
Safe::Isa 0 1.000008
Scalar::Util 0 1.49
SQL::Translator 0.11018 0.11024
String::CamelCase 0 0.03
Sub::Exporter 0 0.987
Sub::Quote 0 2.004000
Sub::Util 0 1.49
Try::Tiny 0 0.30
URI 0 1.73
Web::Machine 0.15 0.17
build_requires:
Module Need Have
--------------------------- -------------------- --------
autodie 0 2.29
Cpanel::JSON::XS >= 3.0110, != 3.0112 3.0239
Data::Printer 0 0.40
! DBIx::Class::Fixtures 1.001025 n/a
ExtUtils::MakeMaker 0 7.31_07
Module::Pluggable 0 5.2
Sort::Key 0 1.33
Test::Compile v1.1.0 v1.3.0
Test::DBIx::Class 0.43 0.52
Test::HTTP::Response 0 0.06
Test::More 0.98 1.302120
Test::Most 0 0.35
Test::Pod 0 1.51
ToolSet 0 1.03
configure_requires:
Module Need Have
--------------------------- -------------------- --------
ExtUtils::MakeMaker 0 7.31_07
------------------------------
ENVIRONMENT AND OTHER CONTEXT
------------------------------
Environment variables:
AUTOMATED_TESTING = 1
DBD_MYSQL_TESTDB = test
DBD_MYSQL_TESTHOST = localhost
DBD_MYSQL_TESTPASSWORD =
DBD_MYSQL_TESTPORT = 3306
DBD_MYSQL_TESTUSER = vegeta
EXTENDED_TESTING = 1
PATH = /home/vegeta/perl5/perlbrew/bin:/home/vegeta/perl5/perlbrew/perls/perl-5.27.8/bin:/home/vegeta/bin:/usr/bin:/bin:/usr/sbin:/sbin:/usr/X11R6/bin:/usr/local/bin:/usr/local/sbin
PERL5LIB =
PERL5OPT =
PERL5_CPANPLUS_IS_RUNNING = 97131
PERL5_CPAN_IS_RUNNING = 97131
PERL5_CPAN_IS_RUNNING_IN_RECURSION = 93931,97131
PERLBREW_HOME = /home/vegeta/.perlbrew
PERLBREW_MANPATH = /home/vegeta/perl5/perlbrew/perls/perl-5.27.8/man
PERLBREW_PATH = /home/vegeta/perl5/perlbrew/bin:/home/vegeta/perl5/perlbrew/perls/perl-5.27.8/bin
PERLBREW_PERL = perl-5.27.8
PERLBREW_ROOT = /home/vegeta/perl5/perlbrew
PERLBREW_SHELLRC_VERSION = 0.82
PERLBREW_VERSION = 0.82
PERL_CR_SMOKER_CURRENT = Mojolicious-Plugin-WebAPI-0.03
PERL_EXTUTILS_AUTOINSTALL = --defaultdeps
PERL_MM_USE_DEFAULT = 1
PERL_USE_UNSAFE_INC = 1
SHELL = /usr/local/bin/bash
TERM = vt220
Perl special variables (and OS-specific diagnostics, for MSWin32):
$^X = /home/vegeta/perl5/perlbrew/perls/perl-5.27.8/bin/perl5.27.8
$UID/$EUID = 1002 / 1002
$GID = 1002 1002 1001
$EGID = 1002 1002 1001
Perl module toolchain versions installed:
Module Have
------------------- --------
CPAN 2.20
CPAN::Meta 2.150010
Cwd 3.62
ExtUtils::CBuilder 0.280230
ExtUtils::Command 7.31_07
ExtUtils::Install 2.14
ExtUtils::MakeMaker 7.31_07
ExtUtils::Manifest 1.70
ExtUtils::ParseXS 3.35
File::Spec 3.62
JSON 2.97001
JSON::PP 2.97001
Module::Build 0.4224
Module::Signature n/a
Parse::CPAN::Meta 2.150010
Test::Harness 3.39
Test::More 1.302120
YAML 1.24
YAML::Syck n/a
version 0.9918
--
Summary of my perl5 (revision 5 version 27 subversion 8) configuration:
Platform:
osname=openbsd
osvers=6.2
archname=OpenBSD.amd64-openbsd
uname='openbsd cpan-smoker-openbsd 6.2 generic.mp#134 amd64 '
config_args='-de -Dprefix=/home/vegeta/perl5/perlbrew/perls/perl-5.27.8 -Dusedevel -Aeval:scriptdir=/home/vegeta/perl5/perlbrew/perls/perl-5.27.8/bin'
hint=recommended
useposix=true
d_sigaction=define
useithreads=undef
usemultiplicity=undef
use64bitint=define
use64bitall=define
uselongdouble=undef
usemymalloc=n
default_inc_excludes_dot=define
bincompat5005=undef
Compiler:
cc='cc'
ccflags ='-fno-strict-aliasing -pipe -fstack-protector-strong -I/usr/local/include -D_FORTIFY_SOURCE=2'
optimize='-O2'
cppflags='-fno-strict-aliasing -pipe -fstack-protector-strong -I/usr/local/include'
ccversion=''
gccversion='4.2.1 Compatible OpenBSD Clang 4.0.0 (tags/RELEASE_400/final)'
gccosandvers=''
intsize=4
longsize=8
ptrsize=8
doublesize=8
byteorder=12345678
doublekind=3
d_longlong=define
longlongsize=8
d_longdbl=define
longdblsize=16
longdblkind=3
ivtype='long'
ivsize=8
nvtype='double'
nvsize=8
Off_t='off_t'
lseeksize=8
alignbytes=8
prototype=define
Linker and Libraries:
ld='cc'
ldflags ='-Wl,-E -fstack-protector-strong -L/usr/local/lib'
libpth=/usr/lib /usr/local/lib
libs=-lpthread -lm -lutil -lc
perllibs=-lpthread -lm -lutil -lc
libc=/usr/lib/libc.so.90.0
so=so
useshrplib=false
libperl=libperl.a
gnulibc_version=''
Dynamic Linking:
dlsrc=dl_dlopen.xs
dlext=so
d_dlsymun=undef
ccdlflags=' '
cccdlflags='-DPIC -fPIC '
lddlflags='-shared -fPIC -L/usr/local/lib -fstack-protector-strong'
Characteristics of this binary (from libperl):
Compile-time options:
HAS_TIMES
PERLIO_LAYERS
PERL_COPY_ON_WRITE
PERL_DONT_CREATE_GVSV
PERL_MALLOC_WRAP
PERL_OP_PARENT
PERL_PRESERVE_IVUV
PERL_USE_DEVEL
USE_64_BIT_ALL
USE_64_BIT_INT
USE_LARGE_FILES
USE_LOCALE
USE_LOCALE_COLLATE
USE_LOCALE_CTYPE
USE_LOCALE_NUMERIC
USE_LOCALE_TIME
USE_PERLIO
USE_PERL_ATOF
Locally applied patches:
Devel::PatchPerl 1.48
Built under openbsd
Compiled at Jan 23 2018 17:20:45
%ENV:
PERL5LIB=""
PERL5OPT=""
PERL5_CPANPLUS_IS_RUNNING="97131"
PERL5_CPAN_IS_RUNNING="97131"
PERL5_CPAN_IS_RUNNING_IN_RECURSION="93931,97131"
PERLBREW_HOME="/home/vegeta/.perlbrew"
PERLBREW_MANPATH="/home/vegeta/perl5/perlbrew/perls/perl-5.27.8/man"
PERLBREW_PATH="/home/vegeta/perl5/perlbrew/bin:/home/vegeta/perl5/perlbrew/perls/perl-5.27.8/bin"
PERLBREW_PERL="perl-5.27.8"
PERLBREW_ROOT="/home/vegeta/perl5/perlbrew"
PERLBREW_SHELLRC_VERSION="0.82"
PERLBREW_VERSION="0.82"
PERL_CR_SMOKER_CURRENT="Mojolicious-Plugin-WebAPI-0.03"
PERL_EXTUTILS_AUTOINSTALL="--defaultdeps"
PERL_MM_USE_DEFAULT="1"
PERL_USE_UNSAFE_INC="1"
@INC:
/home/vegeta/perl5/perlbrew/perls/perl-5.27.8/lib/site_perl/5.27.8/OpenBSD.amd64-openbsd
/home/vegeta/perl5/perlbrew/perls/perl-5.27.8/lib/site_perl/5.27.8
/home/vegeta/perl5/perlbrew/perls/perl-5.27.8/lib/5.27.8/OpenBSD.amd64-openbsd
/home/vegeta/perl5/perlbrew/perls/perl-5.27.8/lib/5.27.8
.