Back
From: metabase:user:314402c4-2aae-11df-837a-5e0a49663a4f
Subject: PASS AnyEvent-Digest-v0.0.3 v5.16.0 RC0 FreeBSD
Date: 2013-09-11T15:15:57Z
This distribution has been tested as part of the CPAN Testers
project, supporting the Perl programming language. See
http://wiki.cpantesters.org/ for more information or email
questions to cpan-testers-discuss@perl.org
--
Dear Yasutaka ATARASHI,
This is a computer-generated report for AnyEvent-Digest-v0.0.3
on perl 5.16.0, created by CPAN-Reporter-1.2006.
Thank you for uploading your work to CPAN. Congratulations!
All tests were successful.
Sections of this report:
* Tester comments
* Program output
* Prerequisites
* Environment and other context
------------------------------
TESTER COMMENTS
------------------------------
Additional comments from tester:
none provided
------------------------------
PROGRAM OUTPUT
------------------------------
Output from '/usr/bin/make test':
PERL_DL_NONLAZY=1 /home2/cpansand/var/ctps/5160RC0/install/perl-5.16.0-RC0/bin/perl5.16.0 "-MExtUtils::Command::MM" "-e" "test_harness(0, 'blib/lib', 'blib/arch')" t/*.t
t/00-compile.t ............ ok
t/01-base.t ............... ok
Too late to run CHECK block at /home/cpansand/var/ctps/5160RC0/install/perl-5.16.0-RC0/lib/site_perl/5.16.0/i386-freebsd/EV.pm line 123.
# 0.01 interval: 327 count
t/02-async-idle.t ......... ok
t/03-async-aio.t .......... skipped: IO::AIO and AnyEvent::AIO are required: Can't locate IO/AIO.pm in @INC (@INC contains: /var/tmp/CPAN-build/AnyEvent-Digest-v0.0.3-OaRuP2/blib/lib /var/tmp/CPAN-build/AnyEvent-Digest-v0.0.3-OaRuP2/blib/arch /usr/local/src/CPAN/build/HTML-Widget-Plugin-Calendar-0.001-K19rNE/blib/arch /usr/local/src/CPAN/build/HTML-Widget-Plugin-Calendar-0.001-K19rNE/blib/lib /usr/local/src/CPAN/build/HTML-Widget-Factory-0.083-XNNT1Z/blib/arch /usr/local/src/CPAN/build/HTML-Widget-Factory-0.083-XNNT1Z/blib/lib /usr/local/src/CPAN/build/MooseX-Role-Parameterized-1.02-CfE0hx/blib/arch /usr/local/src/CPAN/build/MooseX-Role-Parameterized-1.02-CfE0hx/blib/lib /usr/local/src/CPAN/build/HTML-Widget-Plugin-Calendar-0.001-K19rNE/blib/arch /usr/local/src/CPAN/build/HTML-Widget-Plugin-Calendar-0.001-K19rNE/blib/lib /usr/local/src/CPAN/build/HTML-Widget-Factory-0.083-XNNT1Z/blib/arch /usr/local/src/CPAN/build/HTML-Widget-Factory-0.083-XNNT1Z/blib/lib /usr/local/src/CPAN/build/MooseX-Role-Parameterized-1.02-CfE0hx/blib/arch /usr/local/src/CPAN/build/MooseX-Role-Parameterized-1.02-CfE0hx/blib/lib /home/cpansand/var/ctps/5160RC0/install/perl-5.16.0-RC0/lib/site_perl/5.16.0/i386-freebsd /home/cpansand/var/ctps/5160RC0/install/perl-5.16.0-RC0/lib/site_perl/5.16.0 /home/cpansand/var/ctps/5160RC0/install/perl-5.16.0-RC0/lib/5.16.0/i386-freebsd /home/cpansand/var/ctps/5160RC0/install/perl-5.16.0-RC0/lib/5.16.0 .) at t/03-async-aio.t line 6.
t/04-prereqfail.t ......... ok
Too late to run CHECK block at /home/cpansand/var/ctps/5160RC0/install/perl-5.16.0-RC0/lib/site_perl/5.16.0/i386-freebsd/EV.pm line 123.
read() on unopened filehandle GEN0 at /var/tmp/CPAN-build/AnyEvent-Digest-v0.0.3-OaRuP2/blib/lib/AnyEvent/Digest.pm line 52.
t/05-error.t .............. ok
t/author-critic.t ......... skipped: these tests are for testing by the author
t/release-kwalitee.t ...... skipped: these tests are for release candidate testing
t/release-pod-coverage.t .. skipped: these tests are for release candidate testing
t/release-pod-syntax.t .... skipped: these tests are for release candidate testing
All tests successful.
Files=10, Tests=18, 4 wallclock secs ( 0.05 usr 0.02 sys + 2.34 cusr 0.65 csys = 3.06 CPU)
Result: PASS
------------------------------
PREREQUISITES
------------------------------
Prerequisite modules loaded:
requires:
Module Need Have
------------------- ---- ----
AnyEvent 0 7.02
Digest 0 1.17
Scalar::Util 0 1.31
build_requires:
Module Need Have
------------------- ---- ----
Digest::MD5 0 2.51
IO::Handle 0 1.33
IPC::Open3 0 1.12
Test::Exception 0 0.31
Test::More 0 0.98
configure_requires:
Module Need Have
------------------- ---- ----
ExtUtils::MakeMaker 6.30 6.72
------------------------------
ENVIRONMENT AND OTHER CONTEXT
------------------------------
Environment variables:
DBIC_NO_WARN_BAD_PERL = 1
PATH = /usr/local/bin:/usr/X11R6/bin:/usr/X11/bin:/usr/perl5.8.0/bin:/usr/bin:/bin:/usr/local/sbin:/usr/sbin:/sbin:/usr/local/pilot/bin:/home2/cpansand/bin/freebsd8.0:/home2/cpansand/bin/sh:/home2/cpansand/bin:/usr/X386/bin:/usr/games:/home2/cpansand/devel:/usr/home/e/eserte/work/srezic-misc/scripts
PERL5LIB = /usr/local/src/CPAN/build/HTML-Widget-Plugin-Calendar-0.001-K19rNE/blib/arch:/usr/local/src/CPAN/build/HTML-Widget-Plugin-Calendar-0.001-K19rNE/blib/lib:/usr/local/src/CPAN/build/HTML-Widget-Factory-0.083-XNNT1Z/blib/arch:/usr/local/src/CPAN/build/HTML-Widget-Factory-0.083-XNNT1Z/blib/lib:/usr/local/src/CPAN/build/MooseX-Role-Parameterized-1.02-CfE0hx/blib/arch:/usr/local/src/CPAN/build/MooseX-Role-Parameterized-1.02-CfE0hx/blib/lib
PERL5OPT =
PERL5_CPANPLUS_IS_RUNNING = 61325
PERL5_CPAN_IS_RUNNING = 61325
PERL5_CPAN_IS_RUNNING_IN_RECURSION = 61305,61325
PERL_BATCH = yes
PERL_CPAN_REPORTER_CONFIG = /var/tmp/cpansmoker-1023/BXatpHSF1w_config.ini
PERL_CPAN_REPORTER_DIR = /home/cpansand/var/ctps/5160RC0/config/perl-5.16.0-RC0/cpanreporter
PERL_EXTUTILS_AUTOINSTALL = --defaultdeps
PERL_HTML_DISPLAY_CLASS = HTML::Display::Mozilla
SHELL = /usr/local/bin/zsh
TERM = screen
TMPDIR = /var/tmp/cpansmoker-1023
Perl special variables (and OS-specific diagnostics, for MSWin32):
$^X = /home2/cpansand/var/ctps/5160RC0/install/perl-5.16.0-RC0/bin/perl5.16.0
$UID/$EUID = 1023 / 1023
$GID = 1023 1023
$EGID = 1023 1023
Perl module toolchain versions installed:
Module Have
------------------- --------
CPAN 1.9800
CPAN::Meta 2.130880
Cwd 3.40
ExtUtils::CBuilder 0.280211
ExtUtils::Command 1.17
ExtUtils::Install 1.58
ExtUtils::MakeMaker 6.72
ExtUtils::Manifest 1.61
ExtUtils::ParseXS 3.16
File::Spec 3.40
JSON 2.59
JSON::PP 2.27200
Module::Build 0.4007
Module::Signature 0.70
Parse::CPAN::Meta 1.4404
Test::Harness 3.23
Test::More 0.98
YAML 0.84
YAML::Syck 1.22
version 0.9903
--
Summary of my perl5 (revision 5 version 16 subversion 0) configuration:
Platform:
osname=freebsd, osvers=8.0-release-p4, archname=i386-freebsd
uname='freebsd biokovo.herceg.de 8.0-release-p4 freebsd 8.0-release-p4 #0: mon jul 12 20:22:27 utc 2010 root@i386-builder.daemonology.net:usrobjusrsrcsysgeneric i386 '
config_args='-ds -e -Uversiononly -Dinstallusrbinperl=n -Dusedevel -Dprefix=/home/cpansand/var/ctps/5160RC0/install/perl-5.16.0-RC0'
hint=recommended, useposix=true, d_sigaction=define
useithreads=undef, usemultiplicity=undef
useperlio=define, d_sfio=undef, uselargefiles=define, usesocks=undef
use64bitint=undef, use64bitall=undef, uselongdouble=undef
usemymalloc=n, bincompat5005=undef
Compiler:
cc='cc', ccflags ='-DHAS_FPSETMASK -DHAS_FLOATINGPOINT_H -fno-strict-aliasing -pipe -fstack-protector -I/usr/local/include',
optimize='-O',
cppflags='-DHAS_FPSETMASK -DHAS_FLOATINGPOINT_H -fno-strict-aliasing -pipe -fstack-protector -I/usr/local/include'
ccversion='', gccversion='4.2.1 20070719 [FreeBSD]', gccosandvers=''
intsize=4, longsize=4, ptrsize=4, doublesize=8, byteorder=1234
d_longlong=define, longlongsize=8, d_longdbl=define, longdblsize=12
ivtype='long', ivsize=4, nvtype='double', nvsize=8, Off_t='off_t', lseeksize=8
alignbytes=4, prototype=define
Linker and Libraries:
ld='cc', ldflags ='-Wl,-E -fstack-protector -L/usr/local/lib'
libpth=/usr/lib /usr/local/lib
libs=-lgdbm -lm -lcrypt -lutil -lc
perllibs=-lm -lcrypt -lutil -lc
libc=, so=so, useshrplib=false, libperl=libperl.a
gnulibc_version=''
Dynamic Linking:
dlsrc=dl_dlopen.xs, dlext=so, d_dlsymun=undef, ccdlflags=' '
cccdlflags='-DPIC -fPIC', lddlflags='-shared -L/usr/local/lib -fstack-protector'
Characteristics of this binary (from libperl):
Compile-time options: HAS_TIMES PERLIO_LAYERS PERL_DONT_CREATE_GVSV
PERL_MALLOC_WRAP PERL_PRESERVE_IVUV PERL_USE_DEVEL
USE_LARGE_FILES USE_LOCALE USE_LOCALE_COLLATE
USE_LOCALE_CTYPE USE_LOCALE_NUMERIC USE_PERLIO
USE_PERL_ATOF
Locally applied patches:
RC0
Built under freebsd
Compiled at May 11 2012 21:05:05
%ENV:
PERL5LIB="/usr/local/src/CPAN/build/HTML-Widget-Plugin-Calendar-0.001-K19rNE/blib/arch:/usr/local/src/CPAN/build/HTML-Widget-Plugin-Calendar-0.001-K19rNE/blib/lib:/usr/local/src/CPAN/build/HTML-Widget-Factory-0.083-XNNT1Z/blib/arch:/usr/local/src/CPAN/build/HTML-Widget-Factory-0.083-XNNT1Z/blib/lib:/usr/local/src/CPAN/build/MooseX-Role-Parameterized-1.02-CfE0hx/blib/arch:/usr/local/src/CPAN/build/MooseX-Role-Parameterized-1.02-CfE0hx/blib/lib"
PERL5OPT=""
PERL5_CPANPLUS_IS_RUNNING="61325"
PERL5_CPAN_IS_RUNNING="61325"
PERL5_CPAN_IS_RUNNING_IN_RECURSION="61305,61325"
PERL_BATCH="yes"
PERL_CPAN_REPORTER_CONFIG="/var/tmp/cpansmoker-1023/BXatpHSF1w_config.ini"
PERL_CPAN_REPORTER_DIR="/home/cpansand/var/ctps/5160RC0/config/perl-5.16.0-RC0/cpanreporter"
PERL_EXTUTILS_AUTOINSTALL="--defaultdeps"
PERL_HTML_DISPLAY_CLASS="HTML::Display::Mozilla"
@INC:
/usr/local/src/CPAN/build/HTML-Widget-Plugin-Calendar-0.001-K19rNE/blib/arch
/usr/local/src/CPAN/build/HTML-Widget-Plugin-Calendar-0.001-K19rNE/blib/lib
/usr/local/src/CPAN/build/HTML-Widget-Factory-0.083-XNNT1Z/blib/arch
/usr/local/src/CPAN/build/HTML-Widget-Factory-0.083-XNNT1Z/blib/lib
/usr/local/src/CPAN/build/MooseX-Role-Parameterized-1.02-CfE0hx/blib/arch
/usr/local/src/CPAN/build/MooseX-Role-Parameterized-1.02-CfE0hx/blib/lib
/home/cpansand/var/ctps/5160RC0/install/perl-5.16.0-RC0/lib/site_perl/5.16.0/i386-freebsd
/home/cpansand/var/ctps/5160RC0/install/perl-5.16.0-RC0/lib/site_perl/5.16.0
/home/cpansand/var/ctps/5160RC0/install/perl-5.16.0-RC0/lib/5.16.0/i386-freebsd
/home/cpansand/var/ctps/5160RC0/install/perl-5.16.0-RC0/lib/5.16.0
.