Test-Compile vv3.3.3 Perl 5 v5.41.13 x86_64-linux

Status
Pass
From
Carlos Guevara
Dist
Test-Compile vv3.3.3
Platform
Perl 5 v5.41.13 x86_64-linux
Date
2025-05-09 00:39:25
ID
0ee80f68-2c6e-11f0-96de-8625b6a19b6c
This distribution has been tested as part of the CPAN Testers
project, supporting the Perl programming language.  See
http://wiki.cpantesters.org/ for more information or email
questions to cpan-testers-discuss@perl.org


--
Dear Evan Giles,

This is a computer-generated report for Test-Compile-v3.3.3
on perl 5.41.13, created by CPAN-Reporter-1.2020.

Thank you for uploading your work to CPAN.  Congratulations!
All tests were successful.

Sections of this report:

    * Tester comments
    * Program output
    * Prerequisites
    * Environment and other context

------------------------------
TESTER COMMENTS
------------------------------

Additional comments from tester:

this report is from an automated smoke testing program
and was not reviewed by a human for accuracy

------------------------------
PROGRAM OUTPUT
------------------------------

Output from './Build test':

t/000-compile.t ........................... ok
t/100-internal--default_locations.t ....... ok
t/100-internal--find-files-ignores-cvs.t .. ok
t/100-internal--find-files-ignores-svn.t .. ok
t/100-internal--find-files.t .............. ok
t/100-internal--perl-module.t ............. ok
t/100-internal--perl-script.t ............. ok
t/100-internal--read-shebang.t ............ ok
t/100-internal--skip.t .................... skipped: testing skip_all()
t/100-internal--taint-mode.t .............. ok
# Message displayed by the 'diag' method
t/100-internal--test-methods.t ............ ok
t/100-internal-all-pl-files.t ............. ok
t/100-internal-all-pm-files.t ............. ok
t/100-internal-basic.t .................... ok
t/100-internal-mess-with-lib.t ............ ok
t/100-internal-pl-file-compiles.t ......... ok
t/100-internal-pm-file-compiles.t ......... ok
t/100-internal-testfail.t ................. ok
t/100-internal-verbose.t .................. ok
t/200-all-files-ok.t ...................... ok
t/200-all-pl-files-ok.t ................... ok
t/200-all-pl-files.t ...................... ok
t/200-all-pm-files-ok.t ................... ok
t/200-import-check.t ...................... ok
t/200-px-file-ok.t ........................ ok
t/200-taint.t ............................. ok
t/999-has-version.t ....................... skipped: Set AUTHOR_TEST to run this test
t/999-perlcritic.t ........................ skipped: Set AUTHOR_TEST to run this test
t/999-pod-coverage.t ...................... skipped: Set AUTHOR_TEST to run this test
t/999-pod.t ............................... skipped: Set AUTHOR_TEST to run this test
t/999-portability.t ....................... skipped: Set AUTHOR_TEST to run this test
t/999-synopsis.t .......................... skipped: Set AUTHOR_TEST to run this test
t/999-version.t ........................... skipped: Set AUTHOR_TEST to run this test
All tests successful.
Files=33, Tests=114,  3 wallclock secs ( 0.07 usr  0.03 sys +  1.84 cusr  0.47 csys =  2.41 CPU)
Result: PASS

------------------------------
PREREQUISITES
------------------------------

Prerequisite modules loaded:

requires:

    Module        Need    Have    
    ------------- ------- --------
    Exporter      5.68    5.79    
    parent        0.225   0.244   
    perl          v5.10.0 5.041013

build_requires:

    Module        Need    Have    
    ------------- ------- --------
    Test::More    1.3     1.302211

configure_requires:

    Module        Need    Have    
    ------------- ------- --------
    Module::Build 0.38    0.4234  


------------------------------
ENVIRONMENT AND OTHER CONTEXT
------------------------------

Environment variables:

    AUTOMATED_TESTING = 1
    DATE_MANIP_TEST_DM5 = 1
    LANG = en_US.UTF-8
    LC_ALL = C
    NONINTERACTIVE_TESTING = 1
    NO_NETWORK_TESTING = 1
    PATH = /home/cpan/bin/perl/bin:/home/cpan/bin:/usr/share/Modules/bin:/home/cpan/bin:/usr/local/bin:/usr/bin:/usr/local/sbin:/usr/sbin
    PERL5LIB = 
    PERL5OPT = 
    PERL5_CPANPLUS_IS_RUNNING = 154823
    PERL5_CPAN_IS_RUNNING = 154823
    PERL_MM_USE_DEFAULT = 1
    PERL_USE_UNSAFE_INC = 1
    SHELL = /bin/bash
    TERM = screen
    TMPDIR = /home/cpan/tmp

Perl special variables (and OS-specific diagnostics, for MSWin32):

    $^X = /home/cpan/bin/perl/bin/perl5.41.13
    $UID/$EUID = 1001 / 1001
    $GID = 1001 1001
    $EGID = 1001 1001

Perl module toolchain versions installed:

    Module              Have    
    ------------------- --------
    CPAN                2.38    
    CPAN::Meta          2.150010
    Cwd                 3.94    
    ExtUtils::CBuilder  0.280241
    ExtUtils::Command   7.74    
    ExtUtils::Install   2.22    
    ExtUtils::MakeMaker 7.74    
    ExtUtils::Manifest  1.75    
    ExtUtils::ParseXS   3.57    
    File::Spec          3.94    
    JSON                4.10    
    JSON::PP            4.16    
    Module::Build       0.4234  
    Module::Signature   0.89    
    Parse::CPAN::Meta   2.150010
    Test2               1.302211
    Test::Harness       3.50    
    Test::More          1.302211
    YAML                1.31    
    YAML::Syck          n/a     
    version             0.9933  


--

Summary of my perl5 (revision 5 version 41 subversion 13) configuration:
  Commit id: bdd2c794f79baa3bf919296f597a683a6eaa25ef
  Platform:
    osname=linux
    osvers=5.14.0-503.40.1.el9_5.x86_64
    archname=x86_64-linux
    uname='linux cjg-rhel9 5.14.0-503.40.1.el9_5.x86_64 #1 smp preempt_dynamic thu apr 24 08:27:29 edt 2025 x86_64 x86_64 x86_64 gnulinux '
    config_args='-des -Dprefix=/home/cpan/bin/perl -Dscriptdir=/home/cpan/bin/perl/bin -Dusedevel -Duse64bitall'
    hint=recommended
    useposix=true
    d_sigaction=define
    useithreads=undef
    usemultiplicity=undef
    use64bitint=define
    use64bitall=define
    uselongdouble=undef
    usemymalloc=n
    default_inc_excludes_dot=define
  Compiler:
    cc='cc'
    ccflags ='-fwrapv -fno-strict-aliasing -pipe -fstack-protector-strong -I/usr/local/include -D_LARGEFILE_SOURCE -D_FILE_OFFSET_BITS=64 -D_FORTIFY_SOURCE=2'
    optimize='-O2'
    cppflags='-fwrapv -fno-strict-aliasing -pipe -fstack-protector-strong -I/usr/local/include'
    ccversion=''
    gccversion='11.5.0 20240719 (Red Hat 11.5.0-5)'
    gccosandvers=''
    intsize=4
    longsize=8
    ptrsize=8
    doublesize=8
    byteorder=12345678
    doublekind=3
    d_longlong=define
    longlongsize=8
    d_longdbl=define
    longdblsize=16
    longdblkind=3
    ivtype='long'
    ivsize=8
    nvtype='double'
    nvsize=8
    Off_t='off_t'
    lseeksize=8
    alignbytes=8
    prototype=define
  Linker and Libraries:
    ld='cc'
    ldflags =' -fstack-protector-strong -L/usr/local/lib'
    libpth=/usr/local/lib /usr/lib /usr/lib64 /usr/local/lib64
    libs=-lpthread -ldb -ldl -lm -lcrypt -lutil -lc
    perllibs=-lpthread -ldl -lm -lcrypt -lutil -lc
    libc=/lib/../lib64/libc.so.6
    so=so
    useshrplib=false
    libperl=libperl.a
    gnulibc_version='2.34'
  Dynamic Linking:
    dlsrc=dl_dlopen.xs
    dlext=so
    d_dlsymun=undef
    ccdlflags='-Wl,-E'
    cccdlflags='-fPIC'
    lddlflags='-shared -O2 -L/usr/local/lib -fstack-protector-strong'


Characteristics of this binary (from libperl): 
  Compile-time options:
    HAS_LONG_DOUBLE
    HAS_STRTOLD
    HAS_TIMES
    PERLIO_LAYERS
    PERL_COPY_ON_WRITE
    PERL_DONT_CREATE_GVSV
    PERL_HASH_FUNC_SIPHASH13
    PERL_HASH_USE_SBOX32
    PERL_MALLOC_WRAP
    PERL_OP_PARENT
    PERL_PRESERVE_IVUV
    PERL_USE_DEVEL
    PERL_USE_SAFE_PUTENV
    USE_64_BIT_ALL
    USE_64_BIT_INT
    USE_LARGE_FILES
    USE_LOCALE
    USE_LOCALE_COLLATE
    USE_LOCALE_CTYPE
    USE_LOCALE_NUMERIC
    USE_LOCALE_TIME
    USE_PERLIO
    USE_PERL_ATOF
  Built under linux
  Compiled at May  8 2025 19:10:17
  %ENV:
    PERL5LIB=""
    PERL5OPT=""
    PERL5_CPANPLUS_IS_RUNNING="154823"
    PERL5_CPAN_IS_RUNNING="154823"
    PERL_MM_USE_DEFAULT="1"
    PERL_USE_UNSAFE_INC="1"
  @INC:
    /home/cpan/bin/perl/lib/site_perl/5.41.13/x86_64-linux
    /home/cpan/bin/perl/lib/site_perl/5.41.13
    /home/cpan/bin/perl/lib/5.41.13/x86_64-linux
    /home/cpan/bin/perl/lib/5.41.13
    .