Mojolicious-Plugin-Export v0.008 Perl 5 v5.32.1 amd64-openbsd

Status
Pass
From
David Solimano
Dist
Mojolicious-Plugin-Export v0.008
Platform
Perl 5 v5.32.1 amd64-openbsd
Date
2023-03-25 17:18:28
ID
0ecd2bc6-cb31-11ed-b6c5-067d6265c5dd
This distribution has been tested as part of the CPAN Testers
project, supporting the Perl programming language.  See
http://wiki.cpantesters.org/ for more information or email
questions to cpan-testers-discuss@perl.org


--
Dear Doug Bell,

This is a computer-generated report for Mojolicious-Plugin-Export-0.008
on perl 5.32.1, created by CPAN-Reporter-1.2018.

Thank you for uploading your work to CPAN.  Congratulations!
All tests were successful.

Sections of this report:

    * Tester comments
    * Program output
    * Prerequisites
    * Environment and other context

------------------------------
TESTER COMMENTS
------------------------------

Additional comments from tester:

this report is from an automated smoke testing program
and was not reviewed by a human for accuracy

------------------------------
PROGRAM OUTPUT
------------------------------

Output from '/usr/bin/make test':

PERL_DL_NONLAZY=1 "/usr/bin/perl" "-MExtUtils::Command::MM" "-MTest::Harness" "-e" "undef *Test::Harness::Switches; test_harness(0, 'blib/lib', 'blib/arch')" t/*.t
t/00-compile.t ......... ok
# 
# Versions for all modules listed in MYMETA.json (including optional ones):
# 
# === Configure Requires ===
# 
#     Module              Want Have
#     ------------------- ---- ----
#     ExtUtils::MakeMaker  any 7.66
# 
# === Build Requires ===
# 
#     Module              Want Have
#     ------------------- ---- ----
#     ExtUtils::MakeMaker  any 7.66
# 
# === Test Requires ===
# 
#     Module              Want     Have
#     ------------------- ---- --------
#     ExtUtils::MakeMaker  any     7.66
#     File::Spec           any     3.78
#     IO::Handle           any     1.51
#     IPC::Open3           any     1.21
#     Test::More           any 1.302191
# 
# === Test Recommends ===
# 
#     Module         Want     Have
#     ---------- -------- --------
#     CPAN::Meta 2.120900 2.150010
# 
# === Runtime Requires ===
# 
#     Module      Want Have
#     ----------- ---- ----
#     Mojolicious    8 9.31
# 
t/00-report-prereqs.t .. ok
[2023-03-25 13:18:21.97128] [79279] [trace] [Nt4qRjuGHbgP] GET "/"
[2023-03-25 13:18:21.97607] [79279] [trace] [Nt4qRjuGHbgP] Rendering template "index.html.ep" from DATA section
[2023-03-25 13:18:21.97874] [79279] [trace] [Nt4qRjuGHbgP] 200 OK (0.00744s, 134.409/s)
[2023-03-25 13:18:21.98755] [79279] [trace] [SoZrOO_-QxLO] GET "/docs"
[2023-03-25 13:18:21.98963] [79279] [trace] [SoZrOO_-QxLO] Rendering template "docs.html.ep" from DATA section
[2023-03-25 13:18:21.99140] [79279] [trace] [SoZrOO_-QxLO] 200 OK (0.003802s, 263.019/s)
[2023-03-25 13:18:21.99733] [79279] [trace] [8t0biuST7E4i] GET "/about"
[2023-03-25 13:18:21.99885] [79279] [trace] [8t0biuST7E4i] Rendering template "about.html.ep" from DATA section
[2023-03-25 13:18:22.00050] [79279] [trace] [8t0biuST7E4i] 200 OK (0.00314300000000001s, 318.167/s)
[2023-03-25 13:18:22.00646] [79279] [trace] [MdouGoiTj4Sl] GET "/NOT_FOUND"
[2023-03-25 13:18:22.00814] [79279] [trace] [MdouGoiTj4Sl] Template "not_found.development.html.ep" not found
[2023-03-25 13:18:22.00880] [79279] [trace] [MdouGoiTj4Sl] Template "not_found.html.ep" not found
[2023-03-25 13:18:22.01011] [79279] [trace] [MdouGoiTj4Sl] Rendering template "mojo/debug.html.ep"
[2023-03-25 13:18:22.05057] [79279] [trace] Your secret passphrase needs to be changed
[2023-03-25 13:18:22.05806] [79279] [trace] [MdouGoiTj4Sl] 404 Not Found (0.051562s, 19.394/s)
[2023-03-25 13:18:22.06485] [79279] [trace] [Vvl7aN-wV7Y0] GET "/redirect"
[2023-03-25 13:18:22.06608] [79279] [trace] [Vvl7aN-wV7Y0] Routing to a callback
[2023-03-25 13:18:22.06688] [79279] [trace] [Vvl7aN-wV7Y0] 302 Found (0.002008s, 498.008/s)
[2023-03-25 13:18:22.07713] [79279] [trace] [5PLKzQXBMWff] GET "/docs/more"
[2023-03-25 13:18:22.07821] [79279] [trace] [5PLKzQXBMWff] Routing to a callback
[2023-03-25 13:18:22.07916] [79279] [trace] [5PLKzQXBMWff] Rendering inline template "2da2aed28011bbc3541e0de248c276ca"
[2023-03-25 13:18:22.08076] [79279] [trace] [5PLKzQXBMWff] 200 OK (0.003602s, 277.624/s)
[2023-03-25 13:18:22.12164] [79279] [trace] [tlJSMkldCQlF] GET "/"
[2023-03-25 13:18:22.12277] [79279] [trace] [tlJSMkldCQlF] Rendering cached template "index.html.ep" from DATA section
[2023-03-25 13:18:22.12358] [79279] [trace] [tlJSMkldCQlF] 200 OK (0.00192s, 520.833/s)
[2023-03-25 13:18:22.13055] [79279] [trace] [fq0LxrZrcJ2z] GET "/docs"
[2023-03-25 13:18:22.13168] [79279] [trace] [fq0LxrZrcJ2z] Rendering cached template "docs.html.ep" from DATA section
[2023-03-25 13:18:22.13238] [79279] [trace] [fq0LxrZrcJ2z] 200 OK (0.001779s, 562.114/s)
[2023-03-25 13:18:22.13834] [79279] [trace] [3fa8X2k_psvi] GET "/about"
[2023-03-25 13:18:22.14022] [79279] [trace] [3fa8X2k_psvi] Rendering cached template "about.html.ep" from DATA section
[2023-03-25 13:18:22.14104] [79279] [trace] [3fa8X2k_psvi] 200 OK (0.002667s, 374.953/s)
[2023-03-25 13:18:22.14688] [79279] [trace] [HP4IAJ802Wh4] GET "/NOT_FOUND"
[2023-03-25 13:18:22.14833] [79279] [trace] [HP4IAJ802Wh4] Template "not_found.development.html.ep" not found
[2023-03-25 13:18:22.14900] [79279] [trace] [HP4IAJ802Wh4] Template "not_found.html.ep" not found
[2023-03-25 13:18:22.14933] [79279] [trace] [HP4IAJ802Wh4] Rendering cached template "mojo/debug.html.ep"
[2023-03-25 13:18:22.16080] [79279] [trace] [HP4IAJ802Wh4] 404 Not Found (0.013867s, 72.114/s)
[2023-03-25 13:18:22.16756] [79279] [trace] [hJyKYomI5N9T] GET "/redirect"
[2023-03-25 13:18:22.16840] [79279] [trace] [hJyKYomI5N9T] Routing to a callback
[2023-03-25 13:18:22.16917] [79279] [trace] [hJyKYomI5N9T] 302 Found (0.001471s, 679.810/s)
[2023-03-25 13:18:22.17980] [79279] [trace] [c4vUNpzrMfDU] GET "/docs/more"
[2023-03-25 13:18:22.18054] [79279] [trace] [c4vUNpzrMfDU] Routing to a callback
[2023-03-25 13:18:22.18112] [79279] [trace] [c4vUNpzrMfDU] Rendering cached inline template "2da2aed28011bbc3541e0de248c276ca"
[2023-03-25 13:18:22.18189] [79279] [trace] [c4vUNpzrMfDU] 200 OK (0.001952s, 512.295/s)
[2023-03-25 13:18:22.21194] [79279] [trace] [ir2Bk6EZE4Ff] GET "/"
[2023-03-25 13:18:22.21302] [79279] [trace] [ir2Bk6EZE4Ff] Rendering cached template "index.html.ep" from DATA section
[2023-03-25 13:18:22.21375] [79279] [trace] [ir2Bk6EZE4Ff] 200 OK (0.001769s, 565.291/s)
[2023-03-25 13:18:22.22120] [79279] [trace] [an8L5XmiOcD8] GET "/docs"
[2023-03-25 13:18:22.22217] [79279] [trace] [an8L5XmiOcD8] Rendering cached template "docs.html.ep" from DATA section
[2023-03-25 13:18:22.22291] [79279] [trace] [an8L5XmiOcD8] 200 OK (0.001584s, 631.313/s)
[2023-03-25 13:18:22.22915] [79279] [trace] [ndL15hGBUmo6] GET "/about"
[2023-03-25 13:18:22.23021] [79279] [trace] [ndL15hGBUmo6] Rendering cached template "about.html.ep" from DATA section
[2023-03-25 13:18:22.23093] [79279] [trace] [ndL15hGBUmo6] 200 OK (0.001753s, 570.451/s)
[2023-03-25 13:18:22.23690] [79279] [trace] [jrKlIj4dVVMR] GET "/NOT_FOUND"
[2023-03-25 13:18:22.23835] [79279] [trace] [jrKlIj4dVVMR] Template "not_found.development.html.ep" not found
[2023-03-25 13:18:22.23916] [79279] [trace] [jrKlIj4dVVMR] Template "not_found.html.ep" not found
[2023-03-25 13:18:22.23969] [79279] [trace] [jrKlIj4dVVMR] Rendering cached template "mojo/debug.html.ep"
[2023-03-25 13:18:22.24969] [79279] [trace] [jrKlIj4dVVMR] 404 Not Found (0.012748s, 78.444/s)
[2023-03-25 13:18:22.25572] [79279] [trace] [zbe73nWJyzQq] GET "/redirect"
[2023-03-25 13:18:22.25665] [79279] [trace] [zbe73nWJyzQq] Routing to a callback
[2023-03-25 13:18:22.25739] [79279] [trace] [zbe73nWJyzQq] 302 Found (0.001641s, 609.385/s)
[2023-03-25 13:18:22.26800] [79279] [trace] [Co0sn3N8eT1S] GET "/docs/more"
[2023-03-25 13:18:22.26954] [79279] [trace] [Co0sn3N8eT1S] Routing to a callback
[2023-03-25 13:18:22.27011] [79279] [trace] [Co0sn3N8eT1S] Rendering cached inline template "2da2aed28011bbc3541e0de248c276ca"
[2023-03-25 13:18:22.27084] [79279] [trace] [Co0sn3N8eT1S] 200 OK (0.002816s, 355.114/s)
[2023-03-25 13:18:22.30391] [79279] [trace] [H6S2NTFhOAwQ] GET "/docs"
[2023-03-25 13:18:22.30503] [79279] [trace] [H6S2NTFhOAwQ] Rendering cached template "docs.html.ep" from DATA section
[2023-03-25 13:18:22.30582] [79279] [trace] [H6S2NTFhOAwQ] 200 OK (0.001891s, 528.821/s)
[2023-03-25 13:18:22.31228] [79279] [trace] [Tw19BWwDkIqA] GET "/docs/more"
[2023-03-25 13:18:22.31310] [79279] [trace] [Tw19BWwDkIqA] Routing to a callback
[2023-03-25 13:18:22.31348] [79279] [trace] [Tw19BWwDkIqA] Rendering cached inline template "2da2aed28011bbc3541e0de248c276ca"
[2023-03-25 13:18:22.31433] [79279] [trace] [Tw19BWwDkIqA] 200 OK (0.002033s, 491.884/s)
[2023-03-25 13:18:22.34082] [79279] [trace] [rGxDVvtzGEDM] GET "/"
[2023-03-25 13:18:22.34201] [79279] [trace] [rGxDVvtzGEDM] Rendering cached template "index.html.ep" from DATA section
[2023-03-25 13:18:22.34274] [79279] [trace] [rGxDVvtzGEDM] 200 OK (0.001883s, 531.067/s)
[2023-03-25 13:18:22.35125] [79279] [trace] [2_bvLhUdFASY] GET "/docs"
[2023-03-25 13:18:22.35233] [79279] [trace] [2_bvLhUdFASY] Rendering cached template "docs.html.ep" from DATA section
[2023-03-25 13:18:22.35299] [79279] [trace] [2_bvLhUdFASY] 200 OK (0.00172s, 581.395/s)
[2023-03-25 13:18:22.35944] [79279] [trace] [fA4nFRBs2vHN] GET "/about"
[2023-03-25 13:18:22.36055] [79279] [trace] [fA4nFRBs2vHN] Rendering cached template "about.html.ep" from DATA section
[2023-03-25 13:18:22.36142] [79279] [trace] [fA4nFRBs2vHN] 200 OK (0.001955s, 511.509/s)
[2023-03-25 13:18:22.36737] [79279] [trace] [bkL0E4BegcRO] GET "/NOT_FOUND"
[2023-03-25 13:18:22.36878] [79279] [trace] [bkL0E4BegcRO] Template "not_found.development.html.ep" not found
[2023-03-25 13:18:22.36946] [79279] [trace] [bkL0E4BegcRO] Template "not_found.html.ep" not found
[2023-03-25 13:18:22.36993] [79279] [trace] [bkL0E4BegcRO] Rendering cached template "mojo/debug.html.ep"
[2023-03-25 13:18:22.37990] [79279] [trace] [bkL0E4BegcRO] 404 Not Found (0.012489s, 80.070/s)
[2023-03-25 13:18:22.38613] [79279] [trace] [MjaZEnDsHJmk] GET "/redirect"
[2023-03-25 13:18:22.38694] [79279] [trace] [MjaZEnDsHJmk] Routing to a callback
[2023-03-25 13:18:22.38772] [79279] [trace] [MjaZEnDsHJmk] 302 Found (0.001566s, 638.570/s)
[2023-03-25 13:18:22.39861] [79279] [trace] [uUoe53cDkkxw] GET "/docs/more"
[2023-03-25 13:18:22.39899] [79279] [trace] [uUoe53cDkkxw] Routing to a callback
[2023-03-25 13:18:22.39984] [79279] [trace] [uUoe53cDkkxw] Rendering cached inline template "2da2aed28011bbc3541e0de248c276ca"
[2023-03-25 13:18:22.40048] [79279] [trace] [uUoe53cDkkxw] 200 OK (0.001855s, 539.084/s)
[2023-03-25 13:18:22.44226] [79279] [trace] [JLrIaiQ4N-iX] GET "/"
[2023-03-25 13:18:22.44334] [79279] [trace] [JLrIaiQ4N-iX] Rendering cached template "index.html.ep" from DATA section
[2023-03-25 13:18:22.44396] [79279] [trace] [JLrIaiQ4N-iX] 200 OK (0.001684s, 593.824/s)
[2023-03-25 13:18:22.45291] [79279] [trace] [rd-hqIqbim1R] GET "/docs"
[2023-03-25 13:18:22.45393] [79279] [trace] [rd-hqIqbim1R] Rendering cached template "docs.html.ep" from DATA section
[2023-03-25 13:18:22.45450] [79279] [trace] [rd-hqIqbim1R] 200 OK (0.001564s, 639.386/s)
[2023-03-25 13:18:22.46095] [79279] [trace] [q_xwH_kqkOg1] GET "/about"
[2023-03-25 13:18:22.46190] [79279] [trace] [q_xwH_kqkOg1] Rendering cached template "about.html.ep" from DATA section
[2023-03-25 13:18:22.46271] [79279] [trace] [q_xwH_kqkOg1] 200 OK (0.001736s, 576.037/s)
[2023-03-25 13:18:22.46860] [79279] [trace] [JU_keIYP8bXo] GET "/NOT_FOUND"
[2023-03-25 13:18:22.47043] [79279] [trace] [JU_keIYP8bXo] Template "not_found.development.html.ep" not found
[2023-03-25 13:18:22.47137] [79279] [trace] [JU_keIYP8bXo] Template "not_found.html.ep" not found
[2023-03-25 13:18:22.47191] [79279] [trace] [JU_keIYP8bXo] Rendering cached template "mojo/debug.html.ep"
[2023-03-25 13:18:22.48175] [79279] [trace] [JU_keIYP8bXo] 404 Not Found (0.013114s, 76.254/s)
[2023-03-25 13:18:22.48797] [79279] [trace] [BQosGC_mALN5] GET "/redirect"
[2023-03-25 13:18:22.48873] [79279] [trace] [BQosGC_mALN5] Routing to a callback
[2023-03-25 13:18:22.49008] [79279] [trace] [BQosGC_mALN5] 302 Found (0.002085s, 479.616/s)
[2023-03-25 13:18:22.50015] [79279] [trace] [Het7hL6Ow1fg] GET "/docs/more"
[2023-03-25 13:18:22.50097] [79279] [trace] [Het7hL6Ow1fg] Routing to a callback
[2023-03-25 13:18:22.50161] [79279] [trace] [Het7hL6Ow1fg] Rendering cached inline template "2da2aed28011bbc3541e0de248c276ca"
[2023-03-25 13:18:22.50225] [79279] [trace] [Het7hL6Ow1fg] 200 OK (0.002076s, 481.696/s)
[2023-03-25 13:18:22.53408] [79279] [trace] [Mif6dWle6lnU] GET "/docs"
[2023-03-25 13:18:22.53524] [79279] [trace] [Mif6dWle6lnU] Rendering cached template "docs.html.ep" from DATA section
[2023-03-25 13:18:22.53612] [79279] [trace] [Mif6dWle6lnU] 200 OK (0.002021s, 494.805/s)
[2023-03-25 13:18:22.54304] [79279] [trace] [mzBj8jqKOGtZ] GET "/docs/more"
[2023-03-25 13:18:22.54392] [79279] [trace] [mzBj8jqKOGtZ] Routing to a callback
[2023-03-25 13:18:22.54449] [79279] [trace] [mzBj8jqKOGtZ] Rendering cached inline template "2da2aed28011bbc3541e0de248c276ca"
[2023-03-25 13:18:22.54533] [79279] [trace] [mzBj8jqKOGtZ] 200 OK (0.002264s, 441.696/s)
t/command.t ............ ok
[2023-03-25 13:18:23.80760] [66687] [trace] [ZLAvhq5cngVL] GET "/"
[2023-03-25 13:18:23.81362] [66687] [trace] [ZLAvhq5cngVL] Rendering template "index.html.ep" from DATA section
[2023-03-25 13:18:23.81735] [66687] [trace] [ZLAvhq5cngVL] 200 OK (0.009708s, 103.008/s)
t/plugin.t ............. ok
All tests successful.
Files=4, Tests=55,  5 wallclock secs ( 0.10 usr  0.03 sys +  3.92 cusr  0.72 csys =  4.77 CPU)
Result: PASS

------------------------------
PREREQUISITES
------------------------------

Prerequisite modules loaded:

requires:

    Module              Need     Have    
    ------------------- -------- --------
    Mojolicious         8        9.31    
    perl                5.014    5.032001

build_requires:

    Module              Need     Have    
    ------------------- -------- --------
    ExtUtils::MakeMaker 0        7.66    
    File::Spec          0        3.78    
    IO::Handle          0        1.51    
    IPC::Open3          0        1.21    
    Test::More          0        1.302191

configure_requires:

    Module              Need     Have    
    ------------------- -------- --------
    ExtUtils::MakeMaker 0        7.66    

opt_build_requires:

    Module              Need     Have    
    ------------------- -------- --------
    CPAN::Meta          2.120900 2.150010


------------------------------
ENVIRONMENT AND OTHER CONTEXT
------------------------------

Environment variables:

    AUTOMATED_TESTING = 1
    PATH = /home/perluser/perl5/bin:/home/perluser/perl5/perlbrew/bin:/home/perluser/bin:/bin:/sbin:/usr/bin:/usr/sbin:/usr/X11R6/bin:/usr/local/bin:/usr/local/sbin:/usr/games:.
    PERL5LIB = /home/perluser/.cpan/build/Mojolicious-9.31-4/blib/arch:/home/perluser/.cpan/build/Mojolicious-9.31-4/blib/lib:/home/perluser/perl5/lib/perl5
    PERL5OPT = 
    PERL5_CPANPLUS_IS_RUNNING = 48448
    PERL5_CPAN_IS_RUNNING = 48448
    PERL5_CPAN_IS_RUNNING_IN_RECURSION = 67618,48448
    PERLBREW_HOME = /home/perluser/.perlbrew
    PERLBREW_ROOT = /home/perluser/perl5/perlbrew
    PERLBREW_SHELLRC_VERSION = 0.96
    PERL_CR_SMOKER_CURRENT = Mojolicious-Plugin-Export-0.008
    PERL_EXTUTILS_AUTOINSTALL = --defaultdeps
    PERL_LOCAL_LIB_ROOT = /home/perluser/perl5
    PERL_MB_OPT = --install_base "/home/perluser/perl5"
    PERL_MM_OPT = INSTALL_BASE=/home/perluser/perl5
    PERL_MM_USE_DEFAULT = 1
    PERL_USE_UNSAFE_INC = 1
    SHELL = /bin/ksh
    TERM = screen

Perl special variables (and OS-specific diagnostics, for MSWin32):

    $^X = /usr/bin/perl
    $UID/$EUID = 1000 / 1000
    $GID = 1000 1000
    $EGID = 1000 1000

Perl module toolchain versions installed:

    Module              Have    
    ------------------- --------
    CPAN                2.34    
    CPAN::Meta          2.150010
    Cwd                 3.78    
    ExtUtils::CBuilder  0.280236
    ExtUtils::Command   7.66    
    ExtUtils::Install   2.22    
    ExtUtils::MakeMaker 7.66    
    ExtUtils::Manifest  1.73    
    ExtUtils::ParseXS   3.44    
    File::Spec          3.78    
    JSON                2.90    
    JSON::PP            4.16    
    Module::Build       0.4232  
    Module::Signature   n/a     
    Parse::CPAN::Meta   2.150010
    Test::Harness       3.44    
    Test::More          1.302191
    YAML                1.30    
    YAML::Syck          n/a     
    version             0.9929  


--

Summary of my perl5 (revision 5 version 32 subversion 1) configuration:
   
  Platform:
    osname=openbsd
    osvers=7.2
    archname=amd64-openbsd
    uname='openbsd'
    config_args='-dse -Dopenbsd_distribution=defined -Dmksymlinks'
    hint=recommended
    useposix=true
    d_sigaction=define
    useithreads=undef
    usemultiplicity=undef
    use64bitint=define
    use64bitall=define
    uselongdouble=undef
    usemymalloc=n
    default_inc_excludes_dot=define
    bincompat5005=undef
  Compiler:
    cc='cc'
    ccflags ='-DNO_LOCALE_NUMERIC -DNO_LOCALE_COLLATE -fno-strict-aliasing -fno-delete-null-pointer-checks -pipe -fstack-protector-strong -I/usr/local/include'
    optimize='-O2'
    cppflags='-DBIG_TIME -DNO_LOCALE_NUMERIC -DNO_LOCALE_COLLATE -fno-strict-aliasing -fno-delete-null-pointer-checks -pipe -fstack-protector-strong -I/usr/local/include'
    ccversion=''
    gccversion='OpenBSD Clang 13.0.0'
    gccosandvers=''
    intsize=4
    longsize=8
    ptrsize=8
    doublesize=8
    byteorder=12345678
    doublekind=3
    d_longlong=define
    longlongsize=8
    d_longdbl=define
    longdblsize=16
    longdblkind=3
    ivtype='long'
    ivsize=8
    nvtype='double'
    nvsize=8
    Off_t='off_t'
    lseeksize=8
    alignbytes=8
    prototype=define
  Linker and Libraries:
    ld='cc'
    ldflags ='-Wl,-E  -fstack-protector-strong -L/usr/local/lib'
    libpth=/usr/lib /usr/lib/clang/13.0.0/lib /usr/lib
    libs=-lm -lc
    perllibs=-lm -lc
    libc=/usr/lib/libc.so.96.2
    so=so
    useshrplib=true
    libperl=libperl.so.22.0
    gnulibc_version=''
  Dynamic Linking:
    dlsrc=dl_dlopen.xs
    dlext=so
    d_dlsymun=undef
    ccdlflags='-Wl,-R/usr/libdata/perl5/amd64-openbsd/CORE'
    cccdlflags='-DPIC -fpic '
    lddlflags='-shared -fpic  -fstack-protector-strong -L/usr/local/lib'


Characteristics of this binary (from libperl): 
  Compile-time options:
    HAS_TIMES
    PERLIO_LAYERS
    PERL_COPY_ON_WRITE
    PERL_DONT_CREATE_GVSV
    PERL_MALLOC_WRAP
    PERL_OP_PARENT
    PERL_PRESERVE_IVUV
    USE_64_BIT_ALL
    USE_64_BIT_INT
    USE_LARGE_FILES
    USE_LOCALE
    USE_LOCALE_CTYPE
    USE_LOCALE_TIME
    USE_PERLIO
    USE_PERL_ATOF
  Built under openbsd
  %ENV:
    PERL5LIB="/home/perluser/.cpan/build/Mojolicious-9.31-4/blib/arch:/home/perluser/.cpan/build/Mojolicious-9.31-4/blib/lib:/home/perluser/perl5/lib/perl5"
    PERL5OPT=""
    PERL5_CPANPLUS_IS_RUNNING="48448"
    PERL5_CPAN_IS_RUNNING="48448"
    PERL5_CPAN_IS_RUNNING_IN_RECURSION="67618,48448"
    PERLBREW_HOME="/home/perluser/.perlbrew"
    PERLBREW_ROOT="/home/perluser/perl5/perlbrew"
    PERLBREW_SHELLRC_VERSION="0.96"
    PERL_CR_SMOKER_CURRENT="Mojolicious-Plugin-Export-0.008"
    PERL_EXTUTILS_AUTOINSTALL="--defaultdeps"
    PERL_LOCAL_LIB_ROOT="/home/perluser/perl5"
    PERL_MB_OPT="--install_base "/home/perluser/perl5""
    PERL_MM_OPT="INSTALL_BASE=/home/perluser/perl5"
    PERL_MM_USE_DEFAULT="1"
    PERL_USE_UNSAFE_INC="1"
  @INC:
    /home/perluser/.cpan/build/Mojolicious-9.31-4/blib/arch
    /home/perluser/.cpan/build/Mojolicious-9.31-4/blib/lib
    /home/perluser/perl5/lib/perl5/5.32.1/amd64-openbsd
    /home/perluser/perl5/lib/perl5/5.32.1
    /home/perluser/perl5/lib/perl5/amd64-openbsd
    /home/perluser/perl5/lib/perl5
    /usr/local/libdata/perl5/site_perl/amd64-openbsd
    /usr/local/libdata/perl5/site_perl
    /usr/libdata/perl5/amd64-openbsd
    /usr/libdata/perl5
    .