HTTP-Upload-FlowJs v0.02 Perl 5 v5.24.0 MSWin32-x86-multi-thread-64int

Status
Pass
From
NONAME
Dist
HTTP-Upload-FlowJs v0.02
Platform
Perl 5 v5.24.0 MSWin32-x86-multi-thread-64int
Date
2024-09-20 17:55:09
ID
0e81014c-6e52-1014-aa98-6dbb07c19ce6
This distribution has been tested as part of the CPAN Testers
project, supporting the Perl programming language.  See
http://wiki.cpantesters.org/ for more information or email
questions to cpan-testers-discuss@perl.org


--
Dear Max Maischein,

This is a computer-generated report for HTTP-Upload-FlowJs-0.02
on perl 5.24.0, created by CPAN-Reporter-1.2020.

Thank you for uploading your work to CPAN.  Congratulations!
All tests were successful.

Sections of this report:

    * Tester comments
    * Program output
    * Prerequisites
    * Environment and other context

------------------------------
TESTER COMMENTS
------------------------------

Additional comments from tester:

none provided

------------------------------
PROGRAM OUTPUT
------------------------------

Output from 'C:\Strawberry\c\bin\dmake.exe test':

C:\"Strawberry\perl\bin\perl.exe" "-MExtUtils::Command::MM" "-MTest::Harness" "-e" "undef *Test::Harness::Switches; test_harness(0, 'blib\lib', 'blib\arch')" t/00-load.t t/002_http_upload_disallowedContentType.t t/003_http_upload_flowjs.t t/004_js-config.t
# Testing HTTP::Upload::FlowJs 0.02, Perl 5.024000
# Carp 1.50
# Carp::Heavy 1.50
# Class::XSAccessor 1.19
# Class::XSAccessor::Heavy 1.19
# Config 5.024000
# Data::Dumper 2.183
# DynaLoader 1.38
# Encode 3.21
# Encode::Alias 2.25
# Encode::Config 2.05
# Encode::Encoding 2.08
# Encode::MIME::Name 1.03
# Exporter 5.78
# Exporter::Heavy 5.78
# Fcntl 1.13
# File::Glob 1.26
# Filter::Simple 0.92
# Filter::Util::Call 1.64
# Filter::signatures 0.19
# HTTP::Upload::FlowJs 0.02
# IO 1.55
# IO::Handle 1.55
# JSON 4.10
# JSON::XS 4.03
# List::Util 1.65
# MIME::Detect 0.12
# MIME::Detect::Buffer <unknown>
# MIME::Detect::Type 0.12
# Method::Generate::Accessor <unknown>
# Method::Generate::Constructor <unknown>
# Moo 2.005005
# Moo::HandleMoose::_TypeMap <unknown>
# Moo::Object <unknown>
# Moo::_Utils <unknown>
# Moo::sification <unknown>
# POSIX 1.65
# PerlIO 1.09
# Scalar::Util 1.65
# SelectSaver 1.02
# Storable 3.25
# Sub::Defer 2.006008
# Sub::Quote 2.006008
# Sub::Util 1.65
# Symbol 1.07
# Test::Builder 1.302204
# Test::Builder::Formatter 1.302204
# Test::Builder::Module 1.302204
# Test::Builder::TodoDiag 1.302204
# Test::More 1.302204
# Test2::API 1.302204
# Test2::API::Context 1.302204
# Test2::API::Instance 1.302204
# Test2::API::Stack 1.302204
# Test2::Event 1.302204
# Test2::Event::Bail 1.302204
# Test2::Event::Diag 1.302204
# Test2::Event::Exception 1.302204
# Test2::Event::Fail 1.302204
# Test2::Event::Note 1.302204
# Test2::Event::Ok 1.302204
# Test2::Event::Pass 1.302204
# Test2::Event::Plan 1.302204
# Test2::Event::Skip 1.302204
# Test2::Event::Subtest 1.302204
# Test2::Event::V2 1.302204
# Test2::Event::Waiting 1.302204
# Test2::EventFacet 1.302204
# Test2::EventFacet::About 1.302204
# Test2::EventFacet::Amnesty 1.302204
# Test2::EventFacet::Assert 1.302204
# Test2::EventFacet::Control 1.302204
# Test2::EventFacet::Error 1.302204
# Test2::EventFacet::Hub 1.302204
# Test2::EventFacet::Info 1.302204
# Test2::EventFacet::Meta 1.302204
# Test2::EventFacet::Parent 1.302204
# Test2::EventFacet::Plan 1.302204
# Test2::EventFacet::Trace 1.302204
# Test2::Formatter 1.302204
# Test2::Formatter::TAP 1.302204
# Test2::Hub 1.302204
# Test2::Hub::Interceptor 1.302204
# Test2::Hub::Interceptor::Terminator 1.302204
# Test2::Hub::Subtest 1.302204
# Test2::Util 1.302204
# Test2::Util::ExternalMeta 1.302204
# Test2::Util::Facets2Legacy 1.302204
# Test2::Util::HashBase 1.302204
# Test2::Util::Trace 1.302204
# Text::Balanced 2.06
# Text::CleanFragment 0.08
# Text::Unidecode 1.30
# Tie::Hash 1.05
# Time::HiRes 1.976402
# Types::Serialiser 1.0
# XML::LibXML 2.0210
# XML::LibXML::AttributeHash 2.0210
# XML::LibXML::Boolean 2.0210
# XML::LibXML::Error 2.0210
# XML::LibXML::Literal 2.0210
# XML::LibXML::NodeList 2.0210
# XML::LibXML::Number 2.0210
# XML::LibXML::XPathContext 2.0210
# XML::SAX::Exception 1.08
# XSLoader 0.24
# XString 0.005
# attributes 0.27
# base 2.23
# bytes 1.05
# common::sense 3.74
# constant 1.33
# experimental 0.032
# feature 1.42
# integer 1.01
# mro 1.18
# overload 1.26
# overloading 0.02
# parent 0.242
# re 0.32
# strict 1.11
# utf8 1.19
# vars 1.03
# version 0.9933
# version::regex 0.9933
# version::vxs 0.9933
# warnings 1.36
# warnings::register 1.04
t/00-load.t ................................ ok
t/002_http_upload_disallowedContentType.t .. ok
# Uploading sequence: 4 1 2 3
# Uploaded chunk 4
# Uploaded chunk 1
# Uploaded chunk 2
# Uploaded chunk 3
# []
# Cleaning up C:\Users\user\AppData\Local\Temp\oIF4mRiWUA
t/003_http_upload_flowjs.t ................. ok
# Cleaning up C:\Users\user\AppData\Local\Temp\f2RCz6f9d6
t/004_js-config.t .......................... ok
All tests successful.
Files=4, Tests=96,  8 wallclock secs ( 0.12 usr +  0.02 sys =  0.14 CPU)
Result: PASS

------------------------------
PREREQUISITES
------------------------------

Prerequisite modules loaded:

requires:

    Module              Need     Have    
    ------------------- -------- --------
    Carp                0        1.50    
    Data::Dumper        0        2.183   
    Filter::signatures  0.10     0.19    
    JSON                0        4.10    
    MIME::Detect        0        0.12    
    perl                5.010    5.024000
    Test::More          0        1.302204
    Text::CleanFragment 0        0.08    

build_requires:

    Module              Need     Have    
    ------------------- -------- --------
    ExtUtils::MakeMaker 0        7.71_01 
    Test::More          1.302007 1.302204

configure_requires:

    Module              Need     Have    
    ------------------- -------- --------
    ExtUtils::MakeMaker 0        7.71_01 


------------------------------
ENVIRONMENT AND OTHER CONTEXT
------------------------------

Environment variables:

    COMSPEC = C:\windows\system32\cmd.exe
    NONINTERACTIVE_TESTING = 1
    NUMBER_OF_PROCESSORS = 4
    PATH = C:\home\west\perl5\bin;C:\windows\system32;C:\windows;C:\windows\System32\Wbem;C:\windows\System32\WindowsPowerShell\v1.0\;C:\Strawberry\c\bin;C:\Strawberry\perl\site\bin;C:\Strawberry\perl\bin
    PERL5LIB = C:\home\west\perl5\lib\perl5
    PERL5OPT = 
    PERL5_CPANPLUS_IS_RUNNING = 6444
    PERL5_CPAN_IS_RUNNING = 6444
    PERL_LOCAL_LIB_ROOT = C:\home\west\perl5
    PERL_MB_OPT = --install_base "C:\\home\\west\\perl5"
    PERL_MM_OPT = INSTALL_BASE=C:\\home\\west\\perl5
    PERL_MM_USE_DEFAULT = 1
    PERL_USE_UNSAFE_INC = 1
    PROCESSOR_IDENTIFIER = x86 Family 6 Model 37 Stepping 5, GenuineIntel
    TEMP = C:\Users\user\AppData\Local\Temp
    TERM = dumb

Perl special variables (and OS-specific diagnostics, for MSWin32):

    $^X = C:\Strawberry\perl\bin\perl.exe
    $UID/$EUID = 0 / 0
    $GID = 0
    $EGID = 0
    Win32::GetOSName = Win7
    Win32::GetOSVersion = Service Pack 1, 6, 1, 7601, 2, 1, 0, 256, 1
    Win32::FsType = NTFS
    Win32::IsAdminUser = 0

Perl module toolchain versions installed:

    Module              Have    
    ------------------- --------
    CPAN                2.34    
    CPAN::Meta          2.150010
    Cwd                 3.75    
    ExtUtils::CBuilder  0.280236
    ExtUtils::Command   7.71_01 
    ExtUtils::Install   2.22    
    ExtUtils::MakeMaker 7.71_01 
    ExtUtils::Manifest  1.75    
    ExtUtils::ParseXS   3.51    
    File::Spec          3.75    
    JSON                4.10    
    JSON::PP            4.17_01 
    Module::Build       0.4234  
    Module::Signature   0.89    
    Parse::CPAN::Meta   2.150010
    Test2               1.302204
    Test::Harness       3.50    
    Test::More          1.302204
    YAML                1.31    
    YAML::Syck          1.34    
    version             0.9933  


--

Summary of my perl5 (revision 5 version 24 subversion 0) configuration:
   
  Platform:
    osname=MSWin32, osvers=6.3, archname=MSWin32-x86-multi-thread-64int
    uname='Win32 strawberry-perl 5.24.0.1 #1 Tue May 10 17:10:11 2016 i386'
    config_args='undef'
    hint=recommended, useposix=true, d_sigaction=undef
    useithreads=define, usemultiplicity=define
    use64bitint=define, use64bitall=undef, uselongdouble=undef
    usemymalloc=n, bincompat5005=undef
  Compiler:
    cc='gcc', ccflags =' -s -O2 -DWIN32  -DPERL_TEXTMODE_SCRIPTS -DPERL_IMPLICIT_CONTEXT -DPERL_IMPLICIT_SYS -fwrapv -fno-strict-aliasing -mms-bitfields',
    optimize='-s -O2',
    cppflags='-DWIN32'
    ccversion='', gccversion='4.9.2', gccosandvers=''
    intsize=4, longsize=4, ptrsize=4, doublesize=8, byteorder=12345678, doublekind=3
    d_longlong=define, longlongsize=8, d_longdbl=define, longdblsize=12, longdblkind=3
    ivtype='long long', ivsize=8, nvtype='double', nvsize=8, Off_t='long long', lseeksize=8
    alignbytes=8, prototype=define
  Linker and Libraries:
    ld='g++', ldflags ='-s -L"C:\Strawberry\perl\lib\CORE" -L"C:\Strawberry\c\lib"'
    libpth=C:\Strawberry\c\lib C:\Strawberry\c\i686-w64-mingw32\lib C:\Strawberry\c\lib\gcc\i686-w64-mingw32\4.9.2
    libs=-lmoldname -lkernel32 -luser32 -lgdi32 -lwinspool -lcomdlg32 -ladvapi32 -lshell32 -lole32 -loleaut32 -lnetapi32 -luuid -lws2_32 -lmpr -lwinmm -lversion -lodbc32 -lodbccp32 -lcomctl32
    perllibs=-lmoldname -lkernel32 -luser32 -lgdi32 -lwinspool -lcomdlg32 -ladvapi32 -lshell32 -lole32 -loleaut32 -lnetapi32 -luuid -lws2_32 -lmpr -lwinmm -lversion -lodbc32 -lodbccp32 -lcomctl32
    libc=, so=dll, useshrplib=true, libperl=libperl524.a
    gnulibc_version=''
  Dynamic Linking:
    dlsrc=dl_win32.xs, dlext=xs.dll, d_dlsymun=undef, ccdlflags=' '
    cccdlflags=' ', lddlflags='-mdll -s -L"C:\Strawberry\perl\lib\CORE" -L"C:\Strawberry\c\lib"'


Characteristics of this binary (from libperl): 
  Compile-time options: HAS_TIMES HAVE_INTERP_INTERN MULTIPLICITY
                        PERLIO_LAYERS PERL_COPY_ON_WRITE
                        PERL_DONT_CREATE_GVSV
                        PERL_HASH_FUNC_ONE_AT_A_TIME_HARD
                        PERL_IMPLICIT_CONTEXT PERL_IMPLICIT_SYS
                        PERL_MALLOC_WRAP PERL_PRESERVE_IVUV USE_64_BIT_INT
                        USE_ITHREADS USE_LARGE_FILES USE_LOCALE
                        USE_LOCALE_COLLATE USE_LOCALE_CTYPE
                        USE_LOCALE_NUMERIC USE_LOCALE_TIME USE_PERLIO
                        USE_PERL_ATOF
  Built under MSWin32
  Compiled at May 10 2016 17:20:50
  %ENV:
    PERL5LIB="C:\home\west\perl5\lib\perl5"
    PERL5_CPANPLUS_IS_RUNNING="6444"
    PERL5_CPAN_IS_RUNNING="6444"
    PERL_LOCAL_LIB_ROOT="C:\home\west\perl5"
    PERL_MB_OPT="--install_base "C:\\home\\west\\perl5""
    PERL_MM_OPT="INSTALL_BASE=C:\\home\\west\\perl5"
    PERL_MM_USE_DEFAULT="1"
    PERL_USE_UNSAFE_INC="1"
  @INC:
    C:\home\west\perl5\lib\perl5/MSWin32-x86-multi-thread-64int
    C:\home\west\perl5\lib\perl5
    C:/Strawberry/perl/site/lib
    C:/Strawberry/perl/vendor/lib
    C:/Strawberry/perl/lib
    .