Report for Math-Primality-0.08

Back
From: metabase:user:323dcade-2aae-11df-837a-5e0a49663a4f
Subject: PASS Math-Primality-0.08 v5.22.0 RC2 Mac OS X
Date: 2015-05-29T21:45:43Z

This distribution has been tested as part of the CPAN Testers
project, supporting the Perl programming language.  See
http://wiki.cpantesters.org/ for more information or email
questions to cpan-testers-discuss@perl.org


--
Dear Jonathan Leto,

This is a computer-generated report for Math-Primality-0.08
on perl 5.22.0, created by CPAN-Reporter-1.2014.

Thank you for uploading your work to CPAN.  Congratulations!
All tests were successful.

Sections of this report:

    * Tester comments
    * Program output
    * Prerequisites
    * Environment and other context

------------------------------
TESTER COMMENTS
------------------------------

Additional comments from tester:

none provided

------------------------------
PROGRAM OUTPUT
------------------------------

Output from '/usr/bin/make test':

PERL_DL_NONLAZY=1 "/usr/local/bin/perl5.22.0-nt@82b39489" "-MExtUtils::Command::MM" "-MTest::Harness" "-e" "undef *Test::Harness::Switches; test_harness(0, 'blib/lib', 'blib/arch')" t/*.t
# Testing Math::Primality 0.08, Perl 5.022000, /usr/local/bin/perl5.22.0-nt@82b39489
t/00-load.t ...................... ok
t/big_polynomial.t ............... ok
t/boilerplate.t .................. ok
t/is_aks_prime.t ................. ok
t/is_prime.t ..................... ok
t/is_prime_bigint.t .............. ok
t/is_pseudoprime.t ............... ok
t/is_strong_lucas_pseudoprime.t .. ok
t/is_strong_pseudoprime.t ........ ok
t/next_prime.t ................... ok
t/pod.t .......................... ok
t/prev_prime.t ................... ok
t/prime_count.t .................. ok
All tests successful.
Files=13, Tests=2517,  3 wallclock secs ( 0.22 usr  0.04 sys +  2.91 cusr  0.07 csys =  3.24 CPU)
Result: PASS

------------------------------
PREREQUISITES
------------------------------

Prerequisite modules loaded:

requires:

    Module              Need Have    
    ------------------- ---- --------
    base                0    2.22    
    Carp                0    1.36    
    constant            0    1.33    
    Data::Dumper        0    2.158   
    Exporter            0    5.72    
    integer             0    1.01    
    Math::GMPz          0.34 0.40    
    strict              0    1.09    
    warnings            0    1.32    

build_requires:

    Module              Need Have    
    ------------------- ---- --------
    bigint              0    0.39    
    POSIX               0    1.53    
    Test::Exception     0    0.38    
    Test::More          0    1.001014

configure_requires:

    Module              Need Have    
    ------------------- ---- --------
    ExtUtils::MakeMaker 6.30 7.04_01 
    Module::Build       0.38 0.4212  


------------------------------
ENVIRONMENT AND OTHER CONTEXT
------------------------------

Environment variables:

    LANG = en_US.UTF-8
    LC_CTYPE = en_US.UTF-8
    NONINTERACTIVE_TESTING = 1
    PATH = /opt/local/libexec/gnubin:/opt/local/bin:/opt/local/sbin:/Users/rurban/bin:/opt/local/libexec/perl5.18/sitebin:/usr/local/bin:/usr/bin:/bin:/usr/sbin:/sbin:/opt/X11/bin
    PERL5LIB = 
    PERL5OPT = 
    PERL5_CPANPLUS_IS_RUNNING = 78988
    PERL5_CPAN_IS_RUNNING = 78988
    PERL_MM_USE_DEFAULT = 1
    SHELL = /bin/bash
    TERM = xterm-256color
    TMPDIR = /var/folders/px/n5mb0_td0czbxztsqz1cg5c80000gn/T/

Perl special variables (and OS-specific diagnostics, for MSWin32):

    $^X = /usr/local/bin/perl5.22.0-nt@82b39489
    $UID/$EUID = 501 / 501
    $GID = 20 20 12 61 79 80 81 98 702 33 100 204 398 399 701
    $EGID = 20 20 12 61 79 80 81 98 702 33 100 204 398 399 701

Perl module toolchain versions installed:

    Module              Have    
    ------------------- --------
    CPAN                2.11    
    CPAN::Meta          2.150001
    Cwd                 3.56    
    ExtUtils::CBuilder  0.280221
    ExtUtils::Command   1.20    
    ExtUtils::Install   2.04    
    ExtUtils::MakeMaker 7.04_01 
    ExtUtils::Manifest  1.70    
    ExtUtils::ParseXS   3.28    
    File::Spec          3.56    
    JSON                2.90    
    JSON::PP            2.27300 
    Module::Build       0.4212  
    Module::Signature   0.79    
    Parse::CPAN::Meta   1.4414  
    Test::Harness       3.35    
    Test::More          1.001014
    YAML                1.15    
    YAML::Syck          n/a     
    version             0.9912  


--

Summary of my perl5 (revision 5 version 22 subversion 0) configuration:
  Derived from: 82b39489084a56af421660103282eb797f22bb00
  Platform:
    osname=darwin, osvers=14.3.0, archname=darwin@82b39489
    uname='darwin airc 14.3.0 darwin kernel version 14.3.0: mon mar 23 11:59:05 pdt 2015; root:xnu-2782.20.48~5release_x86_64 x86_64 i386 macbookair6,2 darwin '
    config_args='-de -Dusedevel -Uversiononly -Dinstallman1dir=none -Dinstallman3dir=none -Dinstallsiteman1dir=none -Dinstallsiteman3dir=none -Uuseithreads -Dcc='gcc-mp-4.8' -Dld='gcc-mp-4.8' -Accflags='-m64' -Accflags='-mssse3' -Duseshrplib -Aldflags=-flat_namespace'
    hint=recommended, useposix=true, d_sigaction=define
    useithreads=undef, usemultiplicity=undef
    use64bitint=define, use64bitall=define, uselongdouble=undef
    usemymalloc=n, bincompat5005=undef
  Compiler:
    cc='gcc-mp-4.8', ccflags ='-fno-common -DPERL_DARWIN -m64 -mssse3 -fwrapv -fno-strict-aliasing -pipe -fstack-protector -I/usr/local/include -I/opt/local/include',
    optimize='-O3',
    cppflags='-fno-common -DPERL_DARWIN -m64 -mssse3 -fwrapv -fno-strict-aliasing -pipe -fstack-protector -I/usr/local/include -I/opt/local/include'
    ccversion='', gccversion='4.8.4', gccosandvers=''
    intsize=4, longsize=8, ptrsize=8, doublesize=8, byteorder=12345678, doublekind=3
    d_longlong=define, longlongsize=8, d_longdbl=define, longdblsize=16, longdblkind=3
    ivtype='long', ivsize=8, nvtype='double', nvsize=8, Off_t='off_t', lseeksize=8
    alignbytes=8, prototype=define
  Linker and Libraries:
    ld='gcc-mp-4.8', ldflags =' -flat_namespace -fstack-protector -L/opt/local/lib -L/usr/local/lib -L/opt/local/lib/libgcc'
    libpth=/opt/local/lib /opt/local/lib/gcc48/gcc/x86_64-apple-darwin14/4.8.4/include-fixed /usr/lib /usr/local/lib /opt/local/lib/libgcc
    libs=-lpthread -lgdbm -ldbm -ldl -lm -lutil -lc
    perllibs=-lpthread -ldl -lm -lutil -lc
    libc=, so=dylib, useshrplib=true, libperl=libperl.dylib
    gnulibc_version=''
  Dynamic Linking:
    dlsrc=dl_dlopen.xs, dlext=bundle, d_dlsymun=undef, ccdlflags=' '
    cccdlflags=' ', lddlflags=' -bundle -undefined dynamic_lookup -L/opt/local/lib -L/usr/local/lib -L/opt/local/lib/libgcc -fstack-protector'


Characteristics of this binary (from libperl): 
  Compile-time options: HAS_TIMES PERLIO_LAYERS PERL_DONT_CREATE_GVSV
                        PERL_HASH_FUNC_ONE_AT_A_TIME_HARD PERL_MALLOC_WRAP
                        PERL_NEW_COPY_ON_WRITE PERL_PRESERVE_IVUV
                        PERL_USE_DEVEL USE_64_BIT_ALL USE_64_BIT_INT
                        USE_LARGE_FILES USE_LOCALE USE_LOCALE_COLLATE
                        USE_LOCALE_CTYPE USE_LOCALE_NUMERIC USE_LOCALE_TIME
                        USE_PERLIO USE_PERL_ATOF
  Locally applied patches:
	RC2
	uncommitted-changes
	Devel::PatchPerl 1.30
  Built under darwin
  Compiled at May 29 2015 23:08:07
  %ENV:
    PERL5LIB=""
    PERL5OPT=""
    PERL5_CPANPLUS_IS_RUNNING="78988"
    PERL5_CPAN_IS_RUNNING="78988"
    PERL_MM_USE_DEFAULT="1"
  @INC:
    /usr/local/lib/perl5/site_perl/5.22.0/darwin@82b39489
    /usr/local/lib/perl5/site_perl/5.22.0
    /usr/local/lib/perl5/5.22.0/darwin@82b39489
    /usr/local/lib/perl5/5.22.0
    /usr/local/lib/perl5/site_perl/5.21.11
    /usr/local/lib/perl5/site_perl/5.21.10
    /usr/local/lib/perl5/site_perl/5.21.9
    /usr/local/lib/perl5/site_perl/5.21.8
    /usr/local/lib/perl5/site_perl/5.21.5
    /usr/local/lib/perl5/site_perl/5.21.4
    /usr/local/lib/perl5/site_perl/5.21.3
    /usr/local/lib/perl5/site_perl/5.21.2
    /usr/local/lib/perl5/site_perl/5.21.1
    /usr/local/lib/perl5/site_perl/5.20.2
    /usr/local/lib/perl5/site_perl/5.20.1
    /usr/local/lib/perl5/site_perl/5.20.0
    /usr/local/lib/perl5/site_perl/5.19.9
    /usr/local/lib/perl5/site_perl/5.19.8
    /usr/local/lib/perl5/site_perl/5.19.6
    /usr/local/lib/perl5/site_perl/5.19.4
    /usr/local/lib/perl5/site_perl/5.19.2
    /usr/local/lib/perl5/site_perl/5.18.4
    /usr/local/lib/perl5/site_perl/5.18.2
    /usr/local/lib/perl5/site_perl/5.18.1
    /usr/local/lib/perl5/site_perl/5.18.0
    /usr/local/lib/perl5/site_perl/5.16.3
    /usr/local/lib/perl5/site_perl/5.16.1
    /usr/local/lib/perl5/site_perl/5.15.8
    /usr/local/lib/perl5/site_perl/5.14.4
    /usr/local/lib/perl5/site_perl/5.14.3
    /usr/local/lib/perl5/site_perl/5.14.2
    /usr/local/lib/perl5/site_perl/5.14.1
    /usr/local/lib/perl5/site_perl/5.14.0
    /usr/local/lib/perl5/site_perl/5.12.5
    /usr/local/lib/perl5/site_perl/5.12.4
    /usr/local/lib/perl5/site_perl/5.10.1
    /usr/local/lib/perl5/site_perl/5.8.9
    /usr/local/lib/perl5/site_perl/5.8.8
    /usr/local/lib/perl5/site_perl/5.8.5
    /usr/local/lib/perl5/site_perl/5.8.4
    /usr/local/lib/perl5/site_perl/5.6.2
    /usr/local/lib/perl5/site_perl
    .