Back
From: metabase:user:30f4dfbe-2aae-11df-837a-5e0a49663a4f
Subject: PASS MozRepl-0.06 v5.22.0 Mac OS X
Date: 2016-06-26T04:18:38Z
This distribution has been tested as part of the CPAN Testers
project, supporting the Perl programming language. See
http://wiki.cpantesters.org/ for more information or email
questions to cpan-testers-discuss@perl.org
--
Dear Toru Yamaguchi,
This is a computer-generated report for MozRepl-0.06
on perl 5.22.0, created by CPAN-Reporter-1.2017.
Thank you for uploading your work to CPAN. Congratulations!
All tests were successful.
Sections of this report:
* Tester comments
* Program output
* Prerequisites
* Environment and other context
------------------------------
TESTER COMMENTS
------------------------------
Additional comments from tester:
this report is from an automated smoke testing program
and was not reviewed by a human for accuracy
------------------------------
PROGRAM OUTPUT
------------------------------
Output from '/sw/bin/make test':
"/Users/hornenj/perl5/perlbrew/perls/perl-5.22.0/bin/perl5.22.0" "-Iinc" Makefile.PL --config= --installdeps=Data::JavaScript::Anon,0,Module::Pluggable::Fast,0,Net::Telnet,0,Template,0,Template::Provider::FromDATA,0
PERL_DL_NONLAZY=1 "/Users/hornenj/perl5/perlbrew/perls/perl-5.22.0/bin/perl5.22.0" "-MExtUtils::Command::MM" "-MTest::Harness" "-e" "undef *Test::Harness::Switches; test_harness(0, 'inc', 'blib/lib', 'blib/arch')" t/00-load.t t/10-plugin-repl-enter.t t/11-plugin-repl-search.t t/12-plugin-repl-inspect.t t/13-plugin-repl-load.t t/14-plugin-repl-rename.t t/15-plugin-repl-print.t t/16-plugin-repl-home.t t/17-plugin-repl-back.t t/18-plugin-repl-util-help_url_for.t t/19-plugin-repl-util-doc_for.t t/20-plugin-json.t t/pod-coverage.t t/pod.t
# Testing MozRepl 0.06
t/00-load.t ........................... ok
[DEBUG] MozRepl logging enabled
[DEBUG]
---- Client arguments ----
.----------------------+------------------------------------------.
| client_arg_name | client_arg_value |
+----------------------+------------------------------------------+
| host | localhost |
| port | 4242 |
| timeout | 10 |
| extra_client_args | {} |
'----------------------+------------------------------------------'
t/10-plugin-repl-enter.t .............. ok
[DEBUG] MozRepl logging enabled
[DEBUG]
---- Client arguments ----
.----------------------+------------------------------------------.
| client_arg_name | client_arg_value |
+----------------------+------------------------------------------+
| host | localhost |
| port | 4242 |
| timeout | 10 |
| extra_client_args | {} |
'----------------------+------------------------------------------'
t/11-plugin-repl-search.t ............. ok
[DEBUG] MozRepl logging enabled
[DEBUG]
---- Client arguments ----
.----------------------+------------------------------------------.
| client_arg_name | client_arg_value |
+----------------------+------------------------------------------+
| host | localhost |
| port | 4242 |
| timeout | 10 |
| extra_client_args | {} |
'----------------------+------------------------------------------'
t/12-plugin-repl-inspect.t ............ ok
[DEBUG] MozRepl logging enabled
[DEBUG]
---- Client arguments ----
.----------------------+------------------------------------------.
| client_arg_name | client_arg_value |
+----------------------+------------------------------------------+
| host | localhost |
| port | 4242 |
| timeout | 10 |
| extra_client_args | {} |
'----------------------+------------------------------------------'
t/13-plugin-repl-load.t ............... ok
[DEBUG] MozRepl logging enabled
[DEBUG]
---- Client arguments ----
.----------------------+------------------------------------------.
| client_arg_name | client_arg_value |
+----------------------+------------------------------------------+
| host | localhost |
| port | 4242 |
| timeout | 10 |
| extra_client_args | {} |
'----------------------+------------------------------------------'
t/14-plugin-repl-rename.t ............. ok
[DEBUG] MozRepl logging enabled
[DEBUG]
---- Client arguments ----
.----------------------+------------------------------------------.
| client_arg_name | client_arg_value |
+----------------------+------------------------------------------+
| host | localhost |
| port | 4242 |
| timeout | 10 |
| extra_client_args | {} |
'----------------------+------------------------------------------'
t/15-plugin-repl-print.t .............. ok
[DEBUG] MozRepl logging enabled
[DEBUG]
---- Client arguments ----
.----------------------+------------------------------------------.
| client_arg_name | client_arg_value |
+----------------------+------------------------------------------+
| host | localhost |
| port | 4242 |
| timeout | 10 |
| extra_client_args | {} |
'----------------------+------------------------------------------'
t/16-plugin-repl-home.t ............... ok
[DEBUG] MozRepl logging enabled
[DEBUG]
---- Client arguments ----
.----------------------+------------------------------------------.
| client_arg_name | client_arg_value |
+----------------------+------------------------------------------+
| host | localhost |
| port | 4242 |
| timeout | 10 |
| extra_client_args | {} |
'----------------------+------------------------------------------'
t/17-plugin-repl-back.t ............... ok
[DEBUG] MozRepl logging enabled
[DEBUG]
---- Client arguments ----
.----------------------+------------------------------------------.
| client_arg_name | client_arg_value |
+----------------------+------------------------------------------+
| host | localhost |
| port | 4242 |
| timeout | 10 |
| extra_client_args | {} |
'----------------------+------------------------------------------'
t/18-plugin-repl-util-help_url_for.t .. ok
[DEBUG] MozRepl logging enabled
[DEBUG]
---- Client arguments ----
.----------------------+------------------------------------------.
| client_arg_name | client_arg_value |
+----------------------+------------------------------------------+
| host | localhost |
| port | 4242 |
| timeout | 10 |
| extra_client_args | {} |
'----------------------+------------------------------------------'
t/19-plugin-repl-util-doc_for.t ....... ok
[DEBUG] MozRepl logging enabled
[DEBUG]
---- Client arguments ----
.----------------------+------------------------------------------.
| client_arg_name | client_arg_value |
+----------------------+------------------------------------------+
| host | localhost |
| port | 4242 |
| timeout | 10 |
| extra_client_args | {} |
'----------------------+------------------------------------------'
t/20-plugin-json.t .................... ok
t/pod-coverage.t ...................... ok
t/pod.t ............................... ok
All tests successful.
Files=14, Tests=74, 1 wallclock secs ( 0.03 usr 0.03 sys + 0.70 cusr 0.15 csys = 0.91 CPU)
Result: PASS
------------------------------
PREREQUISITES
------------------------------
Prerequisite modules loaded:
requires:
Module Need Have
---------------------------- ---- ----
Carp::Clan 0 6.04
Class::Accessor::Fast 0 0.34
Class::Data::Inheritable 0 0.08
Data::Dump 0 1.23
Data::JavaScript::Anon 0 1.03
File::Spec 0 3.56
Module::Pluggable::Fast 0 0.19
Net::Telnet 0 3.04
Template 0 2.26
Template::Provider::FromDATA 0 0.13
Text::SimpleTable 0 2.03
UNIVERSAL::require 0 0.18
URI 0 1.69
build_requires:
Module Need Have
---------------------------- ---- ----
ExtUtils::MakeMaker 0 7.10
------------------------------
ENVIRONMENT AND OTHER CONTEXT
------------------------------
Environment variables:
AUTOMATED_TESTING = 1
LANG = en_US.UTF-8
LC_ALL = POSIX
PATH = /Users/hornenj/perl5/perlbrew/bin:/Users/hornenj/perl5/perlbrew/perls/perl-5.22.0/bin:/Users/hornenj/perl5/perlbrew/bin:/Users/hornenj/bin:/sw/lib/perl5/ExtUtils:/sw/bin:/am/ncbiapdata/bin:/usr/bin:/bin:/usr/X11R6/bin:/netopt/ncbi_tools/bin:/usr/local/ncbi/blast/bin:/net/traces01.be-md.ncbi.nlm.nih.gov/trace_software/vdb/mac/release/x86_64/bin
PERL5LIB = /Users/hornenj/.cpan/build/Template-Provider-FromDATA-0.13-1peeFg/blib/arch:/Users/hornenj/.cpan/build/Template-Provider-FromDATA-0.13-1peeFg/blib/lib:/Users/hornenj/.cpan/build/Module-Pluggable-Fast-0.19-WfJ8V0/blib/arch:/Users/hornenj/.cpan/build/Module-Pluggable-Fast-0.19-WfJ8V0/blib/lib:/Users/hornenj/.cpan/build/Data-JavaScript-Anon-1.03-2apiNE/blib/arch:/Users/hornenj/.cpan/build/Data-JavaScript-Anon-1.03-2apiNE/blib/lib:/Users/hornenj/.cpan/build/Class-Default-1.51-94cKEH/blib/arch:/Users/hornenj/.cpan/build/Class-Default-1.51-94cKEH/blib/lib:/Users/hornenj/.cpan/build/Net-Telnet-3.04-aGzpT0/blib/arch:/Users/hornenj/.cpan/build/Net-Telnet-3.04-aGzpT0/blib/lib:/Users/hornenj/.cpan/build/Template-Toolkit-2.26-teApfn/blib/arch:/Users/hornenj/.cpan/build/Template-Toolkit-2.26-teApfn/blib/lib:/Users/hornenj/.cpan/build/IPC-Run-0.94-mcBLvD/blib/arch:/Users/hornenj/.cpan/build/IPC-Run-0.94-mcBLvD/blib/lib:/Users/hornenj/.cpan/build/Object-Import-1.004-nf4rYe/blib/arch:/Users/hornenj/.cpan/build/Object-Import-1.004-nf4rYe/blib/lib
PERL5OPT =
PERL5_CPANPLUS_IS_RUNNING = 50497
PERL5_CPAN_IS_RUNNING = 50497
PERL5_MINISMOKEBOX = 0.58
PERLBREW_BASHRC_VERSION = 0.75
PERLBREW_HOME = /Users/hornenj/.perlbrew
PERLBREW_LIB =
PERLBREW_MANPATH = /Users/hornenj/perl5/perlbrew/perls/perl-5.22.0/man
PERLBREW_PATH = /Users/hornenj/perl5/perlbrew/bin:/Users/hornenj/perl5/perlbrew/perls/perl-5.22.0/bin
PERLBREW_PERL = perl-5.22.0
PERLBREW_ROOT = /Users/hornenj/perl5/perlbrew
PERLBREW_VERSION = 0.75
PERL_EXTUTILS_AUTOINSTALL = --defaultdeps
PERL_LOCAL_LIB_ROOT =
PERL_MM_USE_DEFAULT = 1
SHELL = /bin/bash
TERM = xterm-256color
TMPDIR = /var/folders/pz/pd7y1qjs6s3cbk170cw50fjc000c61/T/
ac_cv_path_INTLTOOL_PERL = /usr/bin/perl
Perl special variables (and OS-specific diagnostics, for MSWin32):
$^X = /Users/hornenj/perl5/perlbrew/perls/perl-5.22.0/bin/perl5.22.0
$UID/$EUID = 12481 / 12481
$GID = 14 14 5344 37191 527 241
$EGID = 14 14 5344 37191 527 241
Perl module toolchain versions installed:
Module Have
------------------- --------
CPAN 2.10
CPAN::Meta 2.150005
Cwd 3.56
ExtUtils::CBuilder 0.280223
ExtUtils::Command 7.10
ExtUtils::Install 2.04
ExtUtils::MakeMaker 7.10
ExtUtils::Manifest 1.70
ExtUtils::ParseXS 3.30
File::Spec 3.56
JSON 2.90
JSON::PP 2.27300
Module::Build 0.4214
Module::Signature n/a
Parse::CPAN::Meta 1.4417
Test::Harness 3.35
Test::More 1.001014
YAML 1.15
YAML::Syck 1.29
version 0.9912
--
Summary of my perl5 (revision 5 version 22 subversion 0) configuration:
Platform:
osname=darwin, osvers=14.3.0, archname=darwin-thread-multi-2level
uname='darwin ncbimac2027.ncbi.nlm.nih.gov 14.3.0 darwin kernel version 14.3.0: mon mar 23 11:59:05 pdt 2015; root:xnu-2782.20.48~5release_x86_64 x86_64 '
config_args='-de -Dprefix=/Users/hornenj/perl5/perlbrew/perls/perl-5.22.0 -Duseithreads -Dusemultiplicity -Dusedevel -Accflags=-O2 -W -Wformat=2 -Wswitch -Wshadow -Wwrite-strings -Wuninitialized -Wall -pipe -mtune=native -march=native -fomit-frame-pointer -msse2 -msse -mmmx -pedantic -D_FORTIFY_SOURCE=2 -Wpointer-arith -Wstrict-prototypes -fstack-protector -Wstack-protector -Wextra -Wbad-function-cast -Wcast-align -Wcast-qual -Wdisabled-optimization -Wendif-labels -Wfloat-equal -Wformat-nonliteral -Winline -Wmissing-declarations -Wmissing-prototypes -Wnested-externs -Wpointer-arith -Wundef -Wformat-security -fassociative-math -Acc=cc -Aeval:scriptdir=/Users/hornenj/perl5/perlbrew/perls/perl-5.22.0/bin'
hint=recommended, useposix=true, d_sigaction=define
useithreads=define, usemultiplicity=define
use64bitint=define, use64bitall=define, uselongdouble=undef
usemymalloc=n, bincompat5005=undef
Compiler:
cc=' cc', ccflags ='-fno-common -DPERL_DARWIN -O2 -W -Wformat=2 -Wswitch -Wshadow -Wwrite-strings -Wuninitialized -Wall -pipe -mtune=native -march=native -fomit-frame-pointer -msse2 -msse -mmmx -pedantic -D_FORTIFY_SOURCE=2 -Wpointer-arith -Wstrict-prototypes -fstack-protector -Wstack-protector -Wextra -Wbad-function-cast -Wcast-align -Wcast-qual -Wdisabled-optimization -Wendif-labels -Wfloat-equal -Wformat-nonliteral -Winline -Wmissing-declarations -Wmissing-prototypes -Wnested-externs -Wpointer-arith -Wundef -Wformat-security -fassociative-math -fno-strict-aliasing -I/usr/local/include',
optimize='-O3',
cppflags='-fno-common -DPERL_DARWIN -O2 -W -Wformat=2 -Wswitch -Wshadow -Wwrite-strings -Wuninitialized -Wall -pipe -mtune=native -march=native -fomit-frame-pointer -msse2 -msse -mmmx -pedantic -D_FORTIFY_SOURCE=2 -Wpointer-arith -Wstrict-prototypes -fstack-protector -Wstack-protector -Wextra -Wbad-function-cast -Wcast-align -Wcast-qual -Wdisabled-optimization -Wendif-labels -Wfloat-equal -Wformat-nonliteral -Winline -Wmissing-declarations -Wmissing-prototypes -Wnested-externs -Wpointer-arith -Wundef -Wformat-security -fassociative-math -fno-strict-aliasing -I/usr/local/include'
ccversion='', gccversion='4.2.1 Compatible Apple LLVM 6.0 (clang-600.0.56)', gccosandvers=''
intsize=4, longsize=8, ptrsize=8, doublesize=8, byteorder=12345678, doublekind=3
d_longlong=define, longlongsize=8, d_longdbl=define, longdblsize=16, longdblkind=3
ivtype='long', ivsize=8, nvtype='double', nvsize=8, Off_t='off_t', lseeksize=8
alignbytes=8, prototype=define
Linker and Libraries:
ld='env MACOSX_DEPLOYMENT_TARGET=10.3 cc', ldflags =' -fstack-protector -L/usr/local/lib'
libpth=/Applications/Xcode.app/Contents/Developer/Toolchains/XcodeDefault.xctoolchain/usr/bin/../lib/clang/6.0/lib /Applications/Xcode.app/Contents/Developer/Toolchains/XcodeDefault.xctoolchain/usr/lib /Applications/Xcode.app/Contents/Developer/Platforms/MacOSX.platform/Developer/SDKs/MacOSX10.10.sdk/usr/lib /usr/local/lib /usr/lib
libs=-lpthread -ldbm -ldl -lm -lutil -lc
perllibs=-lpthread -ldl -lm -lutil -lc
libc=, so=dylib, useshrplib=false, libperl=libperl.a
gnulibc_version=''
Dynamic Linking:
dlsrc=dl_dlopen.xs, dlext=bundle, d_dlsymun=undef, ccdlflags=' '
cccdlflags=' ', lddlflags=' -bundle -undefined dynamic_lookup -L/usr/local/lib -fstack-protector'
Characteristics of this binary (from libperl):
Compile-time options: HAS_TIMES MULTIPLICITY PERLIO_LAYERS
PERL_DONT_CREATE_GVSV
PERL_HASH_FUNC_ONE_AT_A_TIME_HARD
PERL_IMPLICIT_CONTEXT PERL_MALLOC_WRAP
PERL_NEW_COPY_ON_WRITE PERL_PRESERVE_IVUV
PERL_USE_DEVEL USE_64_BIT_ALL USE_64_BIT_INT
USE_ITHREADS USE_LARGE_FILES USE_LOCALE
USE_LOCALE_COLLATE USE_LOCALE_CTYPE
USE_LOCALE_NUMERIC USE_LOCALE_TIME USE_PERLIO
USE_PERL_ATOF USE_REENTRANT_API
Locally applied patches:
Devel::PatchPerl 1.30
Built under darwin
Compiled at Jun 2 2015 11:16:32
%ENV:
PERL5LIB="/Users/hornenj/.cpan/build/Template-Provider-FromDATA-0.13-1peeFg/blib/arch:/Users/hornenj/.cpan/build/Template-Provider-FromDATA-0.13-1peeFg/blib/lib:/Users/hornenj/.cpan/build/Module-Pluggable-Fast-0.19-WfJ8V0/blib/arch:/Users/hornenj/.cpan/build/Module-Pluggable-Fast-0.19-WfJ8V0/blib/lib:/Users/hornenj/.cpan/build/Data-JavaScript-Anon-1.03-2apiNE/blib/arch:/Users/hornenj/.cpan/build/Data-JavaScript-Anon-1.03-2apiNE/blib/lib:/Users/hornenj/.cpan/build/Class-Default-1.51-94cKEH/blib/arch:/Users/hornenj/.cpan/build/Class-Default-1.51-94cKEH/blib/lib:/Users/hornenj/.cpan/build/Net-Telnet-3.04-aGzpT0/blib/arch:/Users/hornenj/.cpan/build/Net-Telnet-3.04-aGzpT0/blib/lib:/Users/hornenj/.cpan/build/Template-Toolkit-2.26-teApfn/blib/arch:/Users/hornenj/.cpan/build/Template-Toolkit-2.26-teApfn/blib/lib:/Users/hornenj/.cpan/build/IPC-Run-0.94-mcBLvD/blib/arch:/Users/hornenj/.cpan/build/IPC-Run-0.94-mcBLvD/blib/lib:/Users/hornenj/.cpan/build/Object-Import-1.004-nf4rYe/blib/arch:/Users/hornenj/.cpan/build/Object-Import-1.004-nf4rYe/blib/lib"
PERL5OPT=""
PERL5_CPANPLUS_IS_RUNNING="50497"
PERL5_CPAN_IS_RUNNING="50497"
PERL5_MINISMOKEBOX="0.58"
PERLBREW_BASHRC_VERSION="0.75"
PERLBREW_HOME="/Users/hornenj/.perlbrew"
PERLBREW_LIB=""
PERLBREW_MANPATH="/Users/hornenj/perl5/perlbrew/perls/perl-5.22.0/man"
PERLBREW_PATH="/Users/hornenj/perl5/perlbrew/bin:/Users/hornenj/perl5/perlbrew/perls/perl-5.22.0/bin"
PERLBREW_PERL="perl-5.22.0"
PERLBREW_ROOT="/Users/hornenj/perl5/perlbrew"
PERLBREW_VERSION="0.75"
PERL_EXTUTILS_AUTOINSTALL="--defaultdeps"
PERL_LOCAL_LIB_ROOT=""
PERL_MM_USE_DEFAULT="1"
@INC:
/Users/hornenj/.cpan/build/Template-Provider-FromDATA-0.13-1peeFg/blib/arch
/Users/hornenj/.cpan/build/Template-Provider-FromDATA-0.13-1peeFg/blib/lib
/Users/hornenj/.cpan/build/Module-Pluggable-Fast-0.19-WfJ8V0/blib/arch
/Users/hornenj/.cpan/build/Module-Pluggable-Fast-0.19-WfJ8V0/blib/lib
/Users/hornenj/.cpan/build/Data-JavaScript-Anon-1.03-2apiNE/blib/arch
/Users/hornenj/.cpan/build/Data-JavaScript-Anon-1.03-2apiNE/blib/lib
/Users/hornenj/.cpan/build/Class-Default-1.51-94cKEH/blib/arch
/Users/hornenj/.cpan/build/Class-Default-1.51-94cKEH/blib/lib
/Users/hornenj/.cpan/build/Net-Telnet-3.04-aGzpT0/blib/arch
/Users/hornenj/.cpan/build/Net-Telnet-3.04-aGzpT0/blib/lib
/Users/hornenj/.cpan/build/Template-Toolkit-2.26-teApfn/blib/arch
/Users/hornenj/.cpan/build/Template-Toolkit-2.26-teApfn/blib/lib
/Users/hornenj/.cpan/build/IPC-Run-0.94-mcBLvD/blib/arch
/Users/hornenj/.cpan/build/IPC-Run-0.94-mcBLvD/blib/lib
/Users/hornenj/.cpan/build/Object-Import-1.004-nf4rYe/blib/arch
/Users/hornenj/.cpan/build/Object-Import-1.004-nf4rYe/blib/lib
/Users/hornenj/perl5/perlbrew/perls/perl-5.22.0/lib/site_perl/5.22.0/darwin-thread-multi-2level
/Users/hornenj/perl5/perlbrew/perls/perl-5.22.0/lib/site_perl/5.22.0
/Users/hornenj/perl5/perlbrew/perls/perl-5.22.0/lib/5.22.0/darwin-thread-multi-2level
/Users/hornenj/perl5/perlbrew/perls/perl-5.22.0/lib/5.22.0
.