Memcached-libmemcached v1.001801 Perl 5 v5.28.0 x86_64-linux-thread-multi

Status
Pass
From
Slaven Rezić (SREZIC)
Dist
Memcached-libmemcached v1.001801
Platform
Perl 5 v5.28.0 x86_64-linux-thread-multi
Date
2019-01-03 08:03:29
ID
0e53c13c-0f2e-11e9-a94b-c1e951646adc
This distribution has been tested as part of the CPAN Testers
project, supporting the Perl programming language.  See
http://wiki.cpantesters.org/ for more information or email
questions to cpan-testers-discuss@perl.org


--
Dear Sean Patrick Burke,

This is a computer-generated report for Memcached-libmemcached-1.001801
on perl 5.28.0, created by CPAN-Reporter-1.2018.

Thank you for uploading your work to CPAN.  Congratulations!
All tests were successful.

Sections of this report:

    * Tester comments
    * Program output
    * Prerequisites
    * Environment and other context

------------------------------
TESTER COMMENTS
------------------------------

Additional comments from tester:

none provided

------------------------------
PROGRAM OUTPUT
------------------------------

Output from '/usr/bin/make test':

"/opt/perl-5.28.0t/bin/perl" -MExtUtils::Command::MM -e 'cp_nonempty' -- libmemcached.bs blib/arch/auto/Memcached/libmemcached/libmemcached.bs 644
PERL_DL_NONLAZY=1 "/opt/perl-5.28.0t/bin/perl" "-MExtUtils::Command::MM" "-MTest::Harness" "-e" "undef *Test::Harness::Switches; test_harness(0, 'blib/lib', 'blib/arch')" t/*.t
# Testing Memcached::libmemcached 1.001801, Perl 5.028000, linux, /opt/perl-5.28.0t/bin/perl
t/00-load.t ...................... ok
t/01-import.t .................... ok
t/02-create.t .................... ok
t/02-subclass.t .................. ok
t/03-servers.t ................... ok
t/04-strerror.t .................. skipped: Can't talk to any memcached servers
t/05-behavior.t .................. skipped: Can't talk to any memcached servers
t/06-verbosity.t ................. skipped: Can't talk to any memcached servers
t/10-set-get.t ................... skipped: Can't talk to any memcached servers
t/11-set-get-by-key.t ............ skipped: Can't talk to any memcached servers
t/12-set-get-binary.t ............ skipped: Can't talk to any memcached servers
t/15-auto.t ...................... skipped: Can't talk to any memcached servers
t/20-set.t ....................... skipped: Can't talk to any memcached servers
t/21-set-by-key.t ................ skipped: Can't talk to any memcached servers
t/25-get.t ....................... skipped: Can't talk to any memcached servers
t/26-get-cb.t .................... skipped: Can't talk to any memcached servers
t/27-set-cb.t .................... skipped: Can't talk to any memcached servers
t/28-get-prefix.t ................ skipped: Can't talk to any memcached servers
t/30-prepend-append.t ............ skipped: Can't talk to any memcached servers
t/31-prepend-append-by-key.t ..... skipped: Can't talk to any memcached servers
t/35-replace.t ................... skipped: Can't talk to any memcached servers
t/36-replace-by-key.t ............ skipped: Can't talk to any memcached servers
t/40-delete.t .................... skipped: Can't talk to any memcached servers
t/41-delete-by-key.t ............. skipped: Can't talk to any memcached servers
t/42-get_server_for_key.t ........ ok
t/50-quit.t ...................... skipped: Can't talk to any memcached servers
t/51-flush.t ..................... skipped: Can't talk to any memcached servers
t/60-stats.t ..................... skipped: Can't talk to any memcached servers
t/80-result_st.t ................. skipped: Can't talk to any memcached servers
  93 Functions not yet implemented and documented:
	memcached_analyze
	memcached_analyze_free
	memcached_autoeject
	memcached_behavior_get_distribution
	memcached_behavior_get_distribution_hash
	memcached_behavior_get_key_hash
	memcached_behavior_set_distribution
	memcached_behavior_set_distribution_hash
	memcached_behavior_set_key_hash
	memcached_bucket_set
	memcached_c_str
	memcached_continue
	memcached_destroy_sasl_auth_data
	memcached_dump
	memcached_error
	memcached_error_print
	memcached_exist
	memcached_exist_by_key
	memcached_failed
	memcached_fatal
	memcached_fetch_execute
	memcached_fetch_result
	memcached_flush_buffers
	memcached_generate_hash
	memcached_generate_hash_value
	memcached_get_hashkit
	memcached_get_memory_allocators
	memcached_get_memory_allocators_context
	memcached_get_sasl_callbacks
	memcached_get_user_data
	memcached_instance_next_retry
	memcached_last_error
	memcached_last_error_errno
	memcached_last_error_message
	memcached_mget_execute
	memcached_mget_execute_by_key
	memcached_push
	memcached_query_id
	memcached_reset
	memcached_reset_last_disconnected_server
	memcached_result_cas
	memcached_result_create
	memcached_result_flags
	memcached_result_free
	memcached_result_key_length
	memcached_result_key_value
	memcached_result_length
	memcached_result_reset
	memcached_result_set_expiration
	memcached_result_set_flags
	memcached_result_set_value
	memcached_result_take_value
	memcached_result_value
	memcached_return_t
	memcached_server_add_udp
	memcached_server_add_udp_with_weight
	memcached_server_by_key
	memcached_server_cursor
	memcached_server_error
	memcached_server_error_reset
	memcached_server_error_return
	memcached_server_free
	memcached_server_get_last_disconnect
	memcached_server_instance_by_position
	memcached_server_list_append_with_weight
	memcached_server_list_count
	memcached_server_major_version
	memcached_server_micro_version
	memcached_server_minor_version
	memcached_server_name
	memcached_server_port
	memcached_server_response_count
	memcached_server_srcport
	memcached_server_type
	memcached_servers_reset
	memcached_set_encoding_key
	memcached_set_hashkit
	memcached_set_memory_allocators
	memcached_set_sasl_auth_data
	memcached_set_sasl_callbacks
	memcached_set_user_data
	memcached_size
	memcached_stat
	memcached_stat_execute
	memcached_stat_free
	memcached_stat_get_keys
	memcached_stat_get_value
	memcached_stat_servername
	memcached_string_param
	memcached_string_printf
	memcached_success
	memcached_touch
	memcached_touch_by_key
t/api-coverage.t ................. ok
t/extended-consistent-hashing.t .. skipped: Set PERL_LIBMEMCACHED_TEST_SERVERS env var to at least 5 servers to run this test
t/pod-coverage.t ................. ok
t/pod.t .......................... ok
All tests successful.
Files=33, Tests=107,  4 wallclock secs ( 0.22 usr  0.31 sys +  2.88 cusr  0.73 csys =  4.14 CPU)
Result: PASS

------------------------------
PREREQUISITES
------------------------------

Prerequisite modules loaded:

requires:

    Module              Need Have    
    ------------------- ---- --------
    Test::More          0    1.302136

build_requires:

    Module              Need Have    
    ------------------- ---- --------
    ExtUtils::MakeMaker 0    7.34    


------------------------------
ENVIRONMENT AND OTHER CONTEXT
------------------------------

Environment variables:

    LANG = C
    PATH = /usr/local/bin:/usr/bin:/bin:/usr/local/sbin:/usr/sbin:/sbin:/home/cpansand/bin/linux-gnu:/home/cpansand/bin/sh:/home/cpansand/bin:/usr/games:/home/cpansand/devel:/home/eserte/src/srezic-misc/scripts
    PERL5LIB = /home/cpansand/.cpan/build/2019010307/Mojolicious-8.11-13/blib/arch:/home/cpansand/.cpan/build/2019010307/Mojolicious-8.11-13/blib/lib
    PERL5OPT = 
    PERL5_CPANPLUS_IS_RUNNING = 10341
    PERL5_CPAN_IS_RUNNING = 10341
    PERL5_CPAN_IS_RUNNING_IN_RECURSION = 14096,10341
    PERLDOC = -MPod::Perldoc::ToTextOverstrike
    PERL_BATCH = yes
    PERL_CANARY_STABILITY_NOPROMPT = 1
    PERL_CPAN_REPORTER_CONFIG = /var/tmp/cpansmoker-1023/2019010221/cpanreporter_000_config.ini
    PERL_EXTUTILS_AUTOINSTALL = --defaultdeps
    PERL_USE_UNSAFE_INC = 1
    SHELL = /usr/bin/zsh
    TERM = screen
    TMPDIR = /var/tmp/cpansmoker-1023/2019010221

Perl special variables (and OS-specific diagnostics, for MSWin32):

    $^X = /opt/perl-5.28.0t/bin/perl
    $UID/$EUID = 1023 / 1023
    $GID = 1023 1023
    $EGID = 1023 1023

Perl module toolchain versions installed:

    Module              Have    
    ------------------- --------
    CPAN                2.20    
    CPAN::Meta          2.150010
    Cwd                 3.74    
    ExtUtils::CBuilder  0.280230
    ExtUtils::Command   7.34    
    ExtUtils::Install   2.14    
    ExtUtils::MakeMaker 7.34    
    ExtUtils::Manifest  1.70    
    ExtUtils::ParseXS   3.39    
    File::Spec          3.74    
    JSON                2.97001 
    JSON::PP            2.97001 
    Module::Build       0.4224  
    Module::Signature   0.81    
    Parse::CPAN::Meta   2.150010
    Test::Harness       3.42    
    Test::More          1.302136
    YAML                1.26    
    YAML::Syck          1.30    
    version             0.9923  


--

Summary of my perl5 (revision 5 version 28 subversion 0) configuration:
   
  Platform:
    osname=linux
    osvers=3.16.0-6-amd64
    archname=x86_64-linux-thread-multi
    uname='linux debian8 3.16.0-6-amd64 #1 smp debian 3.16.56-1+deb8u1 (2018-05-08) x86_64 gnulinux '
    config_args='-ds -e -Dprefix=/opt/perl-5.28.0t -Dusethreads -Dcf_email=srezic@cpan.org'
    hint=recommended
    useposix=true
    d_sigaction=define
    useithreads=define
    usemultiplicity=define
    use64bitint=define
    use64bitall=define
    uselongdouble=undef
    usemymalloc=n
    default_inc_excludes_dot=define
    bincompat5005=undef
  Compiler:
    cc='cc'
    ccflags ='-D_REENTRANT -D_GNU_SOURCE -fwrapv -fno-strict-aliasing -pipe -fstack-protector-strong -I/usr/local/include -D_LARGEFILE_SOURCE -D_FILE_OFFSET_BITS=64 -D_FORTIFY_SOURCE=2'
    optimize='-O2'
    cppflags='-D_REENTRANT -D_GNU_SOURCE -fwrapv -fno-strict-aliasing -pipe -fstack-protector-strong -I/usr/local/include'
    ccversion=''
    gccversion='4.9.2'
    gccosandvers=''
    intsize=4
    longsize=8
    ptrsize=8
    doublesize=8
    byteorder=12345678
    doublekind=3
    d_longlong=define
    longlongsize=8
    d_longdbl=define
    longdblsize=16
    longdblkind=3
    ivtype='long'
    ivsize=8
    nvtype='double'
    nvsize=8
    Off_t='off_t'
    lseeksize=8
    alignbytes=8
    prototype=define
  Linker and Libraries:
    ld='cc'
    ldflags =' -fstack-protector-strong -L/usr/local/lib'
    libpth=/usr/local/lib /usr/lib/gcc/x86_64-linux-gnu/4.9/include-fixed /usr/include/x86_64-linux-gnu /usr/lib /lib/x86_64-linux-gnu /lib/../lib /usr/lib/x86_64-linux-gnu /usr/lib/../lib /lib
    libs=-lpthread -lnsl -lgdbm -ldb -ldl -lm -lcrypt -lutil -lc -lgdbm_compat
    perllibs=-lpthread -lnsl -ldl -lm -lcrypt -lutil -lc
    libc=libc-2.19.so
    so=so
    useshrplib=false
    libperl=libperl.a
    gnulibc_version='2.19'
  Dynamic Linking:
    dlsrc=dl_dlopen.xs
    dlext=so
    d_dlsymun=undef
    ccdlflags='-Wl,-E'
    cccdlflags='-fPIC'
    lddlflags='-shared -O2 -L/usr/local/lib -fstack-protector-strong'


Characteristics of this binary (from libperl): 
  Compile-time options:
    HAS_TIMES
    MULTIPLICITY
    PERLIO_LAYERS
    PERL_COPY_ON_WRITE
    PERL_DONT_CREATE_GVSV
    PERL_IMPLICIT_CONTEXT
    PERL_MALLOC_WRAP
    PERL_OP_PARENT
    PERL_PRESERVE_IVUV
    USE_64_BIT_ALL
    USE_64_BIT_INT
    USE_ITHREADS
    USE_LARGE_FILES
    USE_LOCALE
    USE_LOCALE_COLLATE
    USE_LOCALE_CTYPE
    USE_LOCALE_NUMERIC
    USE_LOCALE_TIME
    USE_PERLIO
    USE_PERL_ATOF
    USE_REENTRANT_API
  Built under linux
  Compiled at Jun 23 2018 06:43:55
  %ENV:
    PERL5LIB="/home/cpansand/.cpan/build/2019010307/Mojolicious-8.11-13/blib/arch:/home/cpansand/.cpan/build/2019010307/Mojolicious-8.11-13/blib/lib"
    PERL5OPT=""
    PERL5_CPANPLUS_IS_RUNNING="10341"
    PERL5_CPAN_IS_RUNNING="10341"
    PERL5_CPAN_IS_RUNNING_IN_RECURSION="14096,10341"
    PERLDOC="-MPod::Perldoc::ToTextOverstrike"
    PERL_BATCH="yes"
    PERL_CANARY_STABILITY_NOPROMPT="1"
    PERL_CPAN_REPORTER_CONFIG="/var/tmp/cpansmoker-1023/2019010221/cpanreporter_000_config.ini"
    PERL_EXTUTILS_AUTOINSTALL="--defaultdeps"
    PERL_USE_UNSAFE_INC="1"
  @INC:
    /home/cpansand/.cpan/build/2019010307/Mojolicious-8.11-13/blib/arch
    /home/cpansand/.cpan/build/2019010307/Mojolicious-8.11-13/blib/lib
    /opt/perl-5.28.0t/lib/site_perl/5.28.0/x86_64-linux-thread-multi
    /opt/perl-5.28.0t/lib/site_perl/5.28.0
    /opt/perl-5.28.0t/lib/5.28.0/x86_64-linux-thread-multi
    /opt/perl-5.28.0t/lib/5.28.0
    .