Report for MozRepl-0.06

Back
From: metabase:user:0d96120c-29e2-11e5-b049-ede3035d37de
Subject: PASS MozRepl-0.06 v5.23.1 SunOS/Solaris
Date: 2015-08-05T23:45:30Z

This distribution has been tested as part of the CPAN Testers
project, supporting the Perl programming language.  See
http://wiki.cpantesters.org/ for more information or email
questions to cpan-testers-discuss@perl.org


--
Dear Toru Yamaguchi,

This is a computer-generated report for MozRepl-0.06
on perl 5.23.1, created by CPAN-Reporter-1.2015.

Thank you for uploading your work to CPAN.  Congratulations!
All tests were successful.

Sections of this report:

    * Tester comments
    * Program output
    * Prerequisites
    * Environment and other context

------------------------------
TESTER COMMENTS
------------------------------

Additional comments from tester:

this report is from an automated smoke testing program
and was not reviewed by a human for accuracy

CPU            : Intel(r) Xeon(r) CPU E5-1650 v3 @ 3.50GHz
MEMORY         : 8.00 GB
ARCH           : i86pc
OS             : Solaris 5.11
KERNEL         : SunOS 5.11
VIRTUALIZATION : virtualbox

------------------------------
PROGRAM OUTPUT
------------------------------

Output from '/usr/bin/make test':

"/export/home/jmaslak/perl5/perlbrew/perls/perl-5.23.1-64int/bin/perl5.23.1" "-Iinc" Makefile.PL --config= --installdeps=Data::JavaScript::Anon,0,Module::Pluggable::Fast,0,Net::Telnet,0,Template,0,Template::Provider::FromDATA,0,UNIVERSAL::require,0
PERL_DL_NONLAZY=1 "/export/home/jmaslak/perl5/perlbrew/perls/perl-5.23.1-64int/bin/perl5.23.1" "-MExtUtils::Command::MM" "-MTest::Harness" "-e" "undef *Test::Harness::Switches; test_harness(0, 'inc', 'blib/lib', 'blib/arch')" t/00-load.t t/10-plugin-repl-enter.t t/11-plugin-repl-search.t t/12-plugin-repl-inspect.t t/13-plugin-repl-load.t t/14-plugin-repl-rename.t t/15-plugin-repl-print.t t/16-plugin-repl-home.t t/17-plugin-repl-back.t t/18-plugin-repl-util-help_url_for.t t/19-plugin-repl-util-doc_for.t t/20-plugin-json.t t/pod-coverage.t t/pod.t
# Testing MozRepl 0.06
t/00-load.t ........................... ok
[DEBUG] MozRepl logging enabled
[DEBUG] 
---- Client arguments ----
.----------------------+------------------------------------------.
| client_arg_name      | client_arg_value                         |
+----------------------+------------------------------------------+
| host                 | localhost                                |
| port                 | 4242                                     |
| timeout              | 10                                       |
| extra_client_args    | {}                                       |
'----------------------+------------------------------------------'
t/10-plugin-repl-enter.t .............. ok
[DEBUG] MozRepl logging enabled
[DEBUG] 
---- Client arguments ----
.----------------------+------------------------------------------.
| client_arg_name      | client_arg_value                         |
+----------------------+------------------------------------------+
| host                 | localhost                                |
| port                 | 4242                                     |
| timeout              | 10                                       |
| extra_client_args    | {}                                       |
'----------------------+------------------------------------------'
t/11-plugin-repl-search.t ............. ok
[DEBUG] MozRepl logging enabled
[DEBUG] 
---- Client arguments ----
.----------------------+------------------------------------------.
| client_arg_name      | client_arg_value                         |
+----------------------+------------------------------------------+
| host                 | localhost                                |
| port                 | 4242                                     |
| timeout              | 10                                       |
| extra_client_args    | {}                                       |
'----------------------+------------------------------------------'
t/12-plugin-repl-inspect.t ............ ok
[DEBUG] MozRepl logging enabled
[DEBUG] 
---- Client arguments ----
.----------------------+------------------------------------------.
| client_arg_name      | client_arg_value                         |
+----------------------+------------------------------------------+
| host                 | localhost                                |
| port                 | 4242                                     |
| timeout              | 10                                       |
| extra_client_args    | {}                                       |
'----------------------+------------------------------------------'
t/13-plugin-repl-load.t ............... ok
[DEBUG] MozRepl logging enabled
[DEBUG] 
---- Client arguments ----
.----------------------+------------------------------------------.
| client_arg_name      | client_arg_value                         |
+----------------------+------------------------------------------+
| host                 | localhost                                |
| port                 | 4242                                     |
| timeout              | 10                                       |
| extra_client_args    | {}                                       |
'----------------------+------------------------------------------'
t/14-plugin-repl-rename.t ............. ok
[DEBUG] MozRepl logging enabled
[DEBUG] 
---- Client arguments ----
.----------------------+------------------------------------------.
| client_arg_name      | client_arg_value                         |
+----------------------+------------------------------------------+
| host                 | localhost                                |
| port                 | 4242                                     |
| timeout              | 10                                       |
| extra_client_args    | {}                                       |
'----------------------+------------------------------------------'
t/15-plugin-repl-print.t .............. ok
[DEBUG] MozRepl logging enabled
[DEBUG] 
---- Client arguments ----
.----------------------+------------------------------------------.
| client_arg_name      | client_arg_value                         |
+----------------------+------------------------------------------+
| host                 | localhost                                |
| port                 | 4242                                     |
| timeout              | 10                                       |
| extra_client_args    | {}                                       |
'----------------------+------------------------------------------'
t/16-plugin-repl-home.t ............... ok
[DEBUG] MozRepl logging enabled
[DEBUG] 
---- Client arguments ----
.----------------------+------------------------------------------.
| client_arg_name      | client_arg_value                         |
+----------------------+------------------------------------------+
| host                 | localhost                                |
| port                 | 4242                                     |
| timeout              | 10                                       |
| extra_client_args    | {}                                       |
'----------------------+------------------------------------------'
t/17-plugin-repl-back.t ............... ok
[DEBUG] MozRepl logging enabled
[DEBUG] 
---- Client arguments ----
.----------------------+------------------------------------------.
| client_arg_name      | client_arg_value                         |
+----------------------+------------------------------------------+
| host                 | localhost                                |
| port                 | 4242                                     |
| timeout              | 10                                       |
| extra_client_args    | {}                                       |
'----------------------+------------------------------------------'
t/18-plugin-repl-util-help_url_for.t .. ok
[DEBUG] MozRepl logging enabled
[DEBUG] 
---- Client arguments ----
.----------------------+------------------------------------------.
| client_arg_name      | client_arg_value                         |
+----------------------+------------------------------------------+
| host                 | localhost                                |
| port                 | 4242                                     |
| timeout              | 10                                       |
| extra_client_args    | {}                                       |
'----------------------+------------------------------------------'
t/19-plugin-repl-util-doc_for.t ....... ok
[DEBUG] MozRepl logging enabled
[DEBUG] 
---- Client arguments ----
.----------------------+------------------------------------------.
| client_arg_name      | client_arg_value                         |
+----------------------+------------------------------------------+
| host                 | localhost                                |
| port                 | 4242                                     |
| timeout              | 10                                       |
| extra_client_args    | {}                                       |
'----------------------+------------------------------------------'
t/20-plugin-json.t .................... ok
t/pod-coverage.t ...................... skipped: Test::Pod::Coverage 1.04 required for testing POD coverage
t/pod.t ............................... ok
All tests successful.
Files=14, Tests=58,  3 wallclock secs ( 0.10 usr  0.10 sys +  1.27 cusr  1.13 csys =  2.60 CPU)
Result: PASS

------------------------------
PREREQUISITES
------------------------------

Prerequisite modules loaded:

requires:

    Module                       Need Have   
    ---------------------------- ---- -------
    Carp::Clan                   0    6.04   
    Class::Accessor::Fast        0    0.34   
    Class::Data::Inheritable     0    0.08   
    Data::Dump                   0    1.23   
    Data::JavaScript::Anon       0    1.03   
    File::Spec                   0    3.56   
    Module::Pluggable::Fast      0    0.19   
    Net::Telnet                  0    3.04   
    Template                     0    2.26   
    Template::Provider::FromDATA 0    0.13   
    Text::SimpleTable            0    2.03   
    UNIVERSAL::require           0    0.18   
    URI                          0    1.69   

build_requires:

    Module                       Need Have   
    ---------------------------- ---- -------
    ExtUtils::MakeMaker          0    7.04_01


------------------------------
ENVIRONMENT AND OTHER CONTEXT
------------------------------

Environment variables:

    AUTOMATED_TESTING = 1
    LANG = en_US.UTF-8
    LC_ALL = 
    LC_COLLATE = 
    LC_CTYPE = 
    LC_MESSAGES = 
    LC_MONETARY = 
    LC_NUMERIC = 
    LC_TIME = 
    NONINTERACTIVE_TESTING = 1
    PATH = /export/home/jmaslak/perl5/perlbrew/bin:/export/home/jmaslak/perl5/perlbrew/perls/perl-5.23.1-64int/bin:/export/home/jmaslak/perltest/bin:/export/home/jmaslak/perltest/bin:/export/home/jmaslak/perltest/bin:/export/home/jmaslak/bin:~/bin:/export/home/jmaslak/perl5/perlbrew/bin:/export/home/jmaslak/perl5/perlbrew/perls/perl-5.23.1/bin:/usr/bin:/bin:/usr/ccs/bin:/usr/sbin:/usr/ccs/bin:/opt/solarisstudio12.4/bin:/usr/ucb:~/perltest/bin
    PERL5LIB = /export/home/jmaslak/.cpan/build/Module-Pluggable-Fast-0.19-bT5w61/blib/arch:/export/home/jmaslak/.cpan/build/Module-Pluggable-Fast-0.19-bT5w61/blib/lib:/export/home/jmaslak/.cpan/build/UNIVERSAL-require-0.18-bQtqWE/blib/arch:/export/home/jmaslak/.cpan/build/UNIVERSAL-require-0.18-bQtqWE/blib/lib:/export/home/jmaslak/.cpan/build/Template-Provider-FromDATA-0.13-Hlsc9T/blib/arch:/export/home/jmaslak/.cpan/build/Template-Provider-FromDATA-0.13-Hlsc9T/blib/lib:/export/home/jmaslak/.cpan/build/Template-Toolkit-2.26-z49VKY/blib/arch:/export/home/jmaslak/.cpan/build/Template-Toolkit-2.26-z49VKY/blib/lib:/export/home/jmaslak/.cpan/build/AppConfig-1.71-UPsZZ6/blib/arch:/export/home/jmaslak/.cpan/build/AppConfig-1.71-UPsZZ6/blib/lib:/export/home/jmaslak/.cpan/build/Test-Pod-1.51-CGC5Qm/blib/arch:/export/home/jmaslak/.cpan/build/Test-Pod-1.51-CGC5Qm/blib/lib:/export/home/jmaslak/.cpan/build/Data-JavaScript-Anon-1.03-74GnFC/blib/arch:/export/home/jmaslak/.cpan/build/Data-JavaScript-Anon-1.03-74GnFC/blib/lib:/export/home/jmaslak/.cpan/build/Class-Default-1.51-eR6PIO/blib/arch:/export/home/jmaslak/.cpan/build/Class-Default-1.51-eR6PIO/blib/lib:/export/home/jmaslak/.cpan/build/Net-Telnet-3.04-Muk0XR/blib/arch:/export/home/jmaslak/.cpan/build/Net-Telnet-3.04-Muk0XR/blib/lib:/export/home/jmaslak/.cpan/build/Shell-Command-0.06-4SE43V/blib/arch:/export/home/jmaslak/.cpan/build/Shell-Command-0.06-4SE43V/blib/lib
    PERL5OPT = 
    PERL5_CPANPLUS_IS_RUNNING = 23796
    PERL5_CPAN_IS_RUNNING = 23796
    PERL5_CPAN_IS_RUNNING_IN_RECURSION = 4194,23796
    PERLBREW_BASHRC_VERSION = 0.73
    PERLBREW_HOME = /export/home/jmaslak/.perlbrew
    PERLBREW_LIB = 
    PERLBREW_MANPATH = /export/home/jmaslak/perl5/perlbrew/perls/perl-5.23.1-64int/man
    PERLBREW_PATH = /export/home/jmaslak/perl5/perlbrew/bin:/export/home/jmaslak/perl5/perlbrew/perls/perl-5.23.1-64int/bin
    PERLBREW_PERL = perl-5.23.1-64int
    PERLBREW_ROOT = /export/home/jmaslak/perl5/perlbrew
    PERLBREW_VERSION = 0.73
    PERL_CR_SMOKER_CURRENT = WWW-Mechanize-Firefox-0.78
    PERL_EXTUTILS_AUTOINSTALL = --defaultdeps
    PERL_LOCAL_LIB_ROOT = 
    PERL_MM_USE_DEFAULT = 1
    SHELL = /usr/bin/bash
    TERM = screen

Perl special variables (and OS-specific diagnostics, for MSWin32):

    $^X = /export/home/jmaslak/perl5/perlbrew/perls/perl-5.23.1-64int/bin/perl5.23.1
    $UID/$EUID = 100 / 100
    $GID = 10 10
    $EGID = 10 10

Perl module toolchain versions installed:

    Module              Have    
    ------------------- --------
    CPAN                2.11    
    CPAN::Meta          2.150005
    Cwd                 3.56    
    ExtUtils::CBuilder  0.280223
    ExtUtils::Command   1.20    
    ExtUtils::Install   2.04    
    ExtUtils::MakeMaker 7.04_01 
    ExtUtils::Manifest  1.70    
    ExtUtils::ParseXS   3.28    
    File::Spec          3.56    
    JSON                2.90    
    JSON::PP            2.27300 
    Module::Build       0.4214  
    Module::Signature   n/a     
    Parse::CPAN::Meta   1.4417  
    Test::Harness       3.35    
    Test::More          1.001014
    YAML                1.15    
    YAML::Syck          n/a     
    version             0.9909  


--

Summary of my perl5 (revision 5 version 23 subversion 1) configuration:
   
  Platform:
    osname=solaris, osvers=2.11, archname=i86pc-solaris-64int
    uname='sunos solaris.antelope.net 5.11 11.2 i86pc i386 i86pc '
    config_args='-de -Dprefix=/export/home/jmaslak/perl5/perlbrew/perls/perl-5.23.1-64int -Duse64bitint -Dusedevel -Aeval:scriptdir=/export/home/jmaslak/perl5/perlbrew/perls/perl-5.23.1-64int/bin'
    hint=recommended, useposix=true, d_sigaction=define
    useithreads=undef, usemultiplicity=undef
    use64bitint=define, use64bitall=undef, uselongdouble=undef
    usemymalloc=n, bincompat5005=undef
  Compiler:
    cc='/opt/solarisstudio12.4/bin/cc', ccflags ='-DPTR_IS_LONG -I/usr/gnu/include -D_LARGEFILE_SOURCE -D_FILE_OFFSET_BITS=64 -DPERL_USE_SAFE_PUTENV',
    optimize='-O',
    cppflags='-DPTR_IS_LONG -I/usr/gnu/include'
    ccversion='Sun C 5.13 SunOS_i386 2014/10/20', gccversion='', gccosandvers=''
    intsize=4, longsize=4, ptrsize=4, doublesize=8, byteorder=12345678, doublekind=3
    d_longlong=define, longlongsize=8, d_longdbl=define, longdblsize=12, longdblkind=3
    ivtype='long long', ivsize=8, nvtype='double', nvsize=8, Off_t='off_t', lseeksize=8
    alignbytes=4, prototype=define
  Linker and Libraries:
    ld='/opt/solarisstudio12.4/bin/cc', ldflags =' -L/usr/lib -L/usr/ccs/lib -L/opt/solarisstudio12.4/lib/compilers/staticlib -L/opt/solarisstudio12.4/lib/compilers/sse2 -L/opt/solarisstudio12.4/lib/compilers -L/lib -L/usr/gnu/lib '
    libpth=/usr/lib /usr/ccs/lib /opt/solarisstudio12.4/lib/compilers/staticlib /opt/solarisstudio12.4/lib/compilers/sse2 /opt/solarisstudio12.4/lib/compilers /lib /usr/gnu/lib
    libs=-lpthread -lsocket -lnsl -lgdbm -ldb -ldl -lm -lc
    perllibs=-lpthread -lsocket -lnsl -ldl -lm -lc
    libc=/lib/libc.so, so=so, useshrplib=false, libperl=libperl.a
    gnulibc_version=''
  Dynamic Linking:
    dlsrc=dl_dlopen.xs, dlext=so, d_dlsymun=undef, ccdlflags=' '
    cccdlflags='-KPIC', lddlflags='-G -L/usr/lib -L/usr/ccs/lib -L/opt/solarisstudio12.4/lib/compilers/staticlib -L/opt/solarisstudio12.4/lib/compilers/sse2 -L/opt/solarisstudio12.4/lib/compilers -L/lib -L/usr/gnu/lib'


Characteristics of this binary (from libperl): 
  Compile-time options: HAS_TIMES PERLIO_LAYERS PERL_COPY_ON_WRITE
                        PERL_DONT_CREATE_GVSV
                        PERL_HASH_FUNC_ONE_AT_A_TIME_HARD PERL_MALLOC_WRAP
                        PERL_PRESERVE_IVUV PERL_USE_DEVEL
                        PERL_USE_SAFE_PUTENV USE_64_BIT_INT USE_LARGE_FILES
                        USE_LOCALE USE_LOCALE_COLLATE USE_LOCALE_CTYPE
                        USE_LOCALE_NUMERIC USE_LOCALE_TIME USE_PERLIO
                        USE_PERL_ATOF
  Locally applied patches:
	Devel::PatchPerl 1.38
  Built under solaris
  Compiled at Jul 25 2015 00:10:29
  %ENV:
    PERL5LIB="/export/home/jmaslak/.cpan/build/Module-Pluggable-Fast-0.19-bT5w61/blib/arch:/export/home/jmaslak/.cpan/build/Module-Pluggable-Fast-0.19-bT5w61/blib/lib:/export/home/jmaslak/.cpan/build/UNIVERSAL-require-0.18-bQtqWE/blib/arch:/export/home/jmaslak/.cpan/build/UNIVERSAL-require-0.18-bQtqWE/blib/lib:/export/home/jmaslak/.cpan/build/Template-Provider-FromDATA-0.13-Hlsc9T/blib/arch:/export/home/jmaslak/.cpan/build/Template-Provider-FromDATA-0.13-Hlsc9T/blib/lib:/export/home/jmaslak/.cpan/build/Template-Toolkit-2.26-z49VKY/blib/arch:/export/home/jmaslak/.cpan/build/Template-Toolkit-2.26-z49VKY/blib/lib:/export/home/jmaslak/.cpan/build/AppConfig-1.71-UPsZZ6/blib/arch:/export/home/jmaslak/.cpan/build/AppConfig-1.71-UPsZZ6/blib/lib:/export/home/jmaslak/.cpan/build/Test-Pod-1.51-CGC5Qm/blib/arch:/export/home/jmaslak/.cpan/build/Test-Pod-1.51-CGC5Qm/blib/lib:/export/home/jmaslak/.cpan/build/Data-JavaScript-Anon-1.03-74GnFC/blib/arch:/export/home/jmaslak/.cpan/build/Data-JavaScript-Anon-1.03-74GnFC/blib/lib:/export/home/jmaslak/.cpan/build/Class-Default-1.51-eR6PIO/blib/arch:/export/home/jmaslak/.cpan/build/Class-Default-1.51-eR6PIO/blib/lib:/export/home/jmaslak/.cpan/build/Net-Telnet-3.04-Muk0XR/blib/arch:/export/home/jmaslak/.cpan/build/Net-Telnet-3.04-Muk0XR/blib/lib:/export/home/jmaslak/.cpan/build/Shell-Command-0.06-4SE43V/blib/arch:/export/home/jmaslak/.cpan/build/Shell-Command-0.06-4SE43V/blib/lib"
    PERL5OPT=""
    PERL5_CPANPLUS_IS_RUNNING="23796"
    PERL5_CPAN_IS_RUNNING="23796"
    PERL5_CPAN_IS_RUNNING_IN_RECURSION="4194,23796"
    PERLBREW_BASHRC_VERSION="0.73"
    PERLBREW_HOME="/export/home/jmaslak/.perlbrew"
    PERLBREW_LIB=""
    PERLBREW_MANPATH="/export/home/jmaslak/perl5/perlbrew/perls/perl-5.23.1-64int/man"
    PERLBREW_PATH="/export/home/jmaslak/perl5/perlbrew/bin:/export/home/jmaslak/perl5/perlbrew/perls/perl-5.23.1-64int/bin"
    PERLBREW_PERL="perl-5.23.1-64int"
    PERLBREW_ROOT="/export/home/jmaslak/perl5/perlbrew"
    PERLBREW_VERSION="0.73"
    PERL_CR_SMOKER_CURRENT="WWW-Mechanize-Firefox-0.78"
    PERL_EXTUTILS_AUTOINSTALL="--defaultdeps"
    PERL_LOCAL_LIB_ROOT=""
    PERL_MM_USE_DEFAULT="1"
  @INC:
    /export/home/jmaslak/.cpan/build/Module-Pluggable-Fast-0.19-bT5w61/blib/arch
    /export/home/jmaslak/.cpan/build/Module-Pluggable-Fast-0.19-bT5w61/blib/lib
    /export/home/jmaslak/.cpan/build/UNIVERSAL-require-0.18-bQtqWE/blib/arch
    /export/home/jmaslak/.cpan/build/UNIVERSAL-require-0.18-bQtqWE/blib/lib
    /export/home/jmaslak/.cpan/build/Template-Provider-FromDATA-0.13-Hlsc9T/blib/arch
    /export/home/jmaslak/.cpan/build/Template-Provider-FromDATA-0.13-Hlsc9T/blib/lib
    /export/home/jmaslak/.cpan/build/Template-Toolkit-2.26-z49VKY/blib/arch
    /export/home/jmaslak/.cpan/build/Template-Toolkit-2.26-z49VKY/blib/lib
    /export/home/jmaslak/.cpan/build/AppConfig-1.71-UPsZZ6/blib/arch
    /export/home/jmaslak/.cpan/build/AppConfig-1.71-UPsZZ6/blib/lib
    /export/home/jmaslak/.cpan/build/Test-Pod-1.51-CGC5Qm/blib/arch
    /export/home/jmaslak/.cpan/build/Test-Pod-1.51-CGC5Qm/blib/lib
    /export/home/jmaslak/.cpan/build/Data-JavaScript-Anon-1.03-74GnFC/blib/arch
    /export/home/jmaslak/.cpan/build/Data-JavaScript-Anon-1.03-74GnFC/blib/lib
    /export/home/jmaslak/.cpan/build/Class-Default-1.51-eR6PIO/blib/arch
    /export/home/jmaslak/.cpan/build/Class-Default-1.51-eR6PIO/blib/lib
    /export/home/jmaslak/.cpan/build/Net-Telnet-3.04-Muk0XR/blib/arch
    /export/home/jmaslak/.cpan/build/Net-Telnet-3.04-Muk0XR/blib/lib
    /export/home/jmaslak/.cpan/build/Shell-Command-0.06-4SE43V/blib/arch
    /export/home/jmaslak/.cpan/build/Shell-Command-0.06-4SE43V/blib/lib
    /export/home/jmaslak/perl5/perlbrew/perls/perl-5.23.1-64int/lib/site_perl/5.23.1/i86pc-solaris-64int
    /export/home/jmaslak/perl5/perlbrew/perls/perl-5.23.1-64int/lib/site_perl/5.23.1
    /export/home/jmaslak/perl5/perlbrew/perls/perl-5.23.1-64int/lib/5.23.1/i86pc-solaris-64int
    /export/home/jmaslak/perl5/perlbrew/perls/perl-5.23.1-64int/lib/5.23.1
    .