Tie-File v1.07 Perl 5 v5.36.1 darwin-2level

Status
Pass
From
Philip Sharman
Dist
Tie-File v1.07
Platform
Perl 5 v5.36.1 darwin-2level
Date
2023-06-26 16:32:34
ID
0e2fc85c-143f-11ee-9cb7-d49950b860e2
This distribution has been tested as part of the CPAN Testers
project, supporting the Perl programming language.  See
http://wiki.cpantesters.org/ for more information or email
questions to cpan-testers-discuss@perl.org


--
Dear Todd Rinaldo,

This is a computer-generated report for Tie-File-1.07
on perl 5.36.1, created by CPAN-Reporter-1.2019.

Thank you for uploading your work to CPAN.  Congratulations!
All tests were successful.

Sections of this report:

    * Tester comments
    * Program output
    * Prerequisites
    * Environment and other context

------------------------------
TESTER COMMENTS
------------------------------

Additional comments from tester:

none provided

------------------------------
PROGRAM OUTPUT
------------------------------

Output from '/usr/bin/make test':

PERL_DL_NONLAZY=1 "/Users/psharman/perl5/perlbrew/perls/perl-5.36.1/bin/perl" "-MExtUtils::Command::MM" "-MTest::Harness" "-e" "undef *Test::Harness::Switches; test_harness(0, 'blib/lib', 'blib/arch')" t/*.t
t/01_gen.t ........... ok
t/02_fetchsize.t ..... ok
t/03_longfetch.t ..... ok
t/04_splice.t ........ ok
t/05_size.t .......... ok
t/06_fixrec.t ........ ok
t/07_rv_splice.t ..... ok
t/08_ro.t ............ ok
t/09_gen_rs.t ........ ok
t/10_splice_rs.t ..... ok
t/11_rv_splice_rs.t .. ok
t/12_longfetch_rs.t .. ok
t/13_size_rs.t ....... ok
t/14_lock.t .......... ok
t/15_pushpop.t ....... ok
t/16_handle.t ........ ok
t/17_misc_meth.t ..... ok
t/18_rs_fixrec.t ..... ok
t/19_cache.t ......... ok
t/20_cache_full.t .... ok
t/21_win32.t ......... skipped: (no reason given)
t/22_autochomp.t ..... ok
t/23_rv_ac_splice.t .. ok
t/24_cache_loop.t .... ok
t/25_gen_nocache.t ... ok
t/26_twrite.t ........ ok
t/27_iwrite.t ........ ok
t/28_mtwrite.t ....... ok
t/29_downcopy.t ...... ok
t/29a_upcopy.t ....... ok
t/30_defer.t ......... ok
t/31_autodefer.t ..... ok
t/32_defer_misc.t .... ok
t/33_defer_vs.t ...... ok
t/40_abs_cache.t ..... ok
t/41_heap.t .......... ok
t/42_offset.t ........ ok
t/43_synopsis.t ...... ok
All tests successful.
Files=38, Tests=4725,  3 wallclock secs ( 0.21 usr  0.06 sys +  1.00 cusr  1.44 csys =  2.71 CPU)
Result: PASS

------------------------------
PREREQUISITES
------------------------------

Prerequisite modules loaded:

build_requires:

    Module              Need Have
    ------------------- ---- ----
    ExtUtils::MakeMaker 0    7.70

configure_requires:

    Module              Need Have
    ------------------- ---- ----
    ExtUtils::MakeMaker 0    7.70


------------------------------
ENVIRONMENT AND OTHER CONTEXT
------------------------------

Environment variables:

    LANG = en_CA.UTF-8
    PATH = /usr/local/opt/ruby/bin:/usr/local/sbin:/Users/psharman/bin:/Users/psharman/.yarn/bin:/Users/psharman/.config/yarn/global/node_modules/.bin:/Users/psharman/.volta/bin:/Users/psharman/perl5/perlbrew/bin:/Users/psharman/perl5/perlbrew/perls/perl-5.36.1/bin:/usr/local/bin:/System/Cryptexes/App/usr/bin:/usr/bin:/bin:/usr/sbin:/sbin:/opt/X11/bin:/Library/Apple/usr/bin:/var/run/com.apple.security.cryptexd/codex.system/bootstrap/usr/local/bin:/var/run/com.apple.security.cryptexd/codex.system/bootstrap/usr/bin:/var/run/com.apple.security.cryptexd/codex.system/bootstrap/usr/appleinternal/bin:/Users/psharman/.local/bin:/usr/local/Cellar/rakudo/2022.07/share/perl6/site/bin
    PERL5LIB = 
    PERL5OPT = 
    PERL5_CPANPLUS_IS_RUNNING = 62085
    PERL5_CPAN_IS_RUNNING = 62085
    PERL_USE_UNSAFE_INC = 1
    SHELL = /bin/sh
    TERM = xterm-256color

Perl special variables (and OS-specific diagnostics, for MSWin32):

    $^X = /Users/psharman/perl5/perlbrew/perls/perl-5.36.1/bin/perl
    $UID/$EUID = 0 / 0
    $GID = 0 0 1 2 3 4 5 8 9 12 20 29 61 80 703 702 701
    $EGID = 0 0 1 2 3 4 5 8 9 12 20 29 61 80 703 702 701

Perl module toolchain versions installed:

    Module              Have    
    ------------------- --------
    CPAN                2.36    
    CPAN::Meta          2.150010
    Cwd                 3.84    
    ExtUtils::CBuilder  0.280236
    ExtUtils::Command   7.70    
    ExtUtils::Install   2.22    
    ExtUtils::MakeMaker 7.70    
    ExtUtils::Manifest  1.75    
    ExtUtils::ParseXS   3.45    
    File::Spec          3.84    
    JSON                n/a     
    JSON::PP            4.16    
    Module::Build       0.4234  
    Module::Signature   n/a     
    Parse::CPAN::Meta   2.150010
    Test2               1.302195
    Test::Harness       3.44    
    Test::More          1.302195
    YAML                n/a     
    YAML::Syck          n/a     
    version             0.9929  


--

Summary of my perl5 (revision 5 version 36 subversion 1) configuration:
   
  Platform:
    osname=darwin
    osvers=22.5.0
    archname=darwin-2level
    uname='darwin psharma-wsmwwph.internal.salesforce.com 22.5.0 darwin kernel version 22.5.0: mon apr 24 20:51:50 pdt 2023; root:xnu-8796.121.2~5release_x86_64 x86_64 '
    config_args='-de -Dprefix=/Users/psharman/perl5/perlbrew/perls/perl-5.36.1 -Aeval:scriptdir=/Users/psharman/perl5/perlbrew/perls/perl-5.36.1/bin'
    hint=recommended
    useposix=true
    d_sigaction=define
    useithreads=undef
    usemultiplicity=undef
    use64bitint=define
    use64bitall=define
    uselongdouble=undef
    usemymalloc=n
    default_inc_excludes_dot=define
  Compiler:
    cc='cc'
    ccflags ='-fno-common -DPERL_DARWIN -mmacosx-version-min=13.4 -fno-strict-aliasing -pipe -fstack-protector-strong -I/usr/local/include -DPERL_USE_SAFE_PUTENV'
    optimize='-O3'
    cppflags='-fno-common -DPERL_DARWIN -mmacosx-version-min=13.4 -fno-strict-aliasing -pipe -fstack-protector-strong -I/usr/local/include'
    ccversion=''
    gccversion='Apple LLVM 14.0.3 (clang-1403.0.22.14.1)'
    gccosandvers=''
    intsize=4
    longsize=8
    ptrsize=8
    doublesize=8
    byteorder=12345678
    doublekind=3
    d_longlong=define
    longlongsize=8
    d_longdbl=define
    longdblsize=16
    longdblkind=3
    ivtype='long'
    ivsize=8
    nvtype='double'
    nvsize=8
    Off_t='off_t'
    lseeksize=8
    alignbytes=8
    prototype=define
  Linker and Libraries:
    ld='cc'
    ldflags =' -mmacosx-version-min=13.4 -fstack-protector-strong -L/usr/local/lib'
    libpth=/usr/local/lib /Applications/Xcode.app/Contents/Developer/Toolchains/XcodeDefault.xctoolchain/usr/lib/clang/14.0.3/lib /Applications/Xcode.app/Contents/Developer/Platforms/MacOSX.platform/Developer/SDKs/MacOSX.sdk/usr/lib /Applications/Xcode.app/Contents/Developer/Toolchains/XcodeDefault.xctoolchain/usr/lib /usr/lib
    libs=-lgdbm
    perllibs=
    libc=
    so=dylib
    useshrplib=false
    libperl=libperl.a
    gnulibc_version=''
  Dynamic Linking:
    dlsrc=dl_dlopen.xs
    dlext=bundle
    d_dlsymun=undef
    ccdlflags=' '
    cccdlflags=' '
    lddlflags=' -mmacosx-version-min=13.4 -bundle -undefined dynamic_lookup -L/usr/local/lib -fstack-protector-strong'


Characteristics of this binary (from libperl): 
  Compile-time options:
    HAS_TIMES
    PERLIO_LAYERS
    PERL_COPY_ON_WRITE
    PERL_DONT_CREATE_GVSV
    PERL_MALLOC_WRAP
    PERL_OP_PARENT
    PERL_PRESERVE_IVUV
    PERL_USE_SAFE_PUTENV
    USE_64_BIT_ALL
    USE_64_BIT_INT
    USE_LARGE_FILES
    USE_LOCALE
    USE_LOCALE_COLLATE
    USE_LOCALE_CTYPE
    USE_LOCALE_NUMERIC
    USE_LOCALE_TIME
    USE_PERLIO
    USE_PERL_ATOF
  Built under darwin
  Compiled at Jun 26 2023 09:53:14
  %ENV:
    PERL5LIB=""
    PERL5OPT=""
    PERL5_CPANPLUS_IS_RUNNING="62085"
    PERL5_CPAN_IS_RUNNING="62085"
    PERL_USE_UNSAFE_INC="1"
  @INC:
    /Users/psharman/perl5/perlbrew/perls/perl-5.36.1/lib/site_perl/5.36.1/darwin-2level
    /Users/psharman/perl5/perlbrew/perls/perl-5.36.1/lib/site_perl/5.36.1
    /Users/psharman/perl5/perlbrew/perls/perl-5.36.1/lib/5.36.1/darwin-2level
    /Users/psharman/perl5/perlbrew/perls/perl-5.36.1/lib/5.36.1
    .