PerlPowerTools v1.049 Perl 5 v5.24.1 amd64-freebsd

Status
Pass
From
Slaven Rezić
Dist
PerlPowerTools v1.049
Platform
Perl 5 v5.24.1 amd64-freebsd
Date
2025-02-06 22:38:15
ID
0e1e35a6-e4db-11ef-a36f-eeea6d8775ea
This distribution has been tested as part of the CPAN Testers
project, supporting the Perl programming language.  See
http://wiki.cpantesters.org/ for more information or email
questions to cpan-testers-discuss@perl.org


--
Dear brian d foy,

This is a computer-generated report for PerlPowerTools-1.049
on perl 5.24.1, created by CPAN-Reporter-1.2019.

Thank you for uploading your work to CPAN.  Congratulations!
All tests were successful.

Sections of this report:

    * Tester comments
    * Program output
    * Prerequisites
    * Environment and other context

------------------------------
TESTER COMMENTS
------------------------------

Additional comments from tester:

none provided

------------------------------
PROGRAM OUTPUT
------------------------------

Output from '/usr/bin/make test':

PERL_DL_NONLAZY=1 "/usr/perl5.24.1p/bin/perl" "-MExtUtils::Command::MM" "-MTest::Harness" "-e" "undef *Test::Harness::Switches; test_harness(0, 'blib/lib', 'blib/arch')" t/*.t t/*/*.t
    # Found bin/mimedecode specific override file
    # Found bin/robots specific override file
t/000.basic.t ................ ok
t/910.meta.t ................. ok
t/990.pod.t .................. ok
# Perl sqrt(2) is <1.4142135623731>
"/var/tmp/cpansmoker-1023/2025020620/92vXf1Uxk7", line 2: divide by 0 at bin/bc line 2322, <$input> line 2.

"/var/tmp/cpansmoker-1023/2025020620/OtdkXeAUeM", line 2: Illegal modulus zero at bin/bc line 2324, <$input> line 2.

"/var/tmp/cpansmoker-1023/2025020620/Suv4sIuidJ", line 2: modulo by 0 at bin/bc line 2324, <$input> line 2.

t/bc/input.t ................. ok
t/cat/cat.t .................. ok
t/cp/gh-115-copy-into-dir.t .. ok
t/cut/cut.t .................. ok
t/date/date.t ................ ok
t/echo/echo.t ................ ok
t/factor/factor.t ............ ok
t/false/false.t .............. ok
# find2perl is at </usr/perl5.24.1p/bin/find2perl>
t/find/find.t ................ ok
t/mimedecode/000.basic.t ..... ok
t/nl/nl.t .................... ok
t/od/od.t .................... ok
t/rev/rev.t .................. ok
t/rm/process_options.t ....... ok
# Missing file error text is <No such file or directory>
Filehandle STDIN reopened as $error_fh only for output at t/rm/run.t line 168.
t/rm/run.t ................... ok
t/robots/000.basic.t ......... ok
t/rot13/rot13.t .............. ok
t/seq/seq.t .................. ok
t/sort/sort.t ................ ok
t/true/true.t ................ ok
t/units/units.t .............. ok
t/uudecode/uudecode.t ........ ok
All tests successful.
Files=25, Tests=359, 11 wallclock secs ( 0.21 usr  0.12 sys +  6.53 cusr  3.40 csys = 10.26 CPU)
Result: PASS

------------------------------
PREREQUISITES
------------------------------

Prerequisite modules loaded:

requires:

    Module                Need  Have    
    --------------------- ----- --------
    App::a2p              0     1.010   
    App::find2perl        0     1.005   
    MIME::Parser          0     5.515   
    perl                  5.008 5.024001

build_requires:

    Module                Need  Have    
    --------------------- ----- --------
    IPC::Run3             0     0.048   
    Test::More            1     1.302209
    Test::Pod             0     1.52    
    Test::Warnings        0     0.036   

configure_requires:

    Module                Need  Have    
    --------------------- ----- --------
    ExtUtils::MakeMaker   6.64  7.70    
    File::Spec::Functions 0     3.75    


------------------------------
ENVIRONMENT AND OTHER CONTEXT
------------------------------

Environment variables:

    LC_ALL = de_DE.ISO8859-1
    PATH = /usr/local/bin:/usr/bin:/bin:/usr/local/sbin:/usr/sbin:/sbin:/home/cpansand/bin/freebsd10.3:/home/cpansand/bin/sh:/home/cpansand/bin:/usr/games:/home/cpansand/devel:/home/eserte/src/srezic-misc/scripts
    PERL5LIB = 
    PERL5OPT = 
    PERL5_CPANPLUS_IS_RUNNING = 14938
    PERL5_CPAN_IS_RUNNING = 14938
    PERL5_CPAN_IS_RUNNING_IN_RECURSION = 83691,14938
    PERLDOC = -MPod::Perldoc::ToTextOverstrike
    PERL_BATCH = yes
    PERL_CANARY_STABILITY_NOPROMPT = 1
    PERL_CPAN_REPORTER_CONFIG = /var/tmp/cpansmoker-1023/2025020620/cpanreporter_000_config.ini
    PERL_EXTUTILS_AUTOINSTALL = --defaultdeps
    PERL_USE_UNSAFE_INC = 1
    SHELL = /usr/local/bin/zsh
    TERM = screen
    TMPDIR = /var/tmp/cpansmoker-1023/2025020620

Perl special variables (and OS-specific diagnostics, for MSWin32):

    $^X = /usr/perl5.24.1p/bin/perl
    $UID/$EUID = 1023 / 1023
    $GID = 1023 1023
    $EGID = 1023 1023

Perl module toolchain versions installed:

    Module              Have    
    ------------------- --------
    CPAN                2.37    
    CPAN::Meta          2.150010
    Cwd                 3.75    
    ExtUtils::CBuilder  0.280236
    ExtUtils::Command   7.70    
    ExtUtils::Install   2.22    
    ExtUtils::MakeMaker 7.70    
    ExtUtils::Manifest  1.75    
    ExtUtils::ParseXS   3.51    
    File::Spec          3.75    
    JSON                4.10    
    JSON::PP            4.16    
    Module::Build       0.4234  
    Module::Signature   0.89    
    Parse::CPAN::Meta   2.150010
    Test2               1.302209
    Test::Harness       3.50    
    Test::More          1.302209
    YAML                1.30    
    YAML::Syck          1.34    
    version             0.9933  


--

Summary of my perl5 (revision 5 version 24 subversion 1) configuration:
   
  Platform:
    osname=freebsd, osvers=10.1-release, archname=amd64-freebsd
    uname='freebsd cvrsnica-freebsd-101.herceg.de 10.1-release freebsd 10.1-release #0 r274401: tue nov 11 21:02:49 utc 2014 root@releng1.nyi.freebsd.org:usrobjusrsrcsysgeneric amd64 '
    config_args='-ds -e -Dprefix=/usr/perl5.24.1p -Dcf_email=srezic@cpan.org -Doptimize=-O2 -pipe'
    hint=recommended, useposix=true, d_sigaction=define
    useithreads=undef, usemultiplicity=undef
    use64bitint=define, use64bitall=define, uselongdouble=undef
    usemymalloc=n, bincompat5005=undef
  Compiler:
    cc='cc', ccflags ='-DHAS_FPSETMASK -DHAS_FLOATINGPOINT_H -fno-strict-aliasing -pipe -fstack-protector -I/usr/local/include -D_FORTIFY_SOURCE=2',
    optimize='-O2 -pipe',
    cppflags='-DHAS_FPSETMASK -DHAS_FLOATINGPOINT_H -fno-strict-aliasing -pipe -fstack-protector -I/usr/local/include'
    ccversion='', gccversion='4.2.1 Compatible FreeBSD Clang 3.4.1 (tags/RELEASE_34/dot1-final 208032)', gccosandvers=''
    intsize=4, longsize=8, ptrsize=8, doublesize=8, byteorder=12345678, doublekind=3
    d_longlong=define, longlongsize=8, d_longdbl=define, longdblsize=16, longdblkind=3
    ivtype='long', ivsize=8, nvtype='double', nvsize=8, Off_t='off_t', lseeksize=8
    alignbytes=8, prototype=define
  Linker and Libraries:
    ld='cc', ldflags ='-pthread -Wl,-E  -fstack-protector -L/usr/local/lib'
    libpth=/usr/lib /usr/local/lib /usr/include/clang/3.4.1 /usr/lib
    libs=-lpthread -lgdbm -lm -lcrypt -lutil -lc
    perllibs=-lpthread -lm -lcrypt -lutil -lc
    libc=, so=so, useshrplib=false, libperl=libperl.a
    gnulibc_version=''
  Dynamic Linking:
    dlsrc=dl_dlopen.xs, dlext=so, d_dlsymun=undef, ccdlflags=' '
    cccdlflags='-DPIC -fPIC', lddlflags='-shared  -L/usr/local/lib -fstack-protector'


Characteristics of this binary (from libperl): 
  Compile-time options: HAS_TIMES PERLIO_LAYERS PERL_COPY_ON_WRITE
                        PERL_DONT_CREATE_GVSV
                        PERL_HASH_FUNC_ONE_AT_A_TIME_HARD PERL_MALLOC_WRAP
                        PERL_PRESERVE_IVUV USE_64_BIT_ALL USE_64_BIT_INT
                        USE_LARGE_FILES USE_LOCALE USE_LOCALE_COLLATE
                        USE_LOCALE_CTYPE USE_LOCALE_NUMERIC USE_LOCALE_TIME
                        USE_PERLIO USE_PERL_ATOF
  Built under freebsd
  Compiled at Jan 15 2017 11:45:26
  %ENV:
    PERL5LIB=""
    PERL5OPT=""
    PERL5_CPANPLUS_IS_RUNNING="14938"
    PERL5_CPAN_IS_RUNNING="14938"
    PERL5_CPAN_IS_RUNNING_IN_RECURSION="83691,14938"
    PERLDOC="-MPod::Perldoc::ToTextOverstrike"
    PERL_BATCH="yes"
    PERL_CANARY_STABILITY_NOPROMPT="1"
    PERL_CPAN_REPORTER_CONFIG="/var/tmp/cpansmoker-1023/2025020620/cpanreporter_000_config.ini"
    PERL_EXTUTILS_AUTOINSTALL="--defaultdeps"
    PERL_USE_UNSAFE_INC="1"
  @INC:
    /usr/perl5.24.1p/lib/site_perl/5.24.1/amd64-freebsd
    /usr/perl5.24.1p/lib/site_perl/5.24.1
    /usr/perl5.24.1p/lib/5.24.1/amd64-freebsd
    /usr/perl5.24.1p/lib/5.24.1
    .