Catalyst-Devel v1.42 Perl 5 v5.18.2 MSWin32-x86-multi-thread-64int
- Status
- Pass
- From
- Alexandr Ciornii (CHORNY)
- Dist
-
Catalyst-Devel v1.42
- Platform
- Perl 5 v5.18.2 MSWin32-x86-multi-thread-64int
- Date
- 2020-11-09 22:19:47
- ID
- 0e0d75c2-6c06-1014-be18-4b060f2a3051
This distribution has been tested as part of the CPAN Testers
project, supporting the Perl programming language. See
http://wiki.cpantesters.org/ for more information or email
questions to cpan-testers-discuss@perl.org
--
Dear Graham Knop,
This is a computer-generated report for Catalyst-Devel-1.42
on perl 5.18.2, created by CPAN-Reporter-1.2018.
Thank you for uploading your work to CPAN. Congratulations!
All tests were successful.
Sections of this report:
* Tester comments
* Program output
* Prerequisites
* Environment and other context
------------------------------
TESTER COMMENTS
------------------------------
Additional comments from tester:
this report is from an automated smoke testing program
and was not reviewed by a human for accuracy
------------------------------
PROGRAM OUTPUT
------------------------------
Output from 'C:\strawberry182\c\bin\dmake.exe test':
Skip blib\lib\auto\share\dist\Catalyst-Devel\t\03podcoverage.t.tt (unchanged)
Skip blib\lib\auto\share\dist\Catalyst-Devel\root\static\images\btn_120x50_built.png.bin (unchanged)
Skip blib\lib\auto\share\dist\Catalyst-Devel\README.tt (unchanged)
Skip blib\lib\auto\share\dist\Catalyst-Devel\lib\MyApp\Controller\Root.pm.tt (unchanged)
Skip blib\lib\auto\share\dist\Catalyst-Devel\lib\Helper\compclass.pm.tt (unchanged)
Skip blib\lib\auto\share\dist\Catalyst-Devel\script\myapp_server.pl.tt (unchanged)
Skip blib\lib\auto\share\dist\Catalyst-Devel\root\static\images\btn_88x31_built_shadow.png.bin (unchanged)
Skip blib\lib\auto\share\dist\Catalyst-Devel\root\static\images\btn_120x50_built_shadow.png.bin (unchanged)
Skip blib\lib\auto\share\dist\Catalyst-Devel\myapp.conf.tt (unchanged)
Skip blib\lib\auto\share\dist\Catalyst-Devel\script\myapp_cgi.pl.tt (unchanged)
Skip blib\lib\auto\share\dist\Catalyst-Devel\myapp.psgi.tt (unchanged)
Skip blib\lib\auto\share\dist\Catalyst-Devel\root\favicon.ico.bin (unchanged)
Skip blib\lib\auto\share\dist\Catalyst-Devel\root\static\images\btn_88x31_built.png.bin (unchanged)
Skip blib\lib\auto\share\dist\Catalyst-Devel\t\comptest.tt (unchanged)
Skip blib\lib\auto\share\dist\Catalyst-Devel\t\02pod.t.tt (unchanged)
Skip blib\lib\auto\share\dist\Catalyst-Devel\root\static\images\btn_88x31_powered.png.bin (unchanged)
Skip blib\lib\auto\share\dist\Catalyst-Devel\t\01app.t.tt (unchanged)
Skip blib\lib\auto\share\dist\Catalyst-Devel\root\static\images\catalyst_logo.png.bin (unchanged)
Skip blib\lib\auto\share\dist\Catalyst-Devel\script\myapp_create.pl.tt (unchanged)
Skip blib\lib\auto\share\dist\Catalyst-Devel\root\static\images\btn_120x50_powered_shadow.png.bin (unchanged)
Skip blib\lib\auto\share\dist\Catalyst-Devel\Makefile.PL.tt (unchanged)
Skip blib\lib\auto\share\dist\Catalyst-Devel\lib\MyApp.pm.tt (unchanged)
Skip blib\lib\auto\share\dist\Catalyst-Devel\script\myapp_fastcgi.pl.tt (unchanged)
Skip blib\lib\auto\share\dist\Catalyst-Devel\script\myapp_test.pl.tt (unchanged)
Skip blib\lib\auto\share\dist\Catalyst-Devel\root\static\images\btn_120x50_powered.png.bin (unchanged)
Skip blib\lib\auto\share\dist\Catalyst-Devel\Changes.tt (unchanged)
Skip blib\lib\auto\share\dist\Catalyst-Devel\root\static\images\btn_88x31_powered_shadow.png.bin (unchanged)
C:\strawberry182\perl\bin\perl.exe "-MExtUtils::Command::MM" "-MTest::Harness" "-e" "undef *Test::Harness::Switches; test_harness(0, 'blib\lib', 'blib\arch')" t/*.t
t/01use.t ......................... ok
t/back_compat.t ................... ok
t/generated_app.t ................. ok
t/get_sharedir_file.t ............. ok
t/optional_http-server-restart.t .. skipped: set TEST_HTTP to enable this test
t/render_file_contents.t .......... ok
t/render_share_dir_file.t ......... ok
All tests successful.
Files=7, Tests=90, 29 wallclock secs ( 0.07 usr + 0.05 sys = 0.12 CPU)
Result: PASS
------------------------------
PREREQUISITES
------------------------------
Prerequisite modules loaded:
requires:
Module Need Have
-------------------------------------- ------- --------
Catalyst 5.90001 5.90061
Catalyst::Action::RenderView 0.10 0.16
Catalyst::Plugin::ConfigLoader 0.30 0.33
Catalyst::Plugin::Static::Simple 0.28 0.31
Config::General 2.42 2.52
File::ChangeNotify 0.07 0.24
File::Copy::Recursive 0 0.38
File::ShareDir 0 1.03
Module::Install 1.02 1.08
Moose 0 2.1204
MooseX::Emulate::Class::Accessor::Fast 0 0.00903
namespace::autoclean 0 0.15
namespace::clean 0 0.24
Path::Class 0.09 0.33
Template 2.14 2.25
build_requires:
Module Need Have
-------------------------------------- ------- --------
Test::Fatal 0.003 0.013
Test::More 0.94 1.001002
configure_requires:
Module Need Have
-------------------------------------- ------- --------
ExtUtils::MakeMaker 0 6.84
File::ShareDir::Install 0 0.08
------------------------------
ENVIRONMENT AND OTHER CONTEXT
------------------------------
Environment variables:
AUTOMATED_TESTING = 1
COMSPEC = C:\WINDOWS\system32\cmd.exe
NUMBER_OF_PROCESSORS = 1
PATH = C:\WINDOWS\system32;C:\WINDOWS;C:\WINDOWS\System32\Wbem;C:\strawberry182\c\bin;C:\strawberry182\perl\site\bin;C:\strawberry182\perl\bin
PERL5LIB =
PERL5OPT =
PERL5_CPANPLUS_IS_RUNNING = 664
PERL5_CPAN_IS_RUNNING = 664
PERL5_CPAN_IS_RUNNING_IN_RECURSION = 1696,664
PERL_CR_SMOKER_CURRENT = Catalyst-Devel-1.42
PERL_CR_SMOKER_RUNONCE = 1
PERL_EXTUTILS_AUTOINSTALL = --defaultdeps
PERL_HASH_SEED = 0x11111111
PERL_MM_USE_DEFAULT = 1
PROCESSOR_IDENTIFIER = x86 Family 18 Model 1 Stepping 0, AuthenticAMD
TEMP = C:\DOCUME~1\c\LOCALS~1\Temp
TERM = dumb
Perl special variables (and OS-specific diagnostics, for MSWin32):
$^X = C:\strawberry182\perl\bin\perl.exe
$UID/$EUID = 0 / 0
$GID = 0
$EGID = 0
Win32::GetOSName = WinXP/.Net
Win32::GetOSVersion = Service Pack 3, 5, 1, 2600, 2, 3, 0, 256, 1
Win32::FsType = NTFS
Win32::IsAdminUser = 1
Perl module toolchain versions installed:
Module Have
------------------- --------
CPAN 2.16
CPAN::Meta 2.133380
Cwd 3.40
ExtUtils::CBuilder 0.280212
ExtUtils::Command 1.18
ExtUtils::Install 1.59
ExtUtils::MakeMaker 6.84
ExtUtils::Manifest 1.63
ExtUtils::ParseXS 3.22
File::Spec 3.40
JSON 2.90
JSON::PP 2.27203
Module::Build 0.4203
Module::Signature n/a
Parse::CPAN::Meta 1.4414
Test::Harness 3.30
Test::More 1.001002
YAML 0.90
YAML::Syck 1.27
version 0.9904
--
Summary of my perl5 (revision 5 version 18 subversion 2) configuration:
Platform:
osname=MSWin32, osvers=6.2, archname=MSWin32-x86-multi-thread-64int
uname='Win32 strawberry-perl 5.18.2.1 #1 Tue Jan 7 16:30:36 2014 i386'
config_args='undef'
hint=recommended, useposix=true, d_sigaction=undef
useithreads=define, usemultiplicity=define
useperlio=define, d_sfio=undef, uselargefiles=define, usesocks=undef
use64bitint=define, use64bitall=undef, uselongdouble=undef
usemymalloc=n, bincompat5005=undef
Compiler:
cc='gcc', ccflags =' -s -O2 -DWIN32 -DPERL_TEXTMODE_SCRIPTS -DPERL_IMPLICIT_CONTEXT -DPERL_IMPLICIT_SYS -DUSE_PERLIO -fno-strict-aliasing -mms-bitfields',
optimize='-s -O2',
cppflags='-DWIN32'
ccversion='', gccversion='4.7.3', gccosandvers=''
intsize=4, longsize=4, ptrsize=4, doublesize=8, byteorder=12345678
d_longlong=define, longlongsize=8, d_longdbl=define, longdblsize=12
ivtype='long long', ivsize=8, nvtype='double', nvsize=8, Off_t='long long', lseeksize=8
alignbytes=8, prototype=define
Linker and Libraries:
ld='g++', ldflags ='-s -L"C:\strawberry182\perl\lib\CORE" -L"C:\strawberry182\c\lib"'
libpth=C:\strawberry182\c\lib C:\strawberry182\c\i686-w64-mingw32\lib C:\strawberry182\c\lib\gcc\i686-w64-mingw32\4.7.3
libs=-lmoldname -lkernel32 -luser32 -lgdi32 -lwinspool -lcomdlg32 -ladvapi32 -lshell32 -lole32 -loleaut32 -lnetapi32 -luuid -lws2_32 -lmpr -lwinmm -lversion -lodbc32 -lodbccp32 -lcomctl32
perllibs=-lmoldname -lkernel32 -luser32 -lgdi32 -lwinspool -lcomdlg32 -ladvapi32 -lshell32 -lole32 -loleaut32 -lnetapi32 -luuid -lws2_32 -lmpr -lwinmm -lversion -lodbc32 -lodbccp32 -lcomctl32
libc=, so=dll, useshrplib=true, libperl=libperl518.a
gnulibc_version=''
Dynamic Linking:
dlsrc=dl_win32.xs, dlext=dll, d_dlsymun=undef, ccdlflags=' '
cccdlflags=' ', lddlflags='-mdll -s -L"C:\strawberry182\perl\lib\CORE" -L"C:\strawberry182\c\lib"'
Characteristics of this binary (from libperl):
Compile-time options: HAS_TIMES HAVE_INTERP_INTERN MULTIPLICITY
PERLIO_LAYERS PERL_DONT_CREATE_GVSV
PERL_HASH_FUNC_ONE_AT_A_TIME_HARD
PERL_IMPLICIT_CONTEXT PERL_IMPLICIT_SYS
PERL_MALLOC_WRAP PERL_PRESERVE_IVUV PERL_SAWAMPERSAND
USE_64_BIT_INT USE_ITHREADS USE_LARGE_FILES
USE_LOCALE USE_LOCALE_COLLATE USE_LOCALE_CTYPE
USE_LOCALE_NUMERIC USE_PERLIO USE_PERL_ATOF
Built under MSWin32
Compiled at Jan 7 2014 16:39:31
%ENV:
PERL5_CPANPLUS_IS_RUNNING="664"
PERL5_CPAN_IS_RUNNING="664"
PERL5_CPAN_IS_RUNNING_IN_RECURSION="1696,664"
PERL_CR_SMOKER_CURRENT="Catalyst-Devel-1.42"
PERL_CR_SMOKER_RUNONCE="1"
PERL_EXTUTILS_AUTOINSTALL="--defaultdeps"
PERL_HASH_SEED="0x11111111"
PERL_MM_USE_DEFAULT="1"
@INC:
C:/strawberry182/perl/site/lib
C:/strawberry182/perl/vendor/lib
C:/strawberry182/perl/lib
.