Test-TCP v2.20 Perl 5 v5.18.2 armv6l-linux-thread-multi

Status
Pass
From
Nigel Horne
Dist
Test-TCP v2.20
Platform
Perl 5 v5.18.2 armv6l-linux-thread-multi
Date
2019-09-16 16:07:17
ID
0dec6df6-d89c-11e9-a65e-fe3acca03743
This distribution has been tested as part of the CPAN Testers
project, supporting the Perl programming language.  See
http://wiki.cpantesters.org/ for more information or email
questions to cpan-testers-discuss@perl.org


--
Dear Tatsuhiko Miyagawa,

This is a computer-generated report for Test-TCP-2.20
on perl 5.18.2, created by CPAN-Reporter-1.2018.

Thank you for uploading your work to CPAN.  Congratulations!
All tests were successful.

Sections of this report:

    * Tester comments
    * Program output
    * Prerequisites
    * Environment and other context

------------------------------
TESTER COMMENTS
------------------------------

Additional comments from tester:

this report is from an automated smoke testing program
and was not reviewed by a human for accuracy

------------------------------
PROGRAM OUTPUT
------------------------------

Output from '/usr/bin/make test':

PERL_DL_NONLAZY=1 "/mnt/nas/home/pi2/njh/perl5/perlbrew/perls/perl-5.18.2/bin/perl" "-MExtUtils::Command::MM" "-MTest::Harness" "-e" "undef *Test::Harness::Switches; test_harness(0, 'blib/lib', 'blib/arch')" t/*.t
# Test::More: 1.302164
t/00_compile.t ................. ok
# your server received SIGABRT
t/02_abrt.t .................... ok
t/03_return_when_sigterm.t ..... ok
t/01_simple.t .................. ok
t/07_optional.t ................ ok
t/06_nest.t .................... ok
# $Config{sig_name}: ZERO HUP INT QUIT ILL TRAP ABRT BUS FPE KILL USR1 SEGV USR2 PIPE ALRM TERM STKFLT CHLD CONT STOP TSTP TTIN TTOU URG XCPU XFSZ VTALRM PROF WINCH IO PWR SYS NUM32 NUM33 RTMIN NUM35 NUM36 NUM37 NUM38 NUM39 NUM40 NUM41 NUM42 NUM43 NUM44 NUM45 NUM46 NUM47 NUM48 NUM49 NUM50 NUM51 NUM52 NUM53 NUM54 NUM55 NUM56 NUM57 NUM58 NUM59 NUM60 NUM61 NUM62 NUM63 RTMAX IOT CLD POLL UNUSED 
# CHILD_ERROR_NATIVE: 2
# $?: 2
t/08_exit.t .................... ok
t/09_fork.t .................... ok
t/04_die.t ..................... ok
t/10_oo.t ...................... ok
    # found an empty IPv6 port
t/13_undef_port.t .............. ok
t/12_pass_wait_port_options.t .. ok
t/14_listen.t .................. ok
t/05_sigint.t .................. ok
t/11_net_empty_port.t .......... ok
All tests successful.
Files=15, Tests=149, 23 wallclock secs ( 0.56 usr  0.15 sys + 18.23 cusr  3.74 csys = 22.68 CPU)
Result: PASS

------------------------------
PREREQUISITES
------------------------------

Prerequisite modules loaded:

requires:

    Module              Need     Have    
    ------------------- -------- --------
    IO::Socket::INET    0        1.33    
    IO::Socket::IP      0        0.29    
    perl                5.008001 5.018002
    Test::More          0        1.302164
    Test::SharedFork    0.29     0.35    
    Time::HiRes         0        1.9726  

build_requires:

    Module              Need     Have    
    ------------------- -------- --------
    File::Temp          0        0.2309  
    Socket              0        2.029   
    Test::More          0.98     1.302164

configure_requires:

    Module              Need     Have    
    ------------------- -------- --------
    ExtUtils::MakeMaker 6.64     7.36    


------------------------------
ENVIRONMENT AND OTHER CONTEXT
------------------------------

Environment variables:

    AUTOMATED_TESTING = 1
    HARNESS_OPTIONS = j4
    LANG = en_GB.UTF-8
    PATH = /home/njh/perl5/perlbrew/bin:/home/njh/perl5/perlbrew/perls/perl-5.18.2/bin:/home/njh/src/njh/smoker/bin:/usr/bin:/bin
    PERL5LIB = /var/tmp/build/Test-SharedFork-0.35-0/blib/arch:/var/tmp/build/Test-SharedFork-0.35-0/blib/lib:/var/tmp/build/Data-MessagePack-Stream-1.04-0/blib/arch:/var/tmp/build/Data-MessagePack-Stream-1.04-0/blib/lib:/var/tmp/build/Module-Build-XSUtil-0.19-0/blib/arch:/var/tmp/build/Module-Build-XSUtil-0.19-0/blib/lib:/var/tmp/build/File-Copy-Recursive-Reduced-0.006-0/blib/arch:/var/tmp/build/File-Copy-Recursive-Reduced-0.006-0/blib/lib:/var/tmp/build/Devel-CheckCompiler-0.07-0/blib/arch:/var/tmp/build/Devel-CheckCompiler-0.07-0/blib/lib:/var/tmp/build/Cwd-Guard-0.05-0/blib/arch:/var/tmp/build/Cwd-Guard-0.05-0/blib/lib:/var/tmp/build/Devel-PPPort-3.52-0/blib/arch:/var/tmp/build/Devel-PPPort-3.52-0/blib/lib:/var/tmp/build/Data-MessagePack-1.00-0/blib/arch:/var/tmp/build/Data-MessagePack-1.00-0/blib/lib
    PERL5OPT = 
    PERL5_CPANPLUS_IS_RUNNING = 22376
    PERL5_CPAN_IS_RUNNING = 22376
    PERL5_CPAN_IS_RUNNING_IN_RECURSION = 22309,22376
    PERLBREW_HOME = /home/njh/.perlbrew
    PERLBREW_MANPATH = /home/njh/perl5/perlbrew/perls/perl-5.18.2/man
    PERLBREW_PATH = /home/njh/perl5/perlbrew/bin:/home/njh/perl5/perlbrew/perls/perl-5.18.2/bin
    PERLBREW_PERL = perl-5.18.2
    PERLBREW_ROOT = /home/njh/perl5/perlbrew
    PERLBREW_SHELLRC_VERSION = 0.84
    PERLBREW_VERSION = 0.84
    PERL_USE_UNSAFE_INC = 1
    SHELL = /bin/sh
    TEMP = /tmp/user/1000
    TMPDIR = /tmp/user/1000/testwrapper.22360

Perl special variables (and OS-specific diagnostics, for MSWin32):

    $^X = /mnt/nas/home/pi2/njh/perl5/perlbrew/perls/perl-5.18.2/bin/perl
    $UID/$EUID = 1000 / 1000
    $GID = 1000 4 20 24 25 27 29 30 44 46 60 100 101 108 995 997 998 999 1000
    $EGID = 1000 4 20 24 25 27 29 30 44 46 60 100 101 108 995 997 998 999 1000

Perl module toolchain versions installed:

    Module              Have    
    ------------------- --------
    CPAN                2.25    
    CPAN::Meta          2.150005
    Cwd                 3.75    
    ExtUtils::CBuilder  0.280231
    ExtUtils::Command   7.36    
    ExtUtils::Install   2.06    
    ExtUtils::MakeMaker 7.36    
    ExtUtils::Manifest  1.70    
    ExtUtils::ParseXS   3.22    
    File::Spec          3.75    
    JSON                4.02    
    JSON::PP            4.02    
    Module::Build       0.4205  
    Module::Signature   n/a     
    Parse::CPAN::Meta   1.4422  
    Test::Harness       3.42    
    Test::More          1.302164
    YAML                1.29    
    YAML::Syck          1.31    
    version             0.9902  


--

Summary of my perl5 (revision 5 version 18 subversion 2) configuration:
   
  Platform:
    osname=linux, osvers=3.10.24+, archname=armv6l-linux-thread-multi
    uname='linux pi 3.10.24+ #614 preempt thu dec 19 20:38:42 gmt 2013 armv6l gnulinux '
    config_args='-de -Dprefix=/home/njh/perl5/perlbrew/perls/perl-5.18.2 -Duseithreads -Dusemultiplicity -Accflags=-O2 -W -Wformat=2 -Wswitch -Wshadow -Wwrite-strings -Wuninitialized -Wall -pipe -fomit-frame-pointer -pedantic -D_FORTIFY_SOURCE=2 -Wpointer-arith -Wstrict-prototypes -fstack-protector -Wstack-protector -Wextra -Wbad-function-cast -Wcast-align -Wcast-qual -Wdisabled-optimization -Wendif-labels -Wfloat-equal -Wformat-nonliteral -Winline -Wmissing-declarations -Wmissing-prototypes -Wnested-externs -Wpointer-arith -Wundef -Wformat-security -march=armv6 -mfpu=vfp -mfloat-abi=hard -Aeval:scriptdir=/home/njh/perl5/perlbrew/perls/perl-5.18.2/bin'
    hint=recommended, useposix=true, d_sigaction=define
    useithreads=define, usemultiplicity=define
    useperlio=define, d_sfio=undef, uselargefiles=define, usesocks=undef
    use64bitint=undef, use64bitall=undef, uselongdouble=undef
    usemymalloc=n, bincompat5005=undef
  Compiler:
    cc='cc', ccflags ='-D_REENTRANT -D_GNU_SOURCE -O2 -W -Wformat=2 -Wswitch -Wshadow -Wwrite-strings -Wuninitialized -Wall -pipe -fomit-frame-pointer -pedantic -D_FORTIFY_SOURCE=2 -Wpointer-arith -Wstrict-prototypes -fstack-protector -Wstack-protector -Wextra -Wbad-function-cast -Wcast-align -Wcast-qual -Wdisabled-optimization -Wendif-labels -Wfloat-equal -Wformat-nonliteral -Winline -Wmissing-declarations -Wmissing-prototypes -Wnested-externs -Wpointer-arith -Wundef -Wformat-security -march=armv6 -mfpu=vfp -mfloat-abi=hard -fno-strict-aliasing -I/usr/local/include -D_LARGEFILE_SOURCE -D_FILE_OFFSET_BITS=64',
    optimize='-O2',
    cppflags='-D_REENTRANT -D_GNU_SOURCE -O2 -W -Wformat=2 -Wswitch -Wshadow -Wwrite-strings -Wuninitialized -Wall -pipe -fomit-frame-pointer -pedantic -D_FORTIFY_SOURCE=2 -Wpointer-arith -Wstrict-prototypes -fstack-protector -Wstack-protector -Wextra -Wbad-function-cast -Wcast-align -Wcast-qual -Wdisabled-optimization -Wendif-labels -Wfloat-equal -Wformat-nonliteral -Winline -Wmissing-declarations -Wmissing-prototypes -Wnested-externs -Wpointer-arith -Wundef -Wformat-security -march=armv6 -mfpu=vfp -mfloat-abi=hard -fno-strict-aliasing -I/usr/local/include'
    ccversion='', gccversion='4.6.3', gccosandvers=''
    intsize=4, longsize=4, ptrsize=4, doublesize=8, byteorder=1234
    d_longlong=define, longlongsize=8, d_longdbl=define, longdblsize=8
    ivtype='long', ivsize=4, nvtype='double', nvsize=8, Off_t='off_t', lseeksize=8
    alignbytes=8, prototype=define
  Linker and Libraries:
    ld='cc', ldflags =' -fstack-protector -L/usr/local/lib'
    libpth=/usr/local/lib /lib/arm-linux-gnueabihf /lib /usr/lib/arm-linux-gnueabihf /usr/lib
    libs=-lnsl -lgdbm -ldb -ldl -lm -lcrypt -lutil -lpthread -lc -lgdbm_compat
    perllibs=-lnsl -ldl -lm -lcrypt -lutil -lpthread -lc
    libc=, so=so, useshrplib=false, libperl=libperl.a
    gnulibc_version='2.13'
  Dynamic Linking:
    dlsrc=dl_dlopen.xs, dlext=so, d_dlsymun=undef, ccdlflags='-Wl,-E'
    cccdlflags='-fPIC', lddlflags='-shared -O2 -L/usr/local/lib -fstack-protector'


Characteristics of this binary (from libperl): 
  Compile-time options: HAS_TIMES MULTIPLICITY PERLIO_LAYERS
                        PERL_DONT_CREATE_GVSV
                        PERL_HASH_FUNC_ONE_AT_A_TIME_HARD
                        PERL_IMPLICIT_CONTEXT PERL_MALLOC_WRAP
                        PERL_PRESERVE_IVUV PERL_SAWAMPERSAND USE_ITHREADS
                        USE_LARGE_FILES USE_LOCALE USE_LOCALE_COLLATE
                        USE_LOCALE_CTYPE USE_LOCALE_NUMERIC USE_PERLIO
                        USE_PERL_ATOF USE_REENTRANT_API
  Built under linux
  Compiled at Jan  7 2014 10:12:03
  %ENV:
    PERL5LIB="/var/tmp/build/Test-SharedFork-0.35-0/blib/arch:/var/tmp/build/Test-SharedFork-0.35-0/blib/lib:/var/tmp/build/Data-MessagePack-Stream-1.04-0/blib/arch:/var/tmp/build/Data-MessagePack-Stream-1.04-0/blib/lib:/var/tmp/build/Module-Build-XSUtil-0.19-0/blib/arch:/var/tmp/build/Module-Build-XSUtil-0.19-0/blib/lib:/var/tmp/build/File-Copy-Recursive-Reduced-0.006-0/blib/arch:/var/tmp/build/File-Copy-Recursive-Reduced-0.006-0/blib/lib:/var/tmp/build/Devel-CheckCompiler-0.07-0/blib/arch:/var/tmp/build/Devel-CheckCompiler-0.07-0/blib/lib:/var/tmp/build/Cwd-Guard-0.05-0/blib/arch:/var/tmp/build/Cwd-Guard-0.05-0/blib/lib:/var/tmp/build/Devel-PPPort-3.52-0/blib/arch:/var/tmp/build/Devel-PPPort-3.52-0/blib/lib:/var/tmp/build/Data-MessagePack-1.00-0/blib/arch:/var/tmp/build/Data-MessagePack-1.00-0/blib/lib"
    PERL5OPT=""
    PERL5_CPANPLUS_IS_RUNNING="22376"
    PERL5_CPAN_IS_RUNNING="22376"
    PERL5_CPAN_IS_RUNNING_IN_RECURSION="22309,22376"
    PERLBREW_HOME="/home/njh/.perlbrew"
    PERLBREW_MANPATH="/home/njh/perl5/perlbrew/perls/perl-5.18.2/man"
    PERLBREW_PATH="/home/njh/perl5/perlbrew/bin:/home/njh/perl5/perlbrew/perls/perl-5.18.2/bin"
    PERLBREW_PERL="perl-5.18.2"
    PERLBREW_ROOT="/home/njh/perl5/perlbrew"
    PERLBREW_SHELLRC_VERSION="0.84"
    PERLBREW_VERSION="0.84"
    PERL_USE_UNSAFE_INC="1"
  @INC:
    /var/tmp/build/Test-SharedFork-0.35-0/blib/arch
    /var/tmp/build/Test-SharedFork-0.35-0/blib/lib
    /var/tmp/build/Data-MessagePack-Stream-1.04-0/blib/arch
    /var/tmp/build/Data-MessagePack-Stream-1.04-0/blib/lib
    /var/tmp/build/Module-Build-XSUtil-0.19-0/blib/arch
    /var/tmp/build/Module-Build-XSUtil-0.19-0/blib/lib
    /var/tmp/build/File-Copy-Recursive-Reduced-0.006-0/blib/arch
    /var/tmp/build/File-Copy-Recursive-Reduced-0.006-0/blib/lib
    /var/tmp/build/Devel-CheckCompiler-0.07-0/blib/arch
    /var/tmp/build/Devel-CheckCompiler-0.07-0/blib/lib
    /var/tmp/build/Cwd-Guard-0.05-0/blib/arch
    /var/tmp/build/Cwd-Guard-0.05-0/blib/lib
    /var/tmp/build/Devel-PPPort-3.52-0/blib/arch
    /var/tmp/build/Devel-PPPort-3.52-0/blib/lib
    /var/tmp/build/Data-MessagePack-1.00-0/blib/arch
    /var/tmp/build/Data-MessagePack-1.00-0/blib/lib
    /home/njh/perl5/perlbrew/perls/perl-5.18.2/lib/site_perl/5.18.2/armv6l-linux-thread-multi
    /home/njh/perl5/perlbrew/perls/perl-5.18.2/lib/site_perl/5.18.2
    /home/njh/perl5/perlbrew/perls/perl-5.18.2/lib/5.18.2/armv6l-linux-thread-multi
    /home/njh/perl5/perlbrew/perls/perl-5.18.2/lib/5.18.2
    .