Sodium-FFI v0.009 Perl 5 v5.37.11 MSWin32-x64-multi-thread

Status
Pass
From
twata
Dist
Sodium-FFI v0.009
Platform
Perl 5 v5.37.11 MSWin32-x64-multi-thread
Date
2023-04-29 02:47:43
ID
0d9f2b14-6d42-1014-8029-c1eeefaa1848
This distribution has been tested as part of the CPAN Testers
project, supporting the Perl programming language.  See
http://wiki.cpantesters.org/ for more information or email
questions to cpan-testers-discuss@perl.org


--
Dear Chase Whitener,

This is a computer-generated report for Sodium-FFI-0.009
on perl 5.37.11, created by CPAN-Reporter-1.2018.

Thank you for uploading your work to CPAN.  Congratulations!
All tests were successful.

Sections of this report:

    * Tester comments
    * Program output
    * Prerequisites
    * Environment and other context

------------------------------
TESTER COMMENTS
------------------------------

Additional comments from tester:

none provided

------------------------------
PROGRAM OUTPUT
------------------------------

Output from 'C:\winlibs-x86_64-posix-seh-gcc-12.2.0-llvm-15.0.7-mingw-w64msvcrt-10.0.0-r4\mingw64\bin\gmake.EXE test':

"C:\WinLibs\Perl-5.37.11\bin\perl.exe" -MFFI::Build::MM=cmd -e fbx_build
"C:\WinLibs\Perl-5.37.11\bin\perl.exe" -MFFI::Build::MM=cmd -e fbx_test
"C:\WinLibs\Perl-5.37.11\bin\perl.exe" "-MExtUtils::Command::MM" "-MTest::Harness" "-e" "undef *Test::Harness::Switches; test_harness(0, 'blib\lib', 'blib\arch')" t/*.t t/aead/*.t t/pub_key_crypto/*.t
# 
# Versions for all modules listed in MYMETA.json (including optional ones):
# 
# === Configure Requires ===
# 
#     Module                Want     Have
#     -------------------- ----- --------
#     Alien::Base::Wrapper   any     2.78
#     Alien::Sodium         2.00    2.000
#     ExtUtils::MakeMaker    any     7.70
#     FFI::Build::MM        0.83     2.07
#     perl                 5.008 5.037011
# 
# === Build Requires ===
# 
#     Module        Want  Have
#     ------------- ---- -----
#     Alien::Sodium  any 2.000
# 
# === Test Requires ===
# 
#     Module               Want     Have
#     ------------------- ----- --------
#     ExtUtils::MakeMaker   any     7.70
#     File::Spec            any     3.88
#     Test::More           0.88 1.302194
#     perl                5.008 5.037011
# 
# === Test Recommends ===
# 
#     Module         Want     Have
#     ---------- -------- --------
#     CPAN::Meta 2.120900 2.150010
# 
# === Runtime Requires ===
# 
#     Module                Want     Have
#     -------------------- ----- --------
#     Alien::Base::Wrapper   any     2.78
#     Alien::Sodium        2.000    2.000
#     Carp                   any     1.54
#     Cwd                    any     3.89
#     Exporter              5.57     5.77
#     FFI::Platypus         1.00     2.07
#     File::Basename         any     2.86
#     File::ShareDir         any    1.118
#     File::Spec             any     3.88
#     Path::Tiny             any    0.144
#     Ref::Util              any    0.204
#     Sub::Util              any     1.63
#     feature                any     1.82
#     perl                 5.008 5.037011
#     strict                 any     1.12
#     utf8                   any     1.25
#     warnings               any     1.64
# 
t/00-report-prereqs.t ........... ok
t/10-versions.t ................. ok
t/11-utils.t .................... ok
t/12-random.t ................... ok
t/aead/aes256gcm.t .............. skipped: AEAD_AES256 Not Available.
t/aead/chacha20poly1305.t ....... ok
t/aead/chacha20poly1305_ietf.t .. ok
t/crypto_auth.t ................. ok
t/pub_key_crypto/box.t .......... ok
t/pub_key_crypto/pubkey_sig.t ... ok
All tests successful.
Files=10, Tests=136,  5 wallclock secs ( 0.06 usr +  0.05 sys =  0.11 CPU)
Result: PASS

------------------------------
PREREQUISITES
------------------------------

Prerequisite modules loaded:

requires:

    Module               Need     Have    
    -------------------- -------- --------
    Alien::Base::Wrapper 0        2.78    
    Alien::Sodium        2.000    2.000   
    Carp                 0        1.54    
    Cwd                  0        3.89    
    Exporter             5.57     5.77    
    feature              0        1.82    
    FFI::Platypus        1.00     2.07    
    File::Basename       0        2.86    
    File::ShareDir       0        1.118   
    File::Spec           0        3.88    
    Path::Tiny           0        0.144   
    Ref::Util            0        0.204   
    strict               0        1.12    
    Sub::Util            0        1.63    
    utf8                 0        1.25    
    warnings             0        1.64    

build_requires:

    Module               Need     Have    
    -------------------- -------- --------
    Alien::Sodium        0        2.000   
    ExtUtils::MakeMaker  0        7.70    
    File::Spec           0        3.88    
    Test::More           0.88     1.302194

configure_requires:

    Module               Need     Have    
    -------------------- -------- --------
    Alien::Base::Wrapper 0        2.78    
    Alien::Sodium        2.00     2.000   
    ExtUtils::MakeMaker  0        7.70    
    FFI::Build::MM       0.83     2.07    
    perl                 5.008    5.037011

opt_build_requires:

    Module               Need     Have    
    -------------------- -------- --------
    CPAN::Meta           2.120900 2.150010


------------------------------
ENVIRONMENT AND OTHER CONTEXT
------------------------------

Environment variables:

    COMSPEC = C:\WINDOWS\system32\cmd.exe
    LC_ALL = C
    NONINTERACTIVE_TESTING = 1
    NUMBER_OF_PROCESSORS = 4
    PATH = C:\home\cape53711\perl5\bin;C:\WinLibs\local\bin;C:\WinLibs\Perl-5.37.11\bin;C:\winlibs-x86_64-posix-seh-gcc-12.2.0-llvm-15.0.7-mingw-w64msvcrt-10.0.0-r4\mingw64\bin;C:\WinLibs\build-openssl\bin;C:\WINDOWS\system32;C:\WINDOWS;C:\WINDOWS\System32\Wbem;C:\WINDOWS\System32\WindowsPowerShell\v1.0
    PERL5LIB = C:\home\cape53711\perl5\lib\perl5
    PERL5OPT = 
    PERL5_CPANPLUS_IS_RUNNING = 1148
    PERL5_CPAN_IS_RUNNING = 1148
    PERL_LOCAL_LIB_ROOT = C:\home\cape53711\perl5
    PERL_MB_OPT = --install_base "C:\\home\\cape53711\\perl5"
    PERL_MM_OPT = INSTALL_BASE=C:\\home\\cape53711\\perl5
    PERL_MM_USE_DEFAULT = 1
    PERL_USE_UNSAFE_INC = 1
    PROCESSOR_IDENTIFIER = Intel64 Family 6 Model 58 Stepping 9, GenuineIntel
    TEMP = C:\Users\USER\AppData\Local\Temp
    TERM = dumb

Perl special variables (and OS-specific diagnostics, for MSWin32):

    $^X = C:\WinLibs\Perl-5.37.11\bin\perl.exe
    $UID/$EUID = 0 / 0
    $GID = 0
    $EGID = 0
    Win32::GetOSName = Win8.1
    Win32::GetOSVersion = , 6, 3, 9600, 2, 0, 0, 256, 1
    Win32::FsType = NTFS
    Win32::IsAdminUser = 0

Perl module toolchain versions installed:

    Module              Have    
    ------------------- --------
    CPAN                2.34    
    CPAN::Meta          2.150010
    Cwd                 3.89    
    ExtUtils::CBuilder  0.280238
    ExtUtils::Command   7.70    
    ExtUtils::Install   2.22    
    ExtUtils::MakeMaker 7.70    
    ExtUtils::Manifest  1.73    
    ExtUtils::ParseXS   3.50    
    File::Spec          3.88    
    JSON                4.10    
    JSON::PP            4.16    
    Module::Build       0.4232  
    Module::Signature   n/a     
    Parse::CPAN::Meta   2.150010
    Test::Harness       3.44    
    Test::More          1.302194
    YAML                1.30    
    YAML::Syck          n/a     
    version             0.9929  


--

Summary of my perl5 (revision 5 version 37 subversion 11) configuration:
   
  Platform:
    osname=MSWin32
    osvers=6.3.9600
    archname=MSWin32-x64-multi-thread
    uname=''
    config_args='undef'
    hint=recommended
    useposix=true
    d_sigaction=undef
    useithreads=define
    usemultiplicity=define
    use64bitint=define
    use64bitall=undef
    uselongdouble=undef
    usemymalloc=n
    default_inc_excludes_dot=define
  Compiler:
    cc='gcc'
    ccflags =' -DWIN32 -DWIN64 -DPERL_TEXTMODE_SCRIPTS -DMULTIPLICITY -DPERL_IMPLICIT_SYS -DUSE_PERLIO -D__USE_MINGW_ANSI_STDIO -fwrapv -fno-strict-aliasing -mms-bitfields'
    optimize='-Os'
    cppflags='-DWIN32'
    ccversion=''
    gccversion='12.2.0'
    gccosandvers=''
    intsize=4
    longsize=4
    ptrsize=8
    doublesize=8
    byteorder=12345678
    doublekind=3
    d_longlong=define
    longlongsize=8
    d_longdbl=define
    longdblsize=16
    longdblkind=3
    ivtype='long long'
    ivsize=8
    nvtype='double'
    nvsize=8
    Off_t='long long'
    lseeksize=8
    alignbytes=8
    prototype=define
  Linker and Libraries:
    ld='g++'
    ldflags ='-s -L"C:\WinLibs\Perl-5.37.11\lib\CORE" -L"C:\winlibs-x86_64-posix-seh-gcc-12.2.0-llvm-15.0.7-mingw-w64msvcrt-10.0.0-r4\mingw64\lib" -L"C:\winlibs-x86_64-posix-seh-gcc-12.2.0-llvm-15.0.7-mingw-w64msvcrt-10.0.0-r4\mingw64\x86_64-w64-mingw32\lib" -L"C:\winlibs-x86_64-posix-seh-gcc-12.2.0-llvm-15.0.7-mingw-w64msvcrt-10.0.0-r4\mingw64\lib\gcc\x86_64-w64-mingw32\12.2.0"'
    libpth=C:\winlibs-x86_64-posix-seh-gcc-12.2.0-llvm-15.0.7-mingw-w64msvcrt-10.0.0-r4\mingw64\lib C:\winlibs-x86_64-posix-seh-gcc-12.2.0-llvm-15.0.7-mingw-w64msvcrt-10.0.0-r4\mingw64\x86_64-w64-mingw32\lib C:\winlibs-x86_64-posix-seh-gcc-12.2.0-llvm-15.0.7-mingw-w64msvcrt-10.0.0-r4\mingw64\lib\gcc\x86_64-w64-mingw32\12.2.0
    libs= -lmoldname -lkernel32 -luser32 -lgdi32 -lwinspool -lcomdlg32 -ladvapi32 -lshell32 -lole32 -loleaut32 -lnetapi32 -luuid -lws2_32 -lmpr -lwinmm -lversion -lodbc32 -lodbccp32 -lcomctl32
    perllibs= -lmoldname -lkernel32 -luser32 -lgdi32 -lwinspool -lcomdlg32 -ladvapi32 -lshell32 -lole32 -loleaut32 -lnetapi32 -luuid -lws2_32 -lmpr -lwinmm -lversion -lodbc32 -lodbccp32 -lcomctl32
    libc=
    so=dll
    useshrplib=true
    libperl=libperl537.a
    gnulibc_version=''
  Dynamic Linking:
    dlsrc=dl_win32.xs
    dlext=dll
    d_dlsymun=undef
    ccdlflags=' '
    cccdlflags=' '
    lddlflags='-shared -s -L"C:\WinLibs\Perl-5.37.11\lib\CORE" -L"C:\winlibs-x86_64-posix-seh-gcc-12.2.0-llvm-15.0.7-mingw-w64msvcrt-10.0.0-r4\mingw64\lib" -L"C:\winlibs-x86_64-posix-seh-gcc-12.2.0-llvm-15.0.7-mingw-w64msvcrt-10.0.0-r4\mingw64\x86_64-w64-mingw32\lib" -L"C:\winlibs-x86_64-posix-seh-gcc-12.2.0-llvm-15.0.7-mingw-w64msvcrt-10.0.0-r4\mingw64\lib\gcc\x86_64-w64-mingw32\12.2.0"'


Characteristics of this binary (from libperl): 
  Compile-time options:
    HAS_LONG_DOUBLE
    HAS_TIMES
    HAVE_INTERP_INTERN
    MULTIPLICITY
    PERLIO_LAYERS
    PERL_COPY_ON_WRITE
    PERL_DONT_CREATE_GVSV
    PERL_HASH_FUNC_SIPHASH13
    PERL_HASH_USE_SBOX32
    PERL_IMPLICIT_SYS
    PERL_MALLOC_WRAP
    PERL_OP_PARENT
    PERL_PRESERVE_IVUV
    PERL_USE_SAFE_PUTENV
    USE_64_BIT_INT
    USE_ITHREADS
    USE_LARGE_FILES
    USE_LOCALE
    USE_LOCALE_COLLATE
    USE_LOCALE_CTYPE
    USE_LOCALE_NUMERIC
    USE_LOCALE_TIME
    USE_PERLIO
    USE_PERL_ATOF
  Built under MSWin32
  Compiled at Apr 22 2023 06:38:13
  %ENV:
    PERL5LIB="C:\home\cape53711\perl5\lib\perl5"
    PERL5_CPANPLUS_IS_RUNNING="1148"
    PERL5_CPAN_IS_RUNNING="1148"
    PERL_LOCAL_LIB_ROOT="C:\home\cape53711\perl5"
    PERL_MB_OPT="--install_base "C:\\home\\cape53711\\perl5""
    PERL_MM_OPT="INSTALL_BASE=C:\\home\\cape53711\\perl5"
    PERL_MM_USE_DEFAULT="1"
    PERL_USE_UNSAFE_INC="1"
  @INC:
    C:\home\cape53711\perl5\lib\perl5/MSWin32-x64-multi-thread
    C:\home\cape53711\perl5\lib\perl5
    C:/WinLibs/Perl-5.37.11/site/lib
    C:/WinLibs/Perl-5.37.11/lib
    .