HTTP-Promise vv0.5.3 Perl 5 v5.28.3 arm64-freebsd

Status
Pass
From
Slaven Rezić
Dist
HTTP-Promise vv0.5.3
Platform
Perl 5 v5.28.3 arm64-freebsd
Date
2025-03-11 07:40:06
ID
0d6ff1fa-fe4c-11ef-91e7-27e06d8775ea
This distribution has been tested as part of the CPAN Testers
project, supporting the Perl programming language.  See
http://wiki.cpantesters.org/ for more information or email
questions to cpan-testers-discuss@perl.org


--
Dear Jacques Deguest,

This is a computer-generated report for HTTP-Promise-v0.5.3
on perl 5.28.3, created by CPAN-Reporter-1.2019.

Thank you for uploading your work to CPAN.  Congratulations!
All tests were successful.

Sections of this report:

    * Tester comments
    * Program output
    * Prerequisites
    * Environment and other context

------------------------------
TESTER COMMENTS
------------------------------

Additional comments from tester:

none provided

------------------------------
PROGRAM OUTPUT
------------------------------

Output from '/usr/bin/make test':

PERL_DL_NONLAZY=1 "/usr/perl5.28.3/bin/perl" "-MExtUtils::Command::MM" "-MTest::Harness" "-e" "undef *Test::Harness::Switches; test_harness(0, 'blib/lib', 'blib/arch')" t/*.t
t/01.load.t ................ ok
Bad request within package HTTP::Promise::Parser at line 455 in file lib/HTTP/Promise/Parser.pm
Trace begun at lib/HTTP/Promise/Parser.pm line 455
	HTTP::Promise::Parser::parse_headers('HTTP::Promise::Parser', 'SCALAR(0x7ca22f6a348)') called at lib/HTTP/Promise/Parser.pm line 786
	HTTP::Promise::Parser::parse_request_pp('HTTP::Promise::Parser', 'SCALAR(0x7ca22f6a348)') called at t/02.parser.t line 190
	main::__ANON__ at /usr/perl5.28.3/lib/site_perl/5.28.3/Test/Builder.pm line 368
	eval {...} at /usr/perl5.28.3/lib/site_perl/5.28.3/Test/Builder.pm line 368
	Test::Builder::subtest('Test::Builder=HASH(0x7ca20b75978)', 'request', 'CODE(0x7ca21f4ad98)') called at /usr/perl5.28.3/lib/site_perl/5.28.3/Test/More.pm line 831
	Test::More::subtest('request', 'CODE(0x7ca21f4ad98)') called at t/02.parser.t line 203
Bad request within package HTTP::Promise::Parser at line 455 in file lib/HTTP/Promise/Parser.pm
Trace begun at lib/HTTP/Promise/Parser.pm line 455
	HTTP::Promise::Parser::parse_headers('HTTP::Promise::Parser', 'SCALAR(0x7ca22f6a348)') called at lib/HTTP/Promise/Parser.pm line 786
	HTTP::Promise::Parser::parse_request_pp('HTTP::Promise::Parser', 'SCALAR(0x7ca22f6a348)') called at t/02.parser.t line 190
	main::__ANON__ at /usr/perl5.28.3/lib/site_perl/5.28.3/Test/Builder.pm line 368
	eval {...} at /usr/perl5.28.3/lib/site_perl/5.28.3/Test/Builder.pm line 368
	Test::Builder::subtest('Test::Builder=HASH(0x7ca20b75978)', 'request', 'CODE(0x7ca21f4ad98)') called at /usr/perl5.28.3/lib/site_perl/5.28.3/Test/More.pm line 831
	Test::More::subtest('request', 'CODE(0x7ca21f4ad98)') called at t/02.parser.t line 203
Bad Request-Line within package HTTP::Promise::Parser at line 450 in file lib/HTTP/Promise/Parser.pm
Trace begun at lib/HTTP/Promise/Parser.pm line 450
	HTTP::Promise::Parser::parse_headers('HTTP::Promise::Parser', 'SCALAR(0x7ca22f6a348)') called at lib/HTTP/Promise/Parser.pm line 786
	HTTP::Promise::Parser::parse_request_pp('HTTP::Promise::Parser', 'SCALAR(0x7ca22f6a348)') called at t/02.parser.t line 190
	main::__ANON__ at /usr/perl5.28.3/lib/site_perl/5.28.3/Test/Builder.pm line 368
	eval {...} at /usr/perl5.28.3/lib/site_perl/5.28.3/Test/Builder.pm line 368
	Test::Builder::subtest('Test::Builder=HASH(0x7ca20b75978)', 'request', 'CODE(0x7ca21f4ad98)') called at /usr/perl5.28.3/lib/site_perl/5.28.3/Test/More.pm line 831
	Test::More::subtest('request', 'CODE(0x7ca21f4ad98)') called at t/02.parser.t line 203
Incomplete request, call again when there is more data. within package HTTP::Promise::Parser at line 414 in file lib/HTTP/Promise/Parser.pm
Trace begun at lib/HTTP/Promise/Parser.pm line 414
	HTTP::Promise::Parser::parse_headers('HTTP::Promise::Parser', 'SCALAR(0x7ca22f6a348)') called at lib/HTTP/Promise/Parser.pm line 786
	HTTP::Promise::Parser::parse_request_pp('HTTP::Promise::Parser', 'SCALAR(0x7ca22f6a348)') called at t/02.parser.t line 190
	main::__ANON__ at /usr/perl5.28.3/lib/site_perl/5.28.3/Test/Builder.pm line 368
	eval {...} at /usr/perl5.28.3/lib/site_perl/5.28.3/Test/Builder.pm line 368
	Test::Builder::subtest('Test::Builder=HASH(0x7ca20b75978)', 'request', 'CODE(0x7ca21f4ad98)') called at /usr/perl5.28.3/lib/site_perl/5.28.3/Test/More.pm line 831
	Test::More::subtest('request', 'CODE(0x7ca21f4ad98)') called at t/02.parser.t line 203
Bad request within package HTTP::Promise::Parser at line 455 in file lib/HTTP/Promise/Parser.pm
Trace begun at lib/HTTP/Promise/Parser.pm line 455
	HTTP::Promise::Parser::parse_headers('HTTP::Promise::Parser', 'SCALAR(0x7ca22f6a348)') called at lib/HTTP/Promise/Parser.pm line 786
	HTTP::Promise::Parser::parse_request_pp('HTTP::Promise::Parser', 'SCALAR(0x7ca22f6a348)') called at t/02.parser.t line 190
	main::__ANON__ at /usr/perl5.28.3/lib/site_perl/5.28.3/Test/Builder.pm line 368
	eval {...} at /usr/perl5.28.3/lib/site_perl/5.28.3/Test/Builder.pm line 368
	Test::Builder::subtest('Test::Builder=HASH(0x7ca20b75978)', 'request', 'CODE(0x7ca21f4ad98)') called at /usr/perl5.28.3/lib/site_perl/5.28.3/Test/More.pm line 831
	Test::More::subtest('request', 'CODE(0x7ca21f4ad98)') called at t/02.parser.t line 203
Bad Request-Line within package HTTP::Promise::Parser at line 450 in file lib/HTTP/Promise/Parser.pm
Trace begun at lib/HTTP/Promise/Parser.pm line 450
	HTTP::Promise::Parser::parse_headers('HTTP::Promise::Parser', 'SCALAR(0x7ca22f6a348)') called at lib/HTTP/Promise/Parser.pm line 786
	HTTP::Promise::Parser::parse_request_pp('HTTP::Promise::Parser', 'SCALAR(0x7ca22f6a348)') called at t/02.parser.t line 190
	main::__ANON__ at /usr/perl5.28.3/lib/site_perl/5.28.3/Test/Builder.pm line 368
	eval {...} at /usr/perl5.28.3/lib/site_perl/5.28.3/Test/Builder.pm line 368
	Test::Builder::subtest('Test::Builder=HASH(0x7ca20b75978)', 'request', 'CODE(0x7ca21f4ad98)') called at /usr/perl5.28.3/lib/site_perl/5.28.3/Test/More.pm line 831
	Test::More::subtest('request', 'CODE(0x7ca21f4ad98)') called at t/02.parser.t line 203
Incomplete request, call again when there is more data. within package HTTP::Promise::Parser at line 414 in file lib/HTTP/Promise/Parser.pm
Trace begun at lib/HTTP/Promise/Parser.pm line 414
	HTTP::Promise::Parser::parse_headers('HTTP::Promise::Parser', 'SCALAR(0x7ca22f6a348)') called at lib/HTTP/Promise/Parser.pm line 786
	HTTP::Promise::Parser::parse_request_pp('HTTP::Promise::Parser', 'SCALAR(0x7ca22f6a348)') called at t/02.parser.t line 190
	main::__ANON__ at /usr/perl5.28.3/lib/site_perl/5.28.3/Test/Builder.pm line 368
	eval {...} at /usr/perl5.28.3/lib/site_perl/5.28.3/Test/Builder.pm line 368
	Test::Builder::subtest('Test::Builder=HASH(0x7ca20b75978)', 'request', 'CODE(0x7ca21f4ad98)') called at /usr/perl5.28.3/lib/site_perl/5.28.3/Test/More.pm line 831
	Test::More::subtest('request', 'CODE(0x7ca21f4ad98)') called at t/02.parser.t line 203
Bad request within package HTTP::Promise::Parser at line 476 in file lib/HTTP/Promise/Parser.pm
Trace begun at lib/HTTP/Promise/Parser.pm line 476
	HTTP::Promise::Parser::parse_headers('HTTP::Promise::Parser', 'SCALAR(0x7ca22f6a348)') called at lib/HTTP/Promise/Parser.pm line 786
	HTTP::Promise::Parser::parse_request_pp('HTTP::Promise::Parser', 'SCALAR(0x7ca22f6a348)') called at t/02.parser.t line 190
	main::__ANON__ at /usr/perl5.28.3/lib/site_perl/5.28.3/Test/Builder.pm line 368
	eval {...} at /usr/perl5.28.3/lib/site_perl/5.28.3/Test/Builder.pm line 368
	Test::Builder::subtest('Test::Builder=HASH(0x7ca20b75978)', 'request', 'CODE(0x7ca21f4ad98)') called at /usr/perl5.28.3/lib/site_perl/5.28.3/Test/More.pm line 831
	Test::More::subtest('request', 'CODE(0x7ca21f4ad98)') called at t/02.parser.t line 203
Bad Request-Line within package HTTP::Promise::Parser at line 450 in file lib/HTTP/Promise/Parser.pm
Trace begun at lib/HTTP/Promise/Parser.pm line 450
	HTTP::Promise::Parser::parse_headers('HTTP::Promise::Parser', 'SCALAR(0x7ca22f6a348)') called at lib/HTTP/Promise/Parser.pm line 786
	HTTP::Promise::Parser::parse_request_pp('HTTP::Promise::Parser', 'SCALAR(0x7ca22f6a348)') called at t/02.parser.t line 190
	main::__ANON__ at /usr/perl5.28.3/lib/site_perl/5.28.3/Test/Builder.pm line 368
	eval {...} at /usr/perl5.28.3/lib/site_perl/5.28.3/Test/Builder.pm line 368
	Test::Builder::subtest('Test::Builder=HASH(0x7ca20b75978)', 'request', 'CODE(0x7ca21f4ad98)') called at /usr/perl5.28.3/lib/site_perl/5.28.3/Test/More.pm line 831
	Test::More::subtest('request', 'CODE(0x7ca21f4ad98)') called at t/02.parser.t line 203
Bad request within package HTTP::Promise::Parser at line 788 in file lib/HTTP/Promise/Parser.pm
Trace begun at lib/HTTP/Promise/Parser.pm line 788
	HTTP::Promise::Parser::parse_request_pp('HTTP::Promise::Parser', 'SCALAR(0x7ca22f6a348)') called at t/02.parser.t line 190
	main::__ANON__ at /usr/perl5.28.3/lib/site_perl/5.28.3/Test/Builder.pm line 368
	eval {...} at /usr/perl5.28.3/lib/site_perl/5.28.3/Test/Builder.pm line 368
	Test::Builder::subtest('Test::Builder=HASH(0x7ca20b75978)', 'request', 'CODE(0x7ca21f4ad98)') called at /usr/perl5.28.3/lib/site_perl/5.28.3/Test/More.pm line 831
	Test::More::subtest('request', 'CODE(0x7ca21f4ad98)') called at t/02.parser.t line 203
Bad Response-Line within package HTTP::Promise::Parser at line 450 in file lib/HTTP/Promise/Parser.pm
Trace begun at lib/HTTP/Promise/Parser.pm line 450
	HTTP::Promise::Parser::parse_headers('HTTP::Promise::Parser', 'SCALAR(0x7ca22f8c720)', 'HASH(0x7ca233acd98)') called at lib/HTTP/Promise/Parser.pm line 840
	HTTP::Promise::Parser::parse_response_pp('HTTP::Promise::Parser', 'SCALAR(0x7ca22f8c720)') called at t/02.parser.t line 287
	main::__ANON__ at /usr/perl5.28.3/lib/site_perl/5.28.3/Test/Builder.pm line 368
	eval {...} at /usr/perl5.28.3/lib/site_perl/5.28.3/Test/Builder.pm line 368
	Test::Builder::subtest('Test::Builder=HASH(0x7ca20b75978)', 'response', 'CODE(0x7ca22f6a498)') called at /usr/perl5.28.3/lib/site_perl/5.28.3/Test/More.pm line 831
	Test::More::subtest('response', 'CODE(0x7ca22f6a498)') called at t/02.parser.t line 300
Incomplete request, call again when there is more data. within package HTTP::Promise::Parser at line 414 in file lib/HTTP/Promise/Parser.pm
Trace begun at lib/HTTP/Promise/Parser.pm line 414
	HTTP::Promise::Parser::parse_headers('HTTP::Promise::Parser', 'SCALAR(0x7ca22f8c720)', 'HASH(0x7ca22f8e7c8)') called at lib/HTTP/Promise/Parser.pm line 840
	HTTP::Promise::Parser::parse_response_pp('HTTP::Promise::Parser', 'SCALAR(0x7ca22f8c720)') called at t/02.parser.t line 287
	main::__ANON__ at /usr/perl5.28.3/lib/site_perl/5.28.3/Test/Builder.pm line 368
	eval {...} at /usr/perl5.28.3/lib/site_perl/5.28.3/Test/Builder.pm line 368
	Test::Builder::subtest('Test::Builder=HASH(0x7ca20b75978)', 'response', 'CODE(0x7ca22f6a498)') called at /usr/perl5.28.3/lib/site_perl/5.28.3/Test/More.pm line 831
	Test::More::subtest('response', 'CODE(0x7ca22f6a498)') called at t/02.parser.t line 300
Bad Response-Line within package HTTP::Promise::Parser at line 450 in file lib/HTTP/Promise/Parser.pm
Trace begun at lib/HTTP/Promise/Parser.pm line 450
	HTTP::Promise::Parser::parse_headers('HTTP::Promise::Parser', 'SCALAR(0x7ca22f8c720)', 'HASH(0x7ca23640438)') called at lib/HTTP/Promise/Parser.pm line 840
	HTTP::Promise::Parser::parse_response_pp('HTTP::Promise::Parser', 'SCALAR(0x7ca22f8c720)') called at t/02.parser.t line 287
	main::__ANON__ at /usr/perl5.28.3/lib/site_perl/5.28.3/Test/Builder.pm line 368
	eval {...} at /usr/perl5.28.3/lib/site_perl/5.28.3/Test/Builder.pm line 368
	Test::Builder::subtest('Test::Builder=HASH(0x7ca20b75978)', 'response', 'CODE(0x7ca22f6a498)') called at /usr/perl5.28.3/lib/site_perl/5.28.3/Test/More.pm line 831
	Test::More::subtest('response', 'CODE(0x7ca22f6a498)') called at t/02.parser.t line 300
Incomplete request, call again when there is more data. within package HTTP::Promise::Parser at line 414 in file lib/HTTP/Promise/Parser.pm
Trace begun at lib/HTTP/Promise/Parser.pm line 414
	HTTP::Promise::Parser::parse_headers('HTTP::Promise::Parser', 'SCALAR(0x7ca22f8c720)', 'HASH(0x7ca2363eac8)') called at lib/HTTP/Promise/Parser.pm line 840
	HTTP::Promise::Parser::parse_response_pp('HTTP::Promise::Parser', 'SCALAR(0x7ca22f8c720)') called at t/02.parser.t line 287
	main::__ANON__ at /usr/perl5.28.3/lib/site_perl/5.28.3/Test/Builder.pm line 368
	eval {...} at /usr/perl5.28.3/lib/site_perl/5.28.3/Test/Builder.pm line 368
	Test::Builder::subtest('Test::Builder=HASH(0x7ca20b75978)', 'response', 'CODE(0x7ca22f6a498)') called at /usr/perl5.28.3/lib/site_perl/5.28.3/Test/More.pm line 831
	Test::More::subtest('response', 'CODE(0x7ca22f6a498)') called at t/02.parser.t line 300
Bad response within package HTTP::Promise::Parser at line 476 in file lib/HTTP/Promise/Parser.pm
Trace begun at lib/HTTP/Promise/Parser.pm line 476
	HTTP::Promise::Parser::parse_headers('HTTP::Promise::Parser', 'SCALAR(0x7ca22f8c720)', 'HASH(0x7ca2329f5b8)') called at lib/HTTP/Promise/Parser.pm line 840
	HTTP::Promise::Parser::parse_response_pp('HTTP::Promise::Parser', 'SCALAR(0x7ca22f8c720)') called at t/02.parser.t line 287
	main::__ANON__ at /usr/perl5.28.3/lib/site_perl/5.28.3/Test/Builder.pm line 368
	eval {...} at /usr/perl5.28.3/lib/site_perl/5.28.3/Test/Builder.pm line 368
	Test::Builder::subtest('Test::Builder=HASH(0x7ca20b75978)', 'response', 'CODE(0x7ca22f6a498)') called at /usr/perl5.28.3/lib/site_perl/5.28.3/Test/More.pm line 831
	Test::More::subtest('response', 'CODE(0x7ca22f6a498)') called at t/02.parser.t line 300
t/02.parser.t .............. ok
Basic authorisation user name cannot contain ':'. within package HTTP::Promise::Headers at line 634 in file lib/HTTP/Promise/Headers.pm
Trace begun at lib/HTTP/Promise/Headers.pm line 634
	HTTP::Promise::Headers::error('HTTP::Promise::Headers=HASH(0xdf6bc4fb228)', 'Basic authorisation user name cannot contain \':\'.') called at lib/HTTP/Promise/Headers.pm line 1481
	HTTP::Promise::Headers::_basic_auth('HTTP::Promise::Headers=HASH(0xdf6bc4fb228)', 'Authorization', 'u2:p') called at lib/HTTP/Promise/Headers.pm line 258
	HTTP::Promise::Headers::authorization_basic('HTTP::Promise::Headers=HASH(0xdf6bc4fb228)', 'u2:p') called at t/03.headers.t line 433
t/03.headers.t ............. ok
No headers data could be retrieved in the first 1 bytes of data read. within package HTTP::Promise::Parser at line 294 in file lib/HTTP/Promise/Parser.pm
Trace begun at lib/HTTP/Promise/Parser.pm line 294
	HTTP::Promise::Parser::parse_fh('HTTP::Promise::Parser=HASH(0x4f42858189d8)', 'Module::Generic::Scalar::IO=GLOB(0x4f428595fc48)') called at lib/HTTP/Promise/Parser.pm line 223
	HTTP::Promise::Parser::parse('HTTP::Promise::Parser=HASH(0x4f42858189d8)', 'SCALAR(0x4f4284623fd8)') called at lib/HTTP/Promise/Message.pm line 835
	HTTP::Promise::Message::parse('HTTP::Promise::Message', '^J', 'debug', 0) called at t/04.message.t line 96
Bad request within package HTTP::Promise::Parser at line 455 in file lib/HTTP/Promise/Parser.pm
Trace begun at lib/HTTP/Promise/Parser.pm line 455
	HTTP::Promise::Parser::parse_headers('HTTP::Promise::Parser=HASH(0x4f42859621c8)', 'SCALAR(0x4f42859a4d50)', 'HASH(0x4f428595fc90)') called at lib/HTTP/Promise/Parser.pm line 307
	HTTP::Promise::Parser::parse_fh('HTTP::Promise::Parser=HASH(0x4f42859621c8)', 'Module::Generic::Scalar::IO=GLOB(0x4f4285948a38)') called at lib/HTTP/Promise/Parser.pm line 223
	HTTP::Promise::Parser::parse('HTTP::Promise::Parser=HASH(0x4f42859621c8)', 'SCALAR(0x4f4284623fd8)') called at lib/HTTP/Promise/Message.pm line 835
	HTTP::Promise::Message::parse('HTTP::Promise::Message', '^J^J', 'debug', 0) called at t/04.message.t line 99
No headers data could be retrieved in the first 3 bytes of data read. within package HTTP::Promise::Parser at line 294 in file lib/HTTP/Promise/Parser.pm
Trace begun at lib/HTTP/Promise/Parser.pm line 294
	HTTP::Promise::Parser::parse_fh('HTTP::Promise::Parser=HASH(0x4f42859626a8)', 'Module::Generic::Scalar::IO=GLOB(0x4f428596bc60)') called at lib/HTTP/Promise/Parser.pm line 223
	HTTP::Promise::Parser::parse('HTTP::Promise::Parser=HASH(0x4f42859626a8)', 'SCALAR(0x4f4284623fd8)') called at lib/HTTP/Promise/Message.pm line 835
	HTTP::Promise::Message::parse('HTTP::Promise::Message', 'foo', 'debug', 0) called at t/04.message.t line 105
No headers data could be retrieved in the first 11 bytes of data read. within package HTTP::Promise::Parser at line 294 in file lib/HTTP/Promise/Parser.pm
Trace begun at lib/HTTP/Promise/Parser.pm line 294
	HTTP::Promise::Parser::parse_fh('HTTP::Promise::Parser=HASH(0x4f42858a28e8)', 'Module::Generic::Scalar::IO=GLOB(0x4f42858b7960)') called at lib/HTTP/Promise/Parser.pm line 223
	HTTP::Promise::Parser::parse('HTTP::Promise::Parser=HASH(0x4f42858a28e8)', 'SCALAR(0x4f4284623fd8)') called at lib/HTTP/Promise/Message.pm line 835
	HTTP::Promise::Message::parse('HTTP::Promise::Message', 'foo_bar: 1^J', 'debug', 0) called at t/04.message.t line 111
Incomplete request, call again when there is more data. within package HTTP::Promise::Parser at line 414 in file lib/HTTP/Promise/Parser.pm
Trace begun at lib/HTTP/Promise/Parser.pm line 414
	HTTP::Promise::Parser::parse_headers('HTTP::Promise::Parser=HASH(0x4f428596cbd0)', 'SCALAR(0x4f42859a4d50)', 'HASH(0x4f42858b8390)') called at lib/HTTP/Promise/Parser.pm line 307
	HTTP::Promise::Parser::parse_fh('HTTP::Promise::Parser=HASH(0x4f428596cbd0)', 'Module::Generic::Scalar::IO=GLOB(0x4f42859d3ea0)') called at lib/HTTP/Promise/Parser.pm line 223
	HTTP::Promise::Parser::parse('HTTP::Promise::Parser=HASH(0x4f428596cbd0)', 'SCALAR(0x4f4284623fd8)') called at lib/HTTP/Promise/Message.pm line 835
	HTTP::Promise::Message::parse('HTTP::Promise::Message', 'foo: 1^Jfoo', 'debug', 0) called at t/04.message.t line 115
No headers data could be retrieved in the first 10 bytes of data read. within package HTTP::Promise::Parser at line 294 in file lib/HTTP/Promise/Parser.pm
Trace begun at lib/HTTP/Promise/Parser.pm line 294
	HTTP::Promise::Parser::parse_fh('HTTP::Promise::Parser=HASH(0x4f428596cbd0)', 'Module::Generic::Scalar::IO=GLOB(0x4f42859d3ea0)') called at lib/HTTP/Promise/Parser.pm line 223
	HTTP::Promise::Parser::parse('HTTP::Promise::Parser=HASH(0x4f428596cbd0)', 'SCALAR(0x4f4284623fd8)') called at lib/HTTP/Promise/Message.pm line 835
	HTTP::Promise::Message::parse('HTTP::Promise::Message', 'foo: 1^Jfoo', 'debug', 0) called at t/04.message.t line 115
Incomplete request, call again when there is more data. within package HTTP::Promise::Parser at line 414 in file lib/HTTP/Promise/Parser.pm
Trace begun at lib/HTTP/Promise/Parser.pm line 414
	HTTP::Promise::Parser::parse_headers('HTTP::Promise::Parser=HASH(0x4f428594c348)', 'SCALAR(0x4f42859a4d50)', 'HASH(0x4f42858b8b88)') called at lib/HTTP/Promise/Parser.pm line 307
	HTTP::Promise::Parser::parse_fh('HTTP::Promise::Parser=HASH(0x4f428594c348)', 'Module::Generic::Scalar::IO=GLOB(0x4f42859daa50)') called at lib/HTTP/Promise/Parser.pm line 223
	HTTP::Promise::Parser::parse('HTTP::Promise::Parser=HASH(0x4f428594c348)', 'SCALAR(0x4f4284623fd8)') called at lib/HTTP/Promise/Message.pm line 835
	HTTP::Promise::Message::parse('HTTP::Promise::Message', '  abc^Jfoo: 1^J', 'debug', 0) called at t/04.message.t line 154
No headers data could be retrieved in the first 13 bytes of data read. within package HTTP::Promise::Parser at line 294 in file lib/HTTP/Promise/Parser.pm
Trace begun at lib/HTTP/Promise/Parser.pm line 294
	HTTP::Promise::Parser::parse_fh('HTTP::Promise::Parser=HASH(0x4f428594c348)', 'Module::Generic::Scalar::IO=GLOB(0x4f42859daa50)') called at lib/HTTP/Promise/Parser.pm line 223
	HTTP::Promise::Parser::parse('HTTP::Promise::Parser=HASH(0x4f428594c348)', 'SCALAR(0x4f4284623fd8)') called at lib/HTTP/Promise/Message.pm line 835
	HTTP::Promise::Message::parse('HTTP::Promise::Message', '  abc^Jfoo: 1^J', 'debug', 0) called at t/04.message.t line 154
No headers data could be retrieved in the first 9 bytes of data read. within package HTTP::Promise::Parser at line 294 in file lib/HTTP/Promise/Parser.pm
Trace begun at lib/HTTP/Promise/Parser.pm line 294
	HTTP::Promise::Parser::parse_fh('HTTP::Promise::Parser=HASH(0x4f42859ebc18)', 'Module::Generic::Scalar::IO=GLOB(0x4f42859e35b8)') called at lib/HTTP/Promise/Parser.pm line 223
	HTTP::Promise::Parser::parse('HTTP::Promise::Parser=HASH(0x4f42859ebc18)', 'SCALAR(0x4f4284623fd8)') called at lib/HTTP/Promise/Message.pm line 835
	HTTP::Promise::Message::parse('HTTP::Promise::Message', ' foo : 1^J', 'debug', 0) called at t/04.message.t line 157
Incomplete request, call again when there is more data. within package HTTP::Promise::Parser at line 414 in file lib/HTTP/Promise/Parser.pm
Trace begun at lib/HTTP/Promise/Parser.pm line 414
	HTTP::Promise::Parser::parse_headers('HTTP::Promise::Parser=HASH(0x4f42859e82b8)', 'SCALAR(0x4f42859a4d50)', 'HASH(0x4f42859da3c0)') called at lib/HTTP/Promise/Parser.pm line 307
	HTTP::Promise::Parser::parse_fh('HTTP::Promise::Parser=HASH(0x4f42859e82b8)', 'Module::Generic::Scalar::IO=GLOB(0x4f4285962228)') called at lib/HTTP/Promise/Parser.pm line 223
	HTTP::Promise::Parser::parse('HTTP::Promise::Parser=HASH(0x4f42859e82b8)', 'SCALAR(0x4f4284623fd8)') called at lib/HTTP/Promise/Message.pm line 835
	HTTP::Promise::Message::parse('HTTP::Promise::Message', '^Jfoo: bar^J', 'debug', 0) called at t/04.message.t line 160
No headers data could be retrieved in the first 10 bytes of data read. within package HTTP::Promise::Parser at line 294 in file lib/HTTP/Promise/Parser.pm
Trace begun at lib/HTTP/Promise/Parser.pm line 294
	HTTP::Promise::Parser::parse_fh('HTTP::Promise::Parser=HASH(0x4f42859e82b8)', 'Module::Generic::Scalar::IO=GLOB(0x4f4285962228)') called at lib/HTTP/Promise/Parser.pm line 223
	HTTP::Promise::Parser::parse('HTTP::Promise::Parser=HASH(0x4f42859e82b8)', 'SCALAR(0x4f4284623fd8)') called at lib/HTTP/Promise/Message.pm line 835
	HTTP::Promise::Message::parse('HTTP::Promise::Message', '^Jfoo: bar^J', 'debug', 0) called at t/04.message.t line 160
Only one part allowed for message/http; boundary=aaa content within package HTTP::Promise::Message at line 889 in file lib/HTTP/Promise/Message.pm
Trace begun at lib/HTTP/Promise/Message.pm line 889
	HTTP::Promise::Message::parts('HTTP::Promise::Message=HASH(0x4f4285a01cc0)', 'HTTP::Promise::Message=HASH(0x4f42863bbab0)', 'HTTP::Promise::Message=HASH(0x4f4285d73b40)') called at t/04.message.t line 331
Warning: no part name set for this part No. 1
Warning: no part name set for this part No. 2
Warning: no part name set for this part No. 1
Cannot encode multipart/* messages within package HTTP::Promise::Message at line 708 in file lib/HTTP/Promise/Message.pm
Trace begun at lib/HTTP/Promise/Message.pm line 708
	HTTP::Promise::Message::encode(undef) called at t/04.message.t line 428
Cannot encode message/* messages within package HTTP::Promise::Message at line 709 in file lib/HTTP/Promise/Message.pm
Trace begun at lib/HTTP/Promise/Message.pm line 709
	HTTP::Promise::Message::encode(undef) called at t/04.message.t line 431
UTF-8 "\xFF" does not map to Unicode at lib/HTTP/Promise/Entity.pm line 1222. within package HTTP::Promise::Entity at line 1239 in file lib/HTTP/Promise/Entity.pm
Trace begun at lib/HTTP/Promise/Entity.pm line 1239
	HTTP::Promise::Entity::io_encoding('HTTP::Promise::Entity=HASH(0x4f4286f175a0)', 'charset_strict', 1) called at t/04.message.t line 545
UTF-8 "\xFF" does not map to Unicode at lib/HTTP/Promise/Entity.pm line 1222. within package HTTP::Promise::Entity at line 1239 in file lib/HTTP/Promise/Entity.pm
Trace begun at lib/HTTP/Promise/Entity.pm line 1239
	HTTP::Promise::Entity::io_encoding('HTTP::Promise::Entity=HASH(0x4f4286f175a0)', 'body', 'HTTP::Promise::Body::Scalar=SCALAR(0x4f42871ec240)', 'charset_strict', 1) called at lib/HTTP/Promise/Message.pm line 544
	HTTP::Promise::Message::decoded_content('HTTP::Promise::Message=HASH(0x4f4287117258)', 'charset_strict', 1) called at t/04.message.t line 547
Decoding provided "foobar" is unsupported. within package HTTP::Promise::Stream at line 666 in file lib/HTTP/Promise/Stream.pm
Trace begun at lib/HTTP/Promise/Stream.pm line 666
	HTTP::Promise::Stream::init('HTTP::Promise::Stream=HASH(0x4f42872054e0)', 'HTTP::Promise::Body::Scalar=SCALAR(0x4f42871ec240)', 'decoding', 'foobar', 'fatal', 0, 'debug', undef) called at /usr/perl5.28.3/lib/site_perl/5.28.3/Module/Generic.pm line 359
	Module::Generic::new('HTTP::Promise::Stream', 'HTTP::Promise::Body::Scalar=SCALAR(0x4f42871ec240)', 'decoding', 'foobar', 'fatal', 0, 'debug', undef) called at lib/HTTP/Promise/Entity.pm line 705
	HTTP::Promise::Entity::decode_body('HTTP::Promise::Entity=HASH(0x4f4286f175a0)', 'Module::Generic::Array=ARRAY(0x4f4287277270)', 'HASH(0x4f428712f690)') called at lib/HTTP/Promise/Message.pm line 517
	HTTP::Promise::Message::decode_content('HTTP::Promise::Message=HASH(0x4f4287117258)', 'HASH(0x4f428712f690)') called at lib/HTTP/Promise/Message.pm line 530
	HTTP::Promise::Message::decoded_content('HTTP::Promise::Message=HASH(0x4f4287117258)') called at t/04.message.t line 551
# $@ is 'Decoding provided "foobar" is unsupported. within package HTTP::Promise::Stream at line 666 in file lib/HTTP/Promise/Stream.pm
# Trace begun at lib/HTTP/Promise/Stream.pm line 666
# 	HTTP::Promise::Stream::init('HTTP::Promise::Stream=HASH(0x4f42871fe7c8)', 'HTTP::Promise::Body::Scalar=SCALAR(0x4f42871ec240)', 'decoding', 'foobar', 'fatal', 1, 'debug', undef) called at /usr/perl5.28.3/lib/site_perl/5.28.3/Module/Generic.pm line 359
# 	Module::Generic::new('HTTP::Promise::Stream', 'HTTP::Promise::Body::Scalar=SCALAR(0x4f42871ec240)', 'decoding', 'foobar', 'fatal', 1, 'debug', undef) called at lib/HTTP/Promise/Entity.pm line 705
# 	HTTP::Promise::Entity::decode_body('HTTP::Promise::Entity=HASH(0x4f4286f175a0)', 'Module::Generic::Array=ARRAY(0x4f42859d3f78)', 'HASH(0x4f428712f240)') called at lib/HTTP/Promise/Message.pm line 517
# 	HTTP::Promise::Message::decode_content('HTTP::Promise::Message=HASH(0x4f4287117258)', 'HASH(0x4f428712f240)') called at lib/HTTP/Promise/Message.pm line 530
# 	HTTP::Promise::Message::decoded_content('HTTP::Promise::Message=HASH(0x4f4287117258)', 'raise_error', 1) called at t/04.message.t line 558
# 	eval {...} at t/04.message.t line 557
# '
HTTP::Promise::Message content must be bytes within package HTTP::Promise::Message at line 1071 in file lib/HTTP/Promise/Message.pm
Trace begun at lib/HTTP/Promise/Message.pm line 1071
	HTTP::Promise::Message::_utf8_downgrade('HTTP::Promise::Message=HASH(0x4f4285959048)', '☺') called at lib/HTTP/Promise/Message.pm line 114
	HTTP::Promise::Message::init('HTTP::Promise::Message=HASH(0x4f4285959048)', 'ARRAY(0x4f4286f21528)', '☺', 'HASH(0x4f42859d3f78)') called at /usr/perl5.28.3/lib/site_perl/5.28.3/Module/Generic.pm line 359
	Module::Generic::new('HTTP::Promise::Message', 'ARRAY(0x4f4286f21528)', '☺', 'HASH(0x4f42859d3f78)') called at t/04.message.t line 565
HTTP::Promise::Message content must be bytes within package HTTP::Promise::Message at line 1071 in file lib/HTTP/Promise/Message.pm
Trace begun at lib/HTTP/Promise/Message.pm line 1071
	HTTP::Promise::Message::_utf8_downgrade('HTTP::Promise::Message=HASH(0x4f42871ec738)', '☺') called at lib/HTTP/Promise/Message.pm line 166
	HTTP::Promise::Message::add_content('HTTP::Promise::Message=HASH(0x4f42871ec738)', '☺') called at t/04.message.t line 569
HTTP::Promise::Message content must be bytes within package HTTP::Promise::Message at line 1071 in file lib/HTTP/Promise/Message.pm
Trace begun at lib/HTTP/Promise/Message.pm line 1071
	HTTP::Promise::Message::_utf8_downgrade('HTTP::Promise::Message=HASH(0x4f42871ec738)', '☺') called at lib/HTTP/Promise/Message.pm line 402
	HTTP::Promise::Message::content('HTTP::Promise::Message=HASH(0x4f42871ec738)', '☺') called at t/04.message.t line 572
Unable to decode 14 bytes of data into the stream with deflate and input 'SCALAR(0x4f428728b4c8)' and output '/var/tmp/cpansmoker-1023/2025031003/30E57550-FD62-11EF-9CAD-BB68A1E22EF1': Header Error: CRC mismatch. within package HTTP::Promise::Stream at line 902 in file lib/HTTP/Promise/Stream.pm
Trace begun at lib/HTTP/Promise/Stream.pm line 902
	HTTP::Promise::Stream::read('HTTP::Promise::Stream=HASH(0x4f428724e4e0)', 'Module::Generic::Scalar=SCALAR(0x4f428724e6f0)') called at lib/HTTP/Promise/Entity.pm line 709
	HTTP::Promise::Entity::decode_body('HTTP::Promise::Entity=HASH(0x4f428728b888)', 'Module::Generic::Array=ARRAY(0x4f428728bbb8)', 'HASH(0x4f42871ec1e0)') called at lib/HTTP/Promise/Message.pm line 517
	HTTP::Promise::Message::decode_content('HTTP::Promise::Message=HASH(0x4f42871ecc48)', 'HASH(0x4f42871ec1e0)') called at lib/HTTP/Promise/Message.pm line 530
	HTTP::Promise::Message::decoded_content('HTTP::Promise::Message=HASH(0x4f42871ecc48)') called at t/04.message.t line 627
Encoding provided "not-an-encoding" is unsupported. within package HTTP::Promise::Stream at line 662 in file lib/HTTP/Promise/Stream.pm
Trace begun at lib/HTTP/Promise/Stream.pm line 662
	HTTP::Promise::Stream::init('HTTP::Promise::Stream=HASH(0x4f4287238f48)', 'HTTP::Promise::Body::Scalar=SCALAR(0x4f4287251018)', 'encoding', 'not-an-encoding') called at /usr/perl5.28.3/lib/site_perl/5.28.3/Module/Generic.pm line 359
	Module::Generic::new('HTTP::Promise::Stream', 'HTTP::Promise::Body::Scalar=SCALAR(0x4f4287251018)', 'encoding', 'not-an-encoding') called at lib/HTTP/Promise/Entity.pm line 1056
	HTTP::Promise::Entity::encode_body('HTTP::Promise::Entity=HASH(0x4f428724aae0)', 'Module::Generic::Array=ARRAY(0x4f4287205fc0)') called at lib/HTTP/Promise/Message.pm line 727
	HTTP::Promise::Message::encode(undef, 'not-an-encoding') called at t/04.message.t line 697
Bad header argument: bad-header within package HTTP::Promise::Message at line 81 in file lib/HTTP/Promise/Message.pm
Trace begun at lib/HTTP/Promise/Message.pm line 81
	HTTP::Promise::Message::init('HTTP::Promise::Message=HASH(0x4f4287269408)', 'bad-header') called at /usr/perl5.28.3/lib/site_perl/5.28.3/Module/Generic.pm line 359
	Module::Generic::new('HTTP::Promise::Message', 'bad-header') called at t/04.message.t line 718
Decoding provided "foo" is unsupported. within package HTTP::Promise::Stream at line 666 in file lib/HTTP/Promise/Stream.pm
Trace begun at lib/HTTP/Promise/Stream.pm line 666
	HTTP::Promise::Stream::init('HTTP::Promise::Stream=HASH(0x4f428726b1f8)', 'HTTP::Promise::Body::Scalar=SCALAR(0x4f42872690a8)', 'decoding', 'foo', 'fatal', 0, 'debug', undef) called at /usr/perl5.28.3/lib/site_perl/5.28.3/Module/Generic.pm line 359
	Module::Generic::new('HTTP::Promise::Stream', 'HTTP::Promise::Body::Scalar=SCALAR(0x4f42872690a8)', 'decoding', 'foo', 'fatal', 0, 'debug', undef) called at lib/HTTP/Promise/Entity.pm line 705
	HTTP::Promise::Entity::decode_body('HTTP::Promise::Entity=HASH(0x4f4287226498)', 'Module::Generic::Array=ARRAY(0x4f428726b450)') called at lib/HTTP/Promise/Message.pm line 499
	HTTP::Promise::Message::decode('HTTP::Promise::Message=HASH(0x4f4287255630)') called at t/04.message.t line 723
I was expecting a string or a scalar reference, but instead got ARRAY within package HTTP::Promise::Message at line 399 in file lib/HTTP/Promise/Message.pm
Trace begun at lib/HTTP/Promise/Message.pm line 399
	HTTP::Promise::Message::content('HTTP::Promise::Message=HASH(0x4f4287269810)', 'ARRAY(0x4f4287251a80)') called at t/04.message.t line 731
t/04.message.t ............. ok
URI value provided 'HASH(0x670c266b6b58)' does not look like an URI, so I do not know what to do with it: Cannot use a reference as an URI. Received 'HASH(0x670c266b6b58)' at /usr/perl5.28.3/lib/site_perl/5.28.3/Module/Generic.pm line 5357. within package HTTP::Promise::Request at line 379 in file lib/HTTP/Promise/Request.pm
Trace begun at lib/HTTP/Promise/Request.pm line 379
	HTTP::Promise::Request::uri('HTTP::Promise::Request=HASH(0x670c24d3ea08)', 'HASH(0x670c266b6b58)') called at t/05.request.t line 78
URI value provided 'ARRAY(0x670c266d2048)' does not look like an URI, so I do not know what to do with it: Cannot use a reference as an URI. Received 'ARRAY(0x670c266d2048)' at /usr/perl5.28.3/lib/site_perl/5.28.3/Module/Generic.pm line 5357. within package HTTP::Promise::Request at line 379 in file lib/HTTP/Promise/Request.pm
Trace begun at lib/HTTP/Promise/Request.pm line 379
	HTTP::Promise::Request::uri('HTTP::Promise::Request=HASH(0x670c24d3ea08)', 'ARRAY(0x670c266d2048)') called at t/05.request.t line 81
Unable to open file "/home/cpansand/.cpan/build/2025031003/HTTP-Promise-v0.5.3-4/unknown": Unable to open file "/home/cpansand/.cpan/build/2025031003/HTTP-Promise-v0.5.3-4/unknown" with arguments: '<': Bad file descriptor within package Module::Generic::File::IO at line 54 in file /usr/perl5.28.3/lib/site_perl/5.28.3/Module/Generic/File/IO.pm
Trace begun at /usr/perl5.28.3/lib/site_perl/5.28.3/Module/Generic/File/IO.pm line 54
	Module::Generic::File::IO::new('Module::Generic::File::IO', '/home/cpansand/.cpan/build/2025031003/HTTP-Promise-v0.5.3-4/unknown', '<') called at /usr/perl5.28.3/lib/site_perl/5.28.3/Module/Generic/File.pm line 2513
	eval {...} at /usr/perl5.28.3/lib/site_perl/5.28.3/Module/Generic/File.pm line 2512
	Module::Generic::File::open('Module::Generic::File=HASH(0x670c266b6990)', '<') called at lib/HTTP/Promise/Parser.pm line 221
	HTTP::Promise::Parser::parse('HTTP::Promise::Parser=HASH(0x670c266b3828)', 'unknown', 'HASH(0x670c266c3858)') called at lib/HTTP/Promise/Request.pm line 333
	HTTP::Promise::Request::parse('HTTP::Promise::Request', 'unknown') called at t/05.request.t line 117 within package Module::Generic::File at line 2519 in file /usr/perl5.28.3/lib/site_perl/5.28.3/Module/Generic/File.pm
Trace begun at /usr/perl5.28.3/lib/site_perl/5.28.3/Module/Generic/File.pm line 2519
	Module::Generic::File::open('Module::Generic::File=HASH(0x670c266b6990)', '<') called at lib/HTTP/Promise/Parser.pm line 221
	HTTP::Promise::Parser::parse('HTTP::Promise::Parser=HASH(0x670c266b3828)', 'unknown', 'HASH(0x670c266c3858)') called at lib/HTTP/Promise/Request.pm line 333
	HTTP::Promise::Request::parse('HTTP::Promise::Request', 'unknown') called at t/05.request.t line 117
Invalid parameters received. I was expecting either an hash reference or at least a method and a valid uri, but instead got: 'get', '/', 'HTTP::Promise::Headers=HASH(0x670c266f7ac8)', 'HASH(0x670c266f34f8)' within package HTTP::Promise::Request at line 91 in file lib/HTTP/Promise/Request.pm
Trace begun at lib/HTTP/Promise/Request.pm line 91
	HTTP::Promise::Request::init('HTTP::Promise::Request=HASH(0x670c266f3570)', 'get', 'URI::_generic=SCALAR(0x670c266b4258)', 'HTTP::Promise::Headers=HASH(0x670c266f7ac8)', 'HASH(0x670c266f34f8)') called at /usr/perl5.28.3/lib/site_perl/5.28.3/Module/Generic.pm line 359
	Module::Generic::new('HTTP::Promise::Request', 'get', 'URI::_generic=SCALAR(0x670c266b4258)', 'HTTP::Promise::Headers=HASH(0x670c266f7ac8)', 'HASH(0x670c266f34f8)') called at lib/HTTP/Promise/Parser.pm line 344
	HTTP::Promise::Parser::parse_fh('HTTP::Promise::Parser=HASH(0x670c266b9450)', 'Module::Generic::Scalar::IO=GLOB(0x670c266c3570)', 'HASH(0x670c266df8b8)') called at lib/HTTP/Promise/Parser.pm line 223
	HTTP::Promise::Parser::parse('HTTP::Promise::Parser=HASH(0x670c266b9450)', 'SCALAR(0x670c266d7fd8)', 'HASH(0x670c266df8b8)') called at lib/HTTP/Promise/Request.pm line 333
	HTTP::Promise::Request::parse('HTTP::Promise::Request', 'SCALAR(0x670c266d7fd8)', 'debug', 0) called at t/05.request.t line 119
t/05.request.t ............. ok
Only supported charset is 'utf-8'. within package HTTP::Promise::Headers::ContentDisposition at line 132 in file lib/HTTP/Promise/Headers/ContentDisposition.pm
Trace begun at lib/HTTP/Promise/Headers/ContentDisposition.pm line 132
	HTTP::Promise::Headers::ContentDisposition::filename_charset('HTTP::Promise::Headers::ContentDisposition=HASH(0x53804b7fb3f0)', 'US-ASCII') called at lib/HTTP/Promise/Headers/ContentDisposition.pm line 108
	HTTP::Promise::Headers::ContentDisposition::filename('HTTP::Promise::Headers::ContentDisposition=HASH(0x53804b7fb3f0)') called at lib/HTTP/Promise/Response.pm line 179
	HTTP::Promise::Response::filename('HTTP::Promise::Response=HASH(0x53804b716fa8)') called at t/06.response.t line 230
Error encoding content disposition file name from 'NOT-A-CHARSET' to 'locale_fs': Unknown encoding 'NOT-A-CHARSET' at lib/HTTP/Promise/Headers.pm line 515.
 at lib/HTTP/Promise/Headers/Generic.pm line 56.
Only supported charset is 'utf-8'. within package HTTP::Promise::Headers::ContentDisposition at line 132 in file lib/HTTP/Promise/Headers/ContentDisposition.pm
Trace begun at lib/HTTP/Promise/Headers/ContentDisposition.pm line 132
	HTTP::Promise::Headers::ContentDisposition::filename_charset('HTTP::Promise::Headers::ContentDisposition=HASH(0x53804b88f048)', 'NOT-A-CHARSET') called at lib/HTTP/Promise/Headers/ContentDisposition.pm line 108
	HTTP::Promise::Headers::ContentDisposition::filename('HTTP::Promise::Headers::ContentDisposition=HASH(0x53804b88f048)') called at lib/HTTP/Promise/Response.pm line 179
	HTTP::Promise::Response::filename('HTTP::Promise::Response=HASH(0x53804b716fa8)') called at t/06.response.t line 232
Only supported charset is 'utf-8'. within package HTTP::Promise::Headers::ContentDisposition at line 132 in file lib/HTTP/Promise/Headers/ContentDisposition.pm
Trace begun at lib/HTTP/Promise/Headers/ContentDisposition.pm line 132
	HTTP::Promise::Headers::ContentDisposition::filename_charset('HTTP::Promise::Headers::ContentDisposition=HASH(0x53804b7d8c90)', 'US-ASCII') called at lib/HTTP/Promise/Headers/ContentDisposition.pm line 108
	HTTP::Promise::Headers::ContentDisposition::filename('HTTP::Promise::Headers::ContentDisposition=HASH(0x53804b7d8c90)') called at lib/HTTP/Promise/Response.pm line 179
	HTTP::Promise::Response::filename('HTTP::Promise::Response=HASH(0x53804b716fa8)') called at t/06.response.t line 234
Only supported charset is 'utf-8'. within package HTTP::Promise::Headers::ContentDisposition at line 132 in file lib/HTTP/Promise/Headers/ContentDisposition.pm
Trace begun at lib/HTTP/Promise/Headers/ContentDisposition.pm line 132
	HTTP::Promise::Headers::ContentDisposition::filename_charset('HTTP::Promise::Headers::ContentDisposition=HASH(0x53804b88db88)', 'US-ASCII') called at lib/HTTP/Promise/Headers/ContentDisposition.pm line 108
	HTTP::Promise::Headers::ContentDisposition::filename('HTTP::Promise::Headers::ContentDisposition=HASH(0x53804b88db88)') called at lib/HTTP/Promise/Response.pm line 179
	HTTP::Promise::Response::filename('HTTP::Promise::Response=HASH(0x53804b716fa8)') called at t/06.response.t line 236
t/06.response.t ............ ok
Unknown encoding provided "unknown". within package HTTP::Promise::Stream at line 835 in file lib/HTTP/Promise/Stream.pm
Trace begun at lib/HTTP/Promise/Stream.pm line 835
	HTTP::Promise::Stream::encoding2suffix('HTTP::Promise::Stream=HASH(0x3d952c70708)', 'Module::Generic::Array=ARRAY(0x3d952ec1318)') called at t/07.stream-suffix.t line 71
	main::__ANON__ at /usr/perl5.28.3/lib/site_perl/5.28.3/Test2/API.pm line 718
	eval {...} at /usr/perl5.28.3/lib/site_perl/5.28.3/Test2/API.pm line 718
	Test2::API::run_subtest('suffix', 'CODE(0x3d95129b0d8)', 'HASH(0x3d951213618)') called at /usr/perl5.28.3/lib/site_perl/5.28.3/Test2/Tools/Subtest.pm line 34
	Test2::Tools::Subtest::subtest_buffered('suffix', 'CODE(0x3d95129b0d8)') called at t/07.stream-suffix.t line 81
t/07.stream-suffix.t ....... ok
t/07.stream.t .............. ok
t/07.stream_b64.t .......... ok
t/07.stream_quotedprint.t .. ok
t/07.stream_uu.t ........... ok
t/08.status.t .............. ok
t/09.mime.t ................ ok
t/10.entity_body.t ......... ok
t/11.entity_part.t ......... ok
t/12.entity_parser.t ....... ok
t/12.parser.t .............. ok
t/13.header_fields.t ....... ok
t/14.reader.t .............. ok
t/15.body_form.t ........... ok
t/16.form-data.t ........... ok
t/17.serialisation.t ....... ok
t/90.coverage.t ............ skipped: These tests are for author or release candidate testing
t/91.pod.t ................. skipped: These tests are for author or release candidate testing
t/92.manifest.t ............ skipped: Author tests not required for installation
t/93.signature.t ........... skipped: Set the environment variable AUTHOR_TESTING to enable this test.
t/99.kwalitee.t ............ skipped: These tests are for author or release candidate testing
All tests successful.
Files=27, Tests=1019, 45 wallclock secs ( 0.25 usr  0.07 sys + 38.65 cusr  5.62 csys = 44.59 CPU)
Result: PASS

------------------------------
PREREQUISITES
------------------------------

Prerequisite modules loaded:

requires:

    Module                     Need       Have      
    -------------------------- ---------- ----------
    constant                   0          1.33      
    Cookie                     v0.3.5     v0.3.5    
    CryptX                     0.078      0.080     
    Cwd                        0          3.75      
    Data::UUID                 1.226      1.227     
    DateTime                   1.59       1.65      
    DateTime::Format::Strptime 1.79       1.79      
    DateTime::TimeZone         2.60       2.64      
    Encode                     3.19       3.21      
    Errno                      0          1.29      
    Fcntl                      0          1.13      
    File::MMagic               1.30       1.30      
    HTTP::Parser2::XS          0.01       0.01      
    HTTP::XSHeaders            0.400005   0.400005  
    IO::File                   0          1.55      
    JSON                       4.10       4.10      
    JSON::XS                   4.03       4.03      
    Module::Generic            v0.37.5    v0.37.5   
    parent                     0          0.242     
    perl                       5.026001   5.028003  
    Promise::Me                v0.5.0     v0.5.0    
    Regexp::Common             2017060201 2024080801
    Scalar::Util               1.63       1.68      
    Socket                     2.037      2.038     
    strict                     0          1.11      
    Symbol                     0          1.08      
    Time::HiRes                1.9764     1.9764    
    URI                        5.21       5.28      
    URI::Encode::XS            0.11       0.11      
    URI::Escape::XS            0.14       0.14      
    URL::Encode::XS            0.03       0.03      
    Want                       0.29       0.29      
    warnings                   0          1.42      

build_requires:

    Module                     Need       Have      
    -------------------------- ---------- ----------
    ExtUtils::MakeMaker        0          7.70      
    lib                        0          0.64      
    Test2::IPC                 1.302190   1.302209  
    Test2::V0                  0.000145   1.302209  
    Test::More                 1.302162   1.302209  
    Test::Pod                  1.52       1.52      
    utf8                       0          1.21      

configure_requires:

    Module                     Need       Have      
    -------------------------- ---------- ----------
    ExtUtils::MakeMaker        0          7.70      


------------------------------
ENVIRONMENT AND OTHER CONTEXT
------------------------------

Environment variables:

    LANG = C.UTF-8
    PATH = /usr/local/bin:/usr/bin:/bin:/usr/local/sbin:/usr/sbin:/sbin:/home/cpansand/bin/sh:/home/cpansand/bin:/usr/games:/home/cpansand/devel:/home/eserte/src/srezic-misc/scripts
    PERL5LIB = 
    PERL5OPT = 
    PERL5_CPANPLUS_IS_RUNNING = 81203
    PERL5_CPAN_IS_RUNNING = 81203
    PERL5_CPAN_IS_RUNNING_IN_RECURSION = 70350,81203
    PERL_BATCH = yes
    PERL_CANARY_STABILITY_NOPROMPT = 1
    PERL_CPAN_REPORTER_CONFIG = /var/tmp/cpansmoker-1023/2025031003/cpanreporter_000_config.ini
    PERL_EXTUTILS_AUTOINSTALL = --defaultdeps
    PERL_USE_UNSAFE_INC = 1
    SHELL = /bin/sh
    TMPDIR = /var/tmp/cpansmoker-1023/2025031003

Perl special variables (and OS-specific diagnostics, for MSWin32):

    $^X = /usr/perl5.28.3/bin/perl
    $UID/$EUID = 1023 / 1023
    $GID = 1023 1023
    $EGID = 1023 1023

Perl module toolchain versions installed:

    Module              Have    
    ------------------- --------
    CPAN                2.20    
    CPAN::Meta          2.150010
    Cwd                 3.75    
    ExtUtils::CBuilder  0.280236
    ExtUtils::Command   7.70    
    ExtUtils::Install   2.22    
    ExtUtils::MakeMaker 7.70    
    ExtUtils::Manifest  1.75    
    ExtUtils::ParseXS   3.51    
    File::Spec          3.75    
    JSON                4.10    
    JSON::PP            4.16    
    Module::Build       0.4234  
    Module::Signature   n/a     
    Parse::CPAN::Meta   2.150010
    Test2               1.302209
    Test::Harness       3.50    
    Test::More          1.302209
    YAML                1.31    
    YAML::Syck          1.34    
    version             0.9923  


--

Summary of my perl5 (revision 5 version 28 subversion 3) configuration:
   
  Platform:
    osname=freebsd
    osvers=14.1-stable
    archname=arm64-freebsd
    uname='freebsd cloud9.bbbike.org 14.1-stable freebsd 14.1-stable stable14-n268041-bb7b7b0eb7cf generic arm64 '
    config_args='-ds -e -Dprefix=/usr/perl5.28.3 -Dcf_email=srezic@cpan.org -Doptimize=-O2 -pipe'
    hint=recommended
    useposix=true
    d_sigaction=define
    useithreads=undef
    usemultiplicity=undef
    use64bitint=define
    use64bitall=define
    uselongdouble=undef
    usemymalloc=n
    default_inc_excludes_dot=define
    bincompat5005=undef
  Compiler:
    cc='cc'
    ccflags ='-DHAS_FPSETMASK -DHAS_FLOATINGPOINT_H -fno-strict-aliasing -pipe -fstack-protector-strong -I/usr/local/include'
    optimize='-O2 -pipe'
    cppflags='-DHAS_FPSETMASK -DHAS_FLOATINGPOINT_H -fno-strict-aliasing -pipe -fstack-protector-strong -I/usr/local/include'
    ccversion=''
    gccversion='FreeBSD Clang 18.1.6 (https://github.com/llvm/llvm-project.git llvmorg-18.1.6-0-g1118c2e05e67)'
    gccosandvers=''
    intsize=4
    longsize=8
    ptrsize=8
    doublesize=8
    byteorder=12345678
    doublekind=3
    d_longlong=define
    longlongsize=8
    d_longdbl=define
    longdblsize=16
    longdblkind=1
    ivtype='long'
    ivsize=8
    nvtype='double'
    nvsize=8
    Off_t='off_t'
    lseeksize=8
    alignbytes=8
    prototype=define
  Linker and Libraries:
    ld='cc'
    ldflags ='-Wl,-E  -fstack-protector-strong -L/usr/local/lib'
    libpth=/usr/lib /usr/local/lib /usr/lib/clang/18/lib /usr/lib
    libs=-lpthread -lgdbm -ldl -lm -lcrypt -lutil -lc
    perllibs=-lpthread -ldl -lm -lcrypt -lutil -lc
    libc=
    so=so
    useshrplib=false
    libperl=libperl.a
    gnulibc_version=''
  Dynamic Linking:
    dlsrc=dl_dlopen.xs
    dlext=so
    d_dlsymun=undef
    ccdlflags=' '
    cccdlflags='-DPIC -fPIC'
    lddlflags='-shared  -L/usr/local/lib -fstack-protector-strong'


Characteristics of this binary (from libperl): 
  Compile-time options:
    HAS_TIMES
    PERLIO_LAYERS
    PERL_COPY_ON_WRITE
    PERL_DONT_CREATE_GVSV
    PERL_MALLOC_WRAP
    PERL_OP_PARENT
    PERL_PRESERVE_IVUV
    USE_64_BIT_ALL
    USE_64_BIT_INT
    USE_LARGE_FILES
    USE_LOCALE
    USE_LOCALE_COLLATE
    USE_LOCALE_CTYPE
    USE_LOCALE_NUMERIC
    USE_LOCALE_TIME
    USE_PERLIO
    USE_PERL_ATOF
  Locally applied patches:
    Devel::PatchPerl 2.08
  Built under freebsd
  Compiled at Jun 30 2024 07:39:37
  %ENV:
    PERL5LIB=""
    PERL5OPT=""
    PERL5_CPANPLUS_IS_RUNNING="81203"
    PERL5_CPAN_IS_RUNNING="81203"
    PERL5_CPAN_IS_RUNNING_IN_RECURSION="70350,81203"
    PERL_BATCH="yes"
    PERL_CANARY_STABILITY_NOPROMPT="1"
    PERL_CPAN_REPORTER_CONFIG="/var/tmp/cpansmoker-1023/2025031003/cpanreporter_000_config.ini"
    PERL_EXTUTILS_AUTOINSTALL="--defaultdeps"
    PERL_USE_UNSAFE_INC="1"
  @INC:
    /usr/perl5.28.3/lib/site_perl/5.28.3/arm64-freebsd
    /usr/perl5.28.3/lib/site_perl/5.28.3
    /usr/perl5.28.3/lib/5.28.3/arm64-freebsd
    /usr/perl5.28.3/lib/5.28.3
    .