Sniffer-HTTP v0.28 Perl 5 v5.34.3 x86_64-linux

Status
Pass
From
Slaven Rezić
Dist
Sniffer-HTTP v0.28
Platform
Perl 5 v5.34.3 x86_64-linux
Date
2024-10-16 04:13:52
ID
0d4beca0-8b75-11ef-af6f-a3426e8775ea
This distribution has been tested as part of the CPAN Testers
project, supporting the Perl programming language.  See
http://wiki.cpantesters.org/ for more information or email
questions to cpan-testers-discuss@perl.org


--
Dear Max Maischein,

This is a computer-generated report for Sniffer-HTTP-0.28
on perl 5.34.3, created by CPAN-Reporter-1.2019.

Thank you for uploading your work to CPAN.  Congratulations!
All tests were successful.

Sections of this report:

    * Tester comments
    * Program output
    * Prerequisites
    * Environment and other context

------------------------------
TESTER COMMENTS
------------------------------

Additional comments from tester:

none provided

------------------------------
PROGRAM OUTPUT
------------------------------

Output from '/usr/bin/make test':

PERL_DL_NONLAZY=1 "/opt/perl-5.34.3/bin/perl" "-MExtUtils::Command::MM" "-MTest::Harness" "-e" "undef *Test::Harness::Switches; test_harness(0, 'blib/lib', 'blib/arch')" t/01-find_device.t t/01-use.t t/02-chunked.t t/03-libpcap_dump.t t/04-other_port.t t/05-capture_to_file.t
# Pcap lib_version is libpcap version 1.10.4 (with TPACKET_V3)
# You're not running the tests as root - they might fail
Use of apostrophe as package separator was deprecated in Perl 5.37.9,
and will be removed in Perl 5.42.0.  You should change code that uses
Test::More::isn't() to use Test::More::isnt() as a replacement at t/01-find_device.t line 33
Use of apostrophe as package separator was deprecated in Perl 5.37.9,
and will be removed in Perl 5.42.0.  You should change code that uses
Test::More::isn't() to use Test::More::isnt() as a replacement at t/01-find_device.t line 39
Use of apostrophe as package separator was deprecated in Perl 5.37.9,
and will be removed in Perl 5.42.0.  You should change code that uses
Test::More::isn't() to use Test::More::isnt() as a replacement at t/01-find_device.t line 43
Use of apostrophe as package separator was deprecated in Perl 5.37.9,
and will be removed in Perl 5.42.0.  You should change code that uses
Test::More::isn't() to use Test::More::isnt() as a replacement at t/01-find_device.t line 55
t/01-find_device.t ...... ok
t/01-use.t .............. ok
# You're not running the tests as root - they might fail
# Creating connection 2537:80, sequence start at 779081851
# Got header
# Request header and content are ready (0 bytes)
# Got chunksize 0, reporting response
# Removing 2537:80
t/02-chunked.t .......... ok
# You're not running the tests as root - they might fail
# Creating connection 2929:80, sequence start at 4158002222
# Got header
# Request header and content are ready (0 bytes)
# Got chunksize 0, reporting response
# Got header
# Request header and content are ready (0 bytes)
# Got chunksize 0, reporting response
t/03-libpcap_dump.t ..... ok
# You're not running the tests as root - they might fail
# Creating connection 4345:8888, sequence start at 2872133876
# Got header
# Request header and content are ready (0 bytes)
# Got chunksize 0, reporting response
# Got header
# Request header and content are ready (0 bytes)
# Got chunksize 0, reporting response
t/04-other_port.t ....... ok
# Using libpcap version 1.10.4 (with TPACKET_V3)
# We are not root. find_device() might be unreliable and tests might fail.
# *** Doing live capture of an LWP request to http://www.cpan.org/
# *** If that is blocked or you live behind a proxy, this test will fail.
# *** The dump-to-file feature is untested then.
# Using device 'enp1s0'
# Launching request to 'http://www.cpan.org/'
# Couldn't sniff: Unable to create packet capture on device '<user specified device>': enp1s0: You don't have permission to perform this capture on that device (socket: Operation not permitted) at /home/cpansand/.cpan/build/2024101521/Sniffer-HTTP-0.28-2/blib/lib/Sniffer/HTTP.pm line 423.
# Are you sure you have the proper permissions?
# Maybe you need to be root to get the proper permissions. Your user id is 1023
# Child done.
t/05-capture_to_file.t .. ok
All tests successful.

Test Summary Report
-------------------
t/01-find_device.t    (Wstat: 0 Tests: 11 Failed: 0)
  TODO passed:   2-11
Files=6, Tests=34,  1 wallclock secs ( 0.02 usr  0.01 sys +  0.38 cusr  0.14 csys =  0.55 CPU)
Result: PASS

------------------------------
PREREQUISITES
------------------------------

Prerequisite modules loaded:

requires:

    Module                   Need  Have    
    ------------------------ ----- --------
    Class::Accessor          0     0.51    
    Class::Data::Inheritable 0     0.09    
    Exporter                 5.5   5.78    
    HTTP::Request            6.14  6.45    
    HTTP::Response           6.14  6.45    
    LWP::Simple              0     6.77    
    Net::Pcap                0.09  0.21    
    NetPacket::TCP           0     1.7.2   
    parent                   0     0.238   
    perl                     5.006 5.034003

build_requires:

    Module                   Need  Have    
    ------------------------ ----- --------
    Data::Dumper             0     2.183   
    ExtUtils::MakeMaker      0     7.70    
    Image::Info              0     1.44    
    Test::Deep               0     1.204   
    Test::HTTP::LocalServer  0.61  0.76    
    Test::More               0     1.302204
    URI                      0     5.28    
    URI::file                0     5.28    

configure_requires:

    Module                   Need  Have    
    ------------------------ ----- --------
    ExtUtils::MakeMaker      0     7.70    


------------------------------
ENVIRONMENT AND OTHER CONTEXT
------------------------------

Environment variables:

    LANG = en_AU.UTF-8
    PATH = /usr/local/bin:/usr/bin:/bin:/usr/local/sbin:/usr/sbin:/sbin:/home/cpansand/bin/linux-gnu:/home/cpansand/bin/sh:/home/cpansand/bin:/usr/games:/home/cpansand/devel:/home/eserte/src/srezic-misc/scripts
    PERL5LIB = /home/cpansand/.cpan/build/2024101521/Test-HTTP-LocalServer-0.76-2/blib/arch:/home/cpansand/.cpan/build/2024101521/Test-HTTP-LocalServer-0.76-2/blib/lib:/home/cpansand/.cpan/build/2024101521/HTTP-Request-AsCGI-1.2-2/blib/arch:/home/cpansand/.cpan/build/2024101521/HTTP-Request-AsCGI-1.2-2/blib/lib:/home/cpansand/.cpan/build/2024101521/NetPacket-1.7.2-2/blib/arch:/home/cpansand/.cpan/build/2024101521/NetPacket-1.7.2-2/blib/lib
    PERL5OPT = 
    PERL5_CPANPLUS_IS_RUNNING = 1832846
    PERL5_CPAN_IS_RUNNING = 1832846
    PERL5_CPAN_IS_RUNNING_IN_RECURSION = 1831719,1832846
    PERLDOC = -MPod::Perldoc::ToTextOverstrike
    PERL_BATCH = yes
    PERL_CANARY_STABILITY_NOPROMPT = 1
    PERL_CPAN_REPORTER_CONFIG = /var/tmp/cpansmoker-1023/2024101521/cpanreporter_001_config.ini
    PERL_EXTUTILS_AUTOINSTALL = --defaultdeps
    PERL_USE_UNSAFE_INC = 1
    SHELL = /usr/bin/zsh
    TERM = screen
    TMPDIR = /var/tmp/cpansmoker-1023/2024101521

Perl special variables (and OS-specific diagnostics, for MSWin32):

    $^X = /opt/perl-5.34.3/bin/perl
    $UID/$EUID = 1023 / 1023
    $GID = 1023 1023
    $EGID = 1023 1023

Perl module toolchain versions installed:

    Module              Have    
    ------------------- --------
    CPAN                2.28    
    CPAN::Meta          2.150010
    Cwd                 3.80    
    ExtUtils::CBuilder  0.280236
    ExtUtils::Command   7.70    
    ExtUtils::Install   2.20    
    ExtUtils::MakeMaker 7.70    
    ExtUtils::Manifest  1.75    
    ExtUtils::ParseXS   3.43    
    File::Spec          3.80    
    JSON                4.10    
    JSON::PP            4.16    
    Module::Build       0.4234  
    Module::Signature   0.88    
    Parse::CPAN::Meta   2.150010
    Test2               1.302204
    Test::Harness       3.50    
    Test::More          1.302204
    YAML                1.31    
    YAML::Syck          1.34    
    version             0.9930  


--

Summary of my perl5 (revision 5 version 34 subversion 3) configuration:
   
  Platform:
    osname=linux
    osvers=6.6.8-100.fc38.x86_64
    archname=x86_64-linux
    uname='linux fedora39-2gb-hil 6.6.8-100.fc38.x86_64 #1 smp preempt_dynamic thu dec 21 04:01:45 utc 2023 x86_64 gnulinux '
    config_args='-ds -e -Dprefix=/opt/perl-5.34.3 -Dcf_email=srezic@cpan.org'
    hint=recommended
    useposix=true
    d_sigaction=define
    useithreads=undef
    usemultiplicity=undef
    use64bitint=define
    use64bitall=define
    uselongdouble=undef
    usemymalloc=n
    default_inc_excludes_dot=define
  Compiler:
    cc='cc'
    ccflags ='-fwrapv -fno-strict-aliasing -pipe -fstack-protector-strong -I/usr/local/include -D_LARGEFILE_SOURCE -D_FILE_OFFSET_BITS=64 -D_FORTIFY_SOURCE=2'
    optimize='-O2'
    cppflags='-fwrapv -fno-strict-aliasing -pipe -fstack-protector-strong -I/usr/local/include'
    ccversion=''
    gccversion='13.2.1 20231205 (Red Hat 13.2.1-6)'
    gccosandvers=''
    intsize=4
    longsize=8
    ptrsize=8
    doublesize=8
    byteorder=12345678
    doublekind=3
    d_longlong=define
    longlongsize=8
    d_longdbl=define
    longdblsize=16
    longdblkind=3
    ivtype='long'
    ivsize=8
    nvtype='double'
    nvsize=8
    Off_t='off_t'
    lseeksize=8
    alignbytes=8
    prototype=define
  Linker and Libraries:
    ld='cc'
    ldflags =' -fstack-protector-strong -L/usr/local/lib'
    libpth=/usr/local/lib /usr/lib /usr/lib64 /usr/local/lib64
    libs=-lpthread -ldb -ldl -lm -lcrypt -lutil -lc
    perllibs=-lpthread -ldl -lm -lcrypt -lutil -lc
    libc=/lib/../lib64/libc.so.6
    so=so
    useshrplib=false
    libperl=libperl.a
    gnulibc_version='2.38'
  Dynamic Linking:
    dlsrc=dl_dlopen.xs
    dlext=so
    d_dlsymun=undef
    ccdlflags='-Wl,-E'
    cccdlflags='-fPIC'
    lddlflags='-shared -O2 -L/usr/local/lib -fstack-protector-strong'


Characteristics of this binary (from libperl): 
  Compile-time options:
    HAS_TIMES
    PERLIO_LAYERS
    PERL_COPY_ON_WRITE
    PERL_DONT_CREATE_GVSV
    PERL_MALLOC_WRAP
    PERL_OP_PARENT
    PERL_PRESERVE_IVUV
    USE_64_BIT_ALL
    USE_64_BIT_INT
    USE_LARGE_FILES
    USE_LOCALE
    USE_LOCALE_COLLATE
    USE_LOCALE_CTYPE
    USE_LOCALE_NUMERIC
    USE_LOCALE_TIME
    USE_PERLIO
    USE_PERL_ATOF
  Built under linux
  Compiled at Dec 26 2023 16:13:28
  %ENV:
    PERL5LIB="/home/cpansand/.cpan/build/2024101521/Test-HTTP-LocalServer-0.76-2/blib/arch:/home/cpansand/.cpan/build/2024101521/Test-HTTP-LocalServer-0.76-2/blib/lib:/home/cpansand/.cpan/build/2024101521/HTTP-Request-AsCGI-1.2-2/blib/arch:/home/cpansand/.cpan/build/2024101521/HTTP-Request-AsCGI-1.2-2/blib/lib:/home/cpansand/.cpan/build/2024101521/NetPacket-1.7.2-2/blib/arch:/home/cpansand/.cpan/build/2024101521/NetPacket-1.7.2-2/blib/lib"
    PERL5OPT=""
    PERL5_CPANPLUS_IS_RUNNING="1832846"
    PERL5_CPAN_IS_RUNNING="1832846"
    PERL5_CPAN_IS_RUNNING_IN_RECURSION="1831719,1832846"
    PERLDOC="-MPod::Perldoc::ToTextOverstrike"
    PERL_BATCH="yes"
    PERL_CANARY_STABILITY_NOPROMPT="1"
    PERL_CPAN_REPORTER_CONFIG="/var/tmp/cpansmoker-1023/2024101521/cpanreporter_001_config.ini"
    PERL_EXTUTILS_AUTOINSTALL="--defaultdeps"
    PERL_USE_UNSAFE_INC="1"
  @INC:
    /home/cpansand/.cpan/build/2024101521/Test-HTTP-LocalServer-0.76-2/blib/arch
    /home/cpansand/.cpan/build/2024101521/Test-HTTP-LocalServer-0.76-2/blib/lib
    /home/cpansand/.cpan/build/2024101521/HTTP-Request-AsCGI-1.2-2/blib/arch
    /home/cpansand/.cpan/build/2024101521/HTTP-Request-AsCGI-1.2-2/blib/lib
    /home/cpansand/.cpan/build/2024101521/NetPacket-1.7.2-2/blib/arch
    /home/cpansand/.cpan/build/2024101521/NetPacket-1.7.2-2/blib/lib
    /opt/perl-5.34.3/lib/site_perl/5.34.3/x86_64-linux
    /opt/perl-5.34.3/lib/site_perl/5.34.3
    /opt/perl-5.34.3/lib/5.34.3/x86_64-linux
    /opt/perl-5.34.3/lib/5.34.3
    .