Report for Nagios-Plugin-OverHTTP-0.16

Back
From: metabase:user:320bfe00-2aae-11df-837a-5e0a49663a4f
Subject: PASS Nagios-Plugin-OverHTTP-0.16 v5.22.2 GNU/Linux
Date: 2017-05-08T23:35:42Z

This distribution has been tested as part of the CPAN Testers
project, supporting the Perl programming language.  See
http://wiki.cpantesters.org/ for more information or email
questions to cpan-testers-discuss@perl.org


--
Dear Douglas Christopher Wilson,

This is a computer-generated report for Nagios-Plugin-OverHTTP-0.16
on perl 5.22.2, created by CPAN-Reporter-1.2018.

Thank you for uploading your work to CPAN.  Congratulations!
All tests were successful.

Sections of this report:

    * Tester comments
    * Program output
    * Prerequisites
    * Environment and other context

------------------------------
TESTER COMMENTS
------------------------------

Additional comments from tester:

this report is from an automated smoke testing program
and was not reviewed by a human for accuracy

------------------------------
PROGRAM OUTPUT
------------------------------

Output from '/usr/bin/make test':

PERL_DL_NONLAZY=1 "/home/sand/src/perl/repoperls/installed-perls/host/k93msid/v5.22.2/0a29/bin/perl" "-MExtUtils::Command::MM" "-MTest::Harness" "-e" "undef *Test::Harness::Switches; test_harness(0, 'inc', 'blib/lib', 'blib/arch')" t/*.t t/middleware/*.t
Passing a list of values to enum is deprecated. Enum values should be wrapped in an arrayref. at /tmp/loop_over_bdir-29645-m7kd2k/Nagios-Plugin-OverHTTP-0.16-0/blib/lib/Nagios/Plugin/OverHTTP/Library.pm line 63.
	require Nagios/Plugin/OverHTTP/Library.pm called at /tmp/loop_over_bdir-29645-m7kd2k/Nagios-Plugin-OverHTTP-0.16-0/blib/lib/Nagios/Plugin/OverHTTP.pm line 26
	Nagios::Plugin::OverHTTP::BEGIN() called at /tmp/loop_over_bdir-29645-m7kd2k/Nagios-Plugin-OverHTTP-0.16-0/blib/lib/Nagios/Plugin/OverHTTP/Library.pm line 0
	eval {...} called at /tmp/loop_over_bdir-29645-m7kd2k/Nagios-Plugin-OverHTTP-0.16-0/blib/lib/Nagios/Plugin/OverHTTP/Library.pm line 0
	require Nagios/Plugin/OverHTTP.pm called at t/00-load.t line 43
	main::BEGIN() called at /tmp/loop_over_bdir-29645-m7kd2k/Nagios-Plugin-OverHTTP-0.16-0/blib/lib/Nagios/Plugin/OverHTTP/Library.pm line 0
	eval {...} called at /tmp/loop_over_bdir-29645-m7kd2k/Nagios-Plugin-OverHTTP-0.16-0/blib/lib/Nagios/Plugin/OverHTTP/Library.pm line 0
	eval 'package main;
BEGIN { ${^WARNING_BITS} = $args[-1] if defined $args[-1] }
#line 43 t/00-load.t
use Nagios::Plugin::OverHTTP @{$args[0]};
1;
' called at /home/sand/src/perl/repoperls/installed-perls/host/k93msid/v5.22.2/0a29/lib/site_perl/5.22.2/Test/More.pm line 1032
	Test::More::_eval("package main;\x{a}BEGIN { \${^WARNING_BITS} = \$args[-1] if defined"..., ARRAY(0x560be3df5f98), "UUUUUUUUUUUUUUUUU\x{15}") called at /home/sand/src/perl/repoperls/installed-perls/host/k93msid/v5.22.2/0a29/lib/site_perl/5.22.2/Test/More.pm line 1007
	Test::More::use_ok("Nagios::Plugin::OverHTTP") called at t/00-load.t line 43
	main::BEGIN() called at /tmp/loop_over_bdir-29645-m7kd2k/Nagios-Plugin-OverHTTP-0.16-0/blib/lib/Nagios/Plugin/OverHTTP/Library.pm line 0
	eval {...} called at /tmp/loop_over_bdir-29645-m7kd2k/Nagios-Plugin-OverHTTP-0.16-0/blib/lib/Nagios/Plugin/OverHTTP/Library.pm line 0
# Perl 5.022002
# Moose 2.2004
# Class::MOP 2.2004
t/00-load.t ...................... ok
Passing a list of values to enum is deprecated. Enum values should be wrapped in an arrayref. at /tmp/loop_over_bdir-29645-m7kd2k/Nagios-Plugin-OverHTTP-0.16-0/blib/lib/Nagios/Plugin/OverHTTP/Library.pm line 63.
	require Nagios/Plugin/OverHTTP/Library.pm called at /tmp/loop_over_bdir-29645-m7kd2k/Nagios-Plugin-OverHTTP-0.16-0/blib/lib/Nagios/Plugin/OverHTTP.pm line 26
	Nagios::Plugin::OverHTTP::BEGIN() called at /tmp/loop_over_bdir-29645-m7kd2k/Nagios-Plugin-OverHTTP-0.16-0/blib/lib/Nagios/Plugin/OverHTTP/Library.pm line 0
	eval {...} called at /tmp/loop_over_bdir-29645-m7kd2k/Nagios-Plugin-OverHTTP-0.16-0/blib/lib/Nagios/Plugin/OverHTTP/Library.pm line 0
	require Nagios/Plugin/OverHTTP.pm called at t/attributes.t line 8
	main::BEGIN() called at /tmp/loop_over_bdir-29645-m7kd2k/Nagios-Plugin-OverHTTP-0.16-0/blib/lib/Nagios/Plugin/OverHTTP/Library.pm line 0
	eval {...} called at /tmp/loop_over_bdir-29645-m7kd2k/Nagios-Plugin-OverHTTP-0.16-0/blib/lib/Nagios/Plugin/OverHTTP/Library.pm line 0
t/attributes.t ................... ok
Passing a list of values to enum is deprecated. Enum values should be wrapped in an arrayref. at /tmp/loop_over_bdir-29645-m7kd2k/Nagios-Plugin-OverHTTP-0.16-0/blib/lib/Nagios/Plugin/OverHTTP/Library.pm line 63.
	require Nagios/Plugin/OverHTTP/Library.pm called at /tmp/loop_over_bdir-29645-m7kd2k/Nagios-Plugin-OverHTTP-0.16-0/blib/lib/Nagios/Plugin/OverHTTP.pm line 26
	Nagios::Plugin::OverHTTP::BEGIN() called at /tmp/loop_over_bdir-29645-m7kd2k/Nagios-Plugin-OverHTTP-0.16-0/blib/lib/Nagios/Plugin/OverHTTP/Library.pm line 0
	eval {...} called at /tmp/loop_over_bdir-29645-m7kd2k/Nagios-Plugin-OverHTTP-0.16-0/blib/lib/Nagios/Plugin/OverHTTP/Library.pm line 0
	require Nagios/Plugin/OverHTTP.pm called at t/commandline.t line 9
	main::BEGIN() called at /tmp/loop_over_bdir-29645-m7kd2k/Nagios-Plugin-OverHTTP-0.16-0/blib/lib/Nagios/Plugin/OverHTTP/Library.pm line 0
	eval {...} called at /tmp/loop_over_bdir-29645-m7kd2k/Nagios-Plugin-OverHTTP-0.16-0/blib/lib/Nagios/Plugin/OverHTTP/Library.pm line 0
t/commandline.t .................. ok
Passing a list of values to enum is deprecated. Enum values should be wrapped in an arrayref. at /tmp/loop_over_bdir-29645-m7kd2k/Nagios-Plugin-OverHTTP-0.16-0/blib/lib/Nagios/Plugin/OverHTTP/Library.pm line 63.
	require Nagios/Plugin/OverHTTP/Library.pm called at /tmp/loop_over_bdir-29645-m7kd2k/Nagios-Plugin-OverHTTP-0.16-0/blib/lib/Nagios/Plugin/OverHTTP.pm line 26
	Nagios::Plugin::OverHTTP::BEGIN() called at /tmp/loop_over_bdir-29645-m7kd2k/Nagios-Plugin-OverHTTP-0.16-0/blib/lib/Nagios/Plugin/OverHTTP/Library.pm line 0
	eval {...} called at /tmp/loop_over_bdir-29645-m7kd2k/Nagios-Plugin-OverHTTP-0.16-0/blib/lib/Nagios/Plugin/OverHTTP/Library.pm line 0
	require Nagios/Plugin/OverHTTP.pm called at t/constructor.t line 8
	main::BEGIN() called at /tmp/loop_over_bdir-29645-m7kd2k/Nagios-Plugin-OverHTTP-0.16-0/blib/lib/Nagios/Plugin/OverHTTP/Library.pm line 0
	eval {...} called at /tmp/loop_over_bdir-29645-m7kd2k/Nagios-Plugin-OverHTTP-0.16-0/blib/lib/Nagios/Plugin/OverHTTP/Library.pm line 0
	eval 'package main;
BEGIN { ${^WARNING_BITS} = $args[-1] if defined $args[-1] }
#line 8 t/constructor.t
use Nagios::Plugin::OverHTTP @{$args[0]};
1;
' called at /home/sand/src/perl/repoperls/installed-perls/host/k93msid/v5.22.2/0a29/lib/site_perl/5.22.2/Test/More.pm line 1032
	Test::More::_eval("package main;\x{a}BEGIN { \${^WARNING_BITS} = \$args[-1] if defined"..., ARRAY(0x55df19b88038), "UUUUUUUUUUUUUUUUU\x{1}") called at /home/sand/src/perl/repoperls/installed-perls/host/k93msid/v5.22.2/0a29/lib/site_perl/5.22.2/Test/More.pm line 1007
	Test::More::use_ok("Nagios::Plugin::OverHTTP") called at t/constructor.t line 8
t/constructor.t .................. ok
Passing a list of values to enum is deprecated. Enum values should be wrapped in an arrayref. at /tmp/loop_over_bdir-29645-m7kd2k/Nagios-Plugin-OverHTTP-0.16-0/blib/lib/Nagios/Plugin/OverHTTP/Library.pm line 63.
	require Nagios/Plugin/OverHTTP/Library.pm called at /tmp/loop_over_bdir-29645-m7kd2k/Nagios-Plugin-OverHTTP-0.16-0/blib/lib/Nagios/Plugin/OverHTTP/Middleware/PerformanceData.pm line 23
	Nagios::Plugin::OverHTTP::Middleware::PerformanceData::BEGIN() called at /tmp/loop_over_bdir-29645-m7kd2k/Nagios-Plugin-OverHTTP-0.16-0/blib/lib/Nagios/Plugin/OverHTTP/Library.pm line 0
	eval {...} called at /tmp/loop_over_bdir-29645-m7kd2k/Nagios-Plugin-OverHTTP-0.16-0/blib/lib/Nagios/Plugin/OverHTTP/Library.pm line 0
	require Nagios/Plugin/OverHTTP/Middleware/PerformanceData.pm called at t/middleware/performance-data.t line 18
	main::BEGIN() called at /tmp/loop_over_bdir-29645-m7kd2k/Nagios-Plugin-OverHTTP-0.16-0/blib/lib/Nagios/Plugin/OverHTTP/Library.pm line 0
	eval {...} called at /tmp/loop_over_bdir-29645-m7kd2k/Nagios-Plugin-OverHTTP-0.16-0/blib/lib/Nagios/Plugin/OverHTTP/Library.pm line 0
t/middleware/performance-data.t .. ok
Passing a list of values to enum is deprecated. Enum values should be wrapped in an arrayref. at /tmp/loop_over_bdir-29645-m7kd2k/Nagios-Plugin-OverHTTP-0.16-0/blib/lib/Nagios/Plugin/OverHTTP/Library.pm line 63.
	require Nagios/Plugin/OverHTTP/Library.pm called at /tmp/loop_over_bdir-29645-m7kd2k/Nagios-Plugin-OverHTTP-0.16-0/blib/lib/Nagios/Plugin/OverHTTP/Middleware/StatusPrefix.pm line 23
	Nagios::Plugin::OverHTTP::Middleware::StatusPrefix::BEGIN() called at /tmp/loop_over_bdir-29645-m7kd2k/Nagios-Plugin-OverHTTP-0.16-0/blib/lib/Nagios/Plugin/OverHTTP/Library.pm line 0
	eval {...} called at /tmp/loop_over_bdir-29645-m7kd2k/Nagios-Plugin-OverHTTP-0.16-0/blib/lib/Nagios/Plugin/OverHTTP/Library.pm line 0
	require Nagios/Plugin/OverHTTP/Middleware/StatusPrefix.pm called at t/middleware/status-prefix.t line 18
	main::BEGIN() called at /tmp/loop_over_bdir-29645-m7kd2k/Nagios-Plugin-OverHTTP-0.16-0/blib/lib/Nagios/Plugin/OverHTTP/Library.pm line 0
	eval {...} called at /tmp/loop_over_bdir-29645-m7kd2k/Nagios-Plugin-OverHTTP-0.16-0/blib/lib/Nagios/Plugin/OverHTTP/Library.pm line 0
t/middleware/status-prefix.t ..... ok
Passing a list of values to enum is deprecated. Enum values should be wrapped in an arrayref. at /tmp/loop_over_bdir-29645-m7kd2k/Nagios-Plugin-OverHTTP-0.16-0/blib/lib/Nagios/Plugin/OverHTTP/Library.pm line 63.
	require Nagios/Plugin/OverHTTP/Library.pm called at /tmp/loop_over_bdir-29645-m7kd2k/Nagios-Plugin-OverHTTP-0.16-0/blib/lib/Nagios/Plugin/OverHTTP.pm line 26
	Nagios::Plugin::OverHTTP::BEGIN() called at /tmp/loop_over_bdir-29645-m7kd2k/Nagios-Plugin-OverHTTP-0.16-0/blib/lib/Nagios/Plugin/OverHTTP/Library.pm line 0
	eval {...} called at /tmp/loop_over_bdir-29645-m7kd2k/Nagios-Plugin-OverHTTP-0.16-0/blib/lib/Nagios/Plugin/OverHTTP/Library.pm line 0
	require Nagios/Plugin/OverHTTP.pm called at t/mock.t line 18
	main::BEGIN() called at /tmp/loop_over_bdir-29645-m7kd2k/Nagios-Plugin-OverHTTP-0.16-0/blib/lib/Nagios/Plugin/OverHTTP/Library.pm line 0
	eval {...} called at /tmp/loop_over_bdir-29645-m7kd2k/Nagios-Plugin-OverHTTP-0.16-0/blib/lib/Nagios/Plugin/OverHTTP/Library.pm line 0
t/mock.t ......................... ok
t/performance-data-module.t ...... ok
Passing a list of values to enum is deprecated. Enum values should be wrapped in an arrayref. at /tmp/loop_over_bdir-29645-m7kd2k/Nagios-Plugin-OverHTTP-0.16-0/blib/lib/Nagios/Plugin/OverHTTP/Library.pm line 63.
	require Nagios/Plugin/OverHTTP/Library.pm called at /tmp/loop_over_bdir-29645-m7kd2k/Nagios-Plugin-OverHTTP-0.16-0/blib/lib/Nagios/Plugin/OverHTTP.pm line 26
	Nagios::Plugin::OverHTTP::BEGIN() called at /tmp/loop_over_bdir-29645-m7kd2k/Nagios-Plugin-OverHTTP-0.16-0/blib/lib/Nagios/Plugin/OverHTTP/Library.pm line 0
	eval {...} called at /tmp/loop_over_bdir-29645-m7kd2k/Nagios-Plugin-OverHTTP-0.16-0/blib/lib/Nagios/Plugin/OverHTTP/Library.pm line 0
	require Nagios/Plugin/OverHTTP.pm called at t/performance-data.t line 16
	main::BEGIN() called at /tmp/loop_over_bdir-29645-m7kd2k/Nagios-Plugin-OverHTTP-0.16-0/blib/lib/Nagios/Plugin/OverHTTP/Library.pm line 0
	eval {...} called at /tmp/loop_over_bdir-29645-m7kd2k/Nagios-Plugin-OverHTTP-0.16-0/blib/lib/Nagios/Plugin/OverHTTP/Library.pm line 0
t/performance-data.t ............. ok
Passing a list of values to enum is deprecated. Enum values should be wrapped in an arrayref. at /tmp/loop_over_bdir-29645-m7kd2k/Nagios-Plugin-OverHTTP-0.16-0/blib/lib/Nagios/Plugin/OverHTTP/Library.pm line 63.
	require Nagios/Plugin/OverHTTP/Library.pm called at /tmp/loop_over_bdir-29645-m7kd2k/Nagios-Plugin-OverHTTP-0.16-0/blib/lib/Nagios/Plugin/OverHTTP.pm line 26
	Nagios::Plugin::OverHTTP::BEGIN() called at /tmp/loop_over_bdir-29645-m7kd2k/Nagios-Plugin-OverHTTP-0.16-0/blib/lib/Nagios/Plugin/OverHTTP/Library.pm line 0
	eval {...} called at /tmp/loop_over_bdir-29645-m7kd2k/Nagios-Plugin-OverHTTP-0.16-0/blib/lib/Nagios/Plugin/OverHTTP/Library.pm line 0
	require Nagios/Plugin/OverHTTP.pm called at t/timeout.t line 18
	main::BEGIN() called at /tmp/loop_over_bdir-29645-m7kd2k/Nagios-Plugin-OverHTTP-0.16-0/blib/lib/Nagios/Plugin/OverHTTP/Library.pm line 0
	eval {...} called at /tmp/loop_over_bdir-29645-m7kd2k/Nagios-Plugin-OverHTTP-0.16-0/blib/lib/Nagios/Plugin/OverHTTP/Library.pm line 0
t/timeout.t ...................... ok
All tests successful.
Files=10, Tests=202, 18 wallclock secs ( 0.05 usr  0.06 sys +  6.35 cusr  0.69 csys =  7.15 CPU)
Result: PASS

------------------------------
PREREQUISITES
------------------------------

Prerequisite modules loaded:

requires:

    Module                    Need     Have      
    ------------------------- -------- ----------
    Carp                      0        1.38      
    Const::Fast               0        0.014     
    Data::Validate::Domain    0.02     0.14      
    Data::Validate::URI       0.05     0.07      
    English                   0        1.09      
    Env::Path                 0.04     0.19      
    Getopt::Long::Descriptive 0        0.100     
    HTML::Strip               1.04     2.10      
    HTTP::Request             5.827    6.11      
    HTTP::Status              5.817    6.11      
    IPC::System::Simple       0.13     1.25      
    LWP::UserAgent            0        6.26      
    Moose                     0.74     2.2004    
    Moose::Role               0.74     2.2004    
    MooseX::Clone             0.05     0.06      
    MooseX::Getopt            0.43     0.71      
    MooseX::StrictConstructor 0.08     0.21      
    MooseX::Types             0.08     0.50      
    MooseX::Types::Moose      0        0.50      
    namespace::clean          0.04     0.27      
    perl                      5.008001 5.022002  
    Regexp::Common            2.119    2017040401
    Scalar::Util              1.19     1.47      
    Try::Tiny                 0.04     0.28      
    URI                       0        1.71      

build_requires:

    Module                    Need     Have      
    ------------------------- -------- ----------
    ExtUtils::MakeMaker       6.59     7.24      
    HTTP::Response            0        6.11      
    HTTP::Status              5.817    6.11      
    Test::Exception           0        0.43      
    Test::MockObject          0        1.20161202
    Test::More                0.94     1.302084  
    Test::Trap                0        0.3.2     

configure_requires:

    Module                    Need     Have      
    ------------------------- -------- ----------
    ExtUtils::MakeMaker       6.59     7.24      


------------------------------
ENVIRONMENT AND OTHER CONTEXT
------------------------------

Environment variables:

    AUTOMATED_TESTING = 1
    LANG = en_US.UTF-8
    PATH = /home/sand/bin:/usr/local/bin:/usr/bin:/bin:/usr/games:/usr/local/perl/bin:/usr/X11/bin:/sbin:/usr/sbin
    PERL5LIB = 
    PERL5OPT = 
    PERL5_CPANPLUS_IS_RUNNING = 29647
    PERL5_CPAN_IS_RUNNING = 29647
    PERL_CANARY_STABILITY_NOPROMPT = 1
    PERL_MM_USE_DEFAULT = 1
    PERL_USE_UNSAFE_INC = 1
    SHELL = /usr/bin/zsh
    TERM = screen

Perl special variables (and OS-specific diagnostics, for MSWin32):

    $^X = /home/sand/src/perl/repoperls/installed-perls/host/k93msid/v5.22.2/0a29/bin/perl
    $UID/$EUID = 1005 / 1005
    $GID = 1005 1005
    $EGID = 1005 1005

Perl module toolchain versions installed:

    Module              Have    
    ------------------- --------
    CPAN                2.18    
    CPAN::Meta          2.150010
    Cwd                 3.62    
    ExtUtils::CBuilder  0.280224
    ExtUtils::Command   7.24    
    ExtUtils::Install   2.04    
    ExtUtils::MakeMaker 7.24    
    ExtUtils::Manifest  1.70    
    ExtUtils::ParseXS   3.28    
    File::Spec          3.62    
    JSON                2.90    
    JSON::PP            2.27300 
    Module::Build       0.4222  
    Module::Signature   0.81    
    Parse::CPAN::Meta   2.150010
    Test::Harness       3.39    
    Test::More          1.302084
    YAML                1.23    
    YAML::Syck          1.30_01 
    version             0.9918  


--

Summary of my perl5 (revision 5 version 22 subversion 2) configuration:
  Derived from: 9cbffb38735712e3a34e6f537892b6ef06fb815f
  Platform:
    osname=linux, osvers=4.9.0-2-amd64, archname=x86_64-linux-ld
    uname='linux k93msid 4.9.0-2-amd64 #1 smp debian 4.9.18-1 (2017-03-30) x86_64 gnulinux '
    config_args='-Dprefix=/home/sand/src/perl/repoperls/installed-perls/host/k93msid/v5.22.2/0a29 -Dmyhostname=k93msid -Dinstallusrbinperl=n -Uversiononly -Dusedevel -des -Ui_db -Dlibswanted=cl pthread socket inet nsl gdbm dbm malloc dl ld sun m crypt sec util c cposix posix ucb BSD gdbm_compat -Uuseithreads -Duselongdouble -DDEBUGGING=both'
    hint=recommended, useposix=true, d_sigaction=define
    useithreads=undef, usemultiplicity=undef
    use64bitint=define, use64bitall=define, uselongdouble=define
    usemymalloc=n, bincompat5005=undef
  Compiler:
    cc='cc', ccflags ='-fwrapv -DDEBUGGING -fno-strict-aliasing -pipe -fstack-protector-strong -I/usr/local/include -D_LARGEFILE_SOURCE -D_FILE_OFFSET_BITS=64',
    optimize='-O2 -g',
    cppflags='-fwrapv -DDEBUGGING -fno-strict-aliasing -pipe -fstack-protector-strong -I/usr/local/include'
    ccversion='', gccversion='6.3.0 20170406', gccosandvers=''
    intsize=4, longsize=8, ptrsize=8, doublesize=8, byteorder=12345678, doublekind=3
    d_longlong=define, longlongsize=8, d_longdbl=define, longdblsize=16, longdblkind=3
    ivtype='long', ivsize=8, nvtype='long double', nvsize=16, Off_t='off_t', lseeksize=8
    alignbytes=16, prototype=define
  Linker and Libraries:
    ld='cc', ldflags =' -fstack-protector-strong -L/usr/local/lib'
    libpth=/usr/local/lib /usr/lib/gcc/x86_64-linux-gnu/6/include-fixed /usr/include/x86_64-linux-gnu /usr/lib /lib/x86_64-linux-gnu /lib/../lib /usr/lib/x86_64-linux-gnu /usr/lib/../lib /lib
    libs=-lpthread -lnsl -ldl -lm -lcrypt -lutil -lc
    perllibs=-lpthread -lnsl -ldl -lm -lcrypt -lutil -lc
    libc=libc-2.24.so, so=so, useshrplib=false, libperl=libperl.a
    gnulibc_version='2.24'
  Dynamic Linking:
    dlsrc=dl_dlopen.xs, dlext=so, d_dlsymun=undef, ccdlflags='-Wl,-E'
    cccdlflags='-fPIC', lddlflags='-shared -O2 -g -L/usr/local/lib -fstack-protector-strong'


Characteristics of this binary (from libperl): 
  Compile-time options: DEBUGGING HAS_TIMES PERLIO_LAYERS
                        PERL_DONT_CREATE_GVSV
                        PERL_HASH_FUNC_ONE_AT_A_TIME_HARD PERL_MALLOC_WRAP
                        PERL_NEW_COPY_ON_WRITE PERL_PRESERVE_IVUV
                        PERL_USE_DEVEL USE_64_BIT_ALL USE_64_BIT_INT
                        USE_LARGE_FILES USE_LOCALE USE_LOCALE_COLLATE
                        USE_LOCALE_CTYPE USE_LOCALE_NUMERIC USE_LOCALE_TIME
                        USE_LONG_DOUBLE USE_PERLIO USE_PERL_ATOF
  Locally applied patches:
	uncommitted-changes
  Built under linux
  Compiled at Apr 17 2017 03:45:29
  %ENV:
    PERL5LIB=""
    PERL5OPT=""
    PERL5_CPANPLUS_IS_RUNNING="29647"
    PERL5_CPAN_IS_RUNNING="29647"
    PERL_CANARY_STABILITY_NOPROMPT="1"
    PERL_MM_USE_DEFAULT="1"
    PERL_USE_UNSAFE_INC="1"
  @INC:
    /home/sand/src/perl/repoperls/installed-perls/host/k93msid/v5.22.2/0a29/lib/site_perl/5.22.2/x86_64-linux-ld
    /home/sand/src/perl/repoperls/installed-perls/host/k93msid/v5.22.2/0a29/lib/site_perl/5.22.2
    /home/sand/src/perl/repoperls/installed-perls/host/k93msid/v5.22.2/0a29/lib/5.22.2/x86_64-linux-ld
    /home/sand/src/perl/repoperls/installed-perls/host/k93msid/v5.22.2/0a29/lib/5.22.2
    .