Report for Apache2-ASP-2.46

Back
From: metabase:user:30977d10-2aae-11df-837a-5e0a49663a4f
Subject: PASS Apache2-ASP-2.46 v5.8.9 GNU/Linux
Date: 2011-08-06T03:42:03Z

This distribution has been tested as part of the CPAN Testers
project, supporting the Perl programming language.  See
http://wiki.cpantesters.org/ for more information or email
questions to cpan-testers-discuss@perl.org


--
Dear John Drago,

This is a computer-generated report for Apache2-ASP-2.46
on perl 5.8.9, created by CPAN-Reporter-1.1902.

Thank you for uploading your work to CPAN.  Congratulations!
All tests were successful.

Sections of this report:

    * Tester comments
    * Program output
    * Prerequisites
    * Environment and other context

------------------------------
TESTER COMMENTS
------------------------------

Additional comments from tester:

this report is from an automated smoke testing program
and was not reviewed by a human for accuracy

------------------------------
PROGRAM OUTPUT
------------------------------

Output from '/usr/bin/make test':

PERL_DL_NONLAZY=1 /home/trushel/perl/perl589m/bin/perl "-MExtUtils::Command::MM" "-e" "test_harness(0, 'inc', 'blib/lib', 'blib/arch')" t/000-setup/*.t t/010-coverage/*.t t/900-old-tests/*.t t/999-cleanup/*.t
t/000-setup/00.00-setup.t ................. ok
t/010-coverage/010-api.t .................. ok
t/010-coverage/020-config.t ............... ok
t/010-coverage/030-configparser.t ......... ok
t/010-coverage/040-httpcontext.t .......... ok
t/010-coverage/050-mediamanager.t ......... ok
t/010-coverage/060-request.t .............. ok
t/010-coverage/070-response.t ............. ok
t/010-coverage/080-server.t ............... ok
t/900-old-tests/00.01-subcontext.t ........ ok
t/900-old-tests/01.00-a-memory-leak.t ..... ok
t/900-old-tests/01.01-load.t .............. ok
t/900-old-tests/01.01-master-recursive.t .. ok
t/900-old-tests/01.02-findconfig.t ........ ok
t/900-old-tests/01.03-configloader.t ...... ok
t/900-old-tests/01.04-test-useragent.t .... ok
t/900-old-tests/01.05-memcycle.t .......... ok
t/900-old-tests/01.06-cookies.t ........... ok
t/900-old-tests/01.07-post.t .............. ok
t/900-old-tests/01.08-upload.t ............ ok
t/900-old-tests/01.09-submit-form.t ....... ok
20 at t/900-old-tests/02.01-benchmark.t line 21.
40 at t/900-old-tests/02.01-benchmark.t line 21.
60 at t/900-old-tests/02.01-benchmark.t line 21.
80 at t/900-old-tests/02.01-benchmark.t line 21.
100 at t/900-old-tests/02.01-benchmark.t line 21.

	14.4366513747005 requests/second at t/900-old-tests/02.01-benchmark.t line 27.
20 at t/900-old-tests/02.01-benchmark.t line 34.
40 at t/900-old-tests/02.01-benchmark.t line 34.
60 at t/900-old-tests/02.01-benchmark.t line 34.
80 at t/900-old-tests/02.01-benchmark.t line 34.
100 at t/900-old-tests/02.01-benchmark.t line 34.

	23.0783684919137 requests/second at t/900-old-tests/02.01-benchmark.t line 40.
t/900-old-tests/02.01-benchmark.t ......... ok
t/900-old-tests/03.08-aspdom-node.t ....... ok
t/900-old-tests/04.00-nested-master.t ..... ok
t/900-old-tests/04.01-syntax-errors.t ..... skipped: Test irrelevant for now
t/900-old-tests/04.02-include-at-end.t .... ok
t/900-old-tests/04.03-unhandled-tag.t ..... ok
t/900-old-tests/05.00-folder-uri.t ........ ok
t/999-cleanup/99.99-cleanup.t ............. ok
All tests successful.
Files=29, Tests=289, 131 wallclock secs ( 0.11 usr  0.08 sys + 11.79 cusr  2.86 csys = 14.84 CPU)
Result: PASS

------------------------------
PREREQUISITES
------------------------------

Prerequisite modules loaded:

requires:

    Module                 Need   Have   
    ---------------------- ------ -------
    CGI                    3.43   3.55   
    CGI::Simple            1.106  1.113  
    Cwd                    3.2701 3.33   
    Data::Properties::YAML 0.02   0.03   
    DBD::SQLite            1.14   1.33   
    DBI                    1.607  1.616  
    Digest::MD5            2.36   2.51   
    Encode                 2.23   2.43   
    ExtUtils::MakeMaker    6.58   6.58   
    HTML::Form             5.817  6.00   
    HTTP::Body             1.04   1.12   
    HTTP::Date             5.81   6.00   
    HTTP::Request::AsCGI   0.5    1.2    
    Ima::DBI               0.35   0.35   
    IO::File               1.14   1.14   
    Mail::Sendmail         0.79   0.79_16
    MIME::Types            1.24   1.31   
    Storable               2.18   2.30   
    Test::Memory::Cycle    0      1.04   
    Test::More             0.77   0.98   
    Time::HiRes            1.9715 1.9715 
    XML::Parser            2.36   2.41   
    XML::Simple            2.18   2.18   

build_requires:

    Module                 Need   Have   
    ---------------------- ------ -------
    ExtUtils::MakeMaker    0      6.58   

configure_requires:

    Module                 Need   Have   
    ---------------------- ------ -------
    ExtUtils::MakeMaker    0      6.58   


------------------------------
ENVIRONMENT AND OTHER CONTEXT
------------------------------

Environment variables:

    AUTOMATED_TESTING = 1
    LANG = en_US.UTF-8
    LANGUAGE = en
    LC_COLLATE = C
    LC_MONETARY = C
    LC_NUMERIC = C
    LC_TIME = C
    PATH = /usr/local/sbin:/usr/local/bin:/usr/sbin:/usr/bin:/sbin:/bin
    PERL5LIB = 
    PERL5OPT = 
    PERL5_CPANPLUS_IS_RUNNING = 15971
    PERL5_CPAN_IS_RUNNING = 15971
    PERL5_CPAN_IS_RUNNING_IN_RECURSION = 2687,15971
    PERL_CR_SMOKER_CURRENT = Apache2-ASP-2.46
    PERL_EXTUTILS_AUTOINSTALL = --defaultdeps
    PERL_MM_USE_DEFAULT = 1
    SHELL = /bin/bash
    TERM = xterm

Perl special variables (and OS-specific diagnostics, for MSWin32):

    $^X = /home/trushel/perl/perl589m/bin/perl
    $UID/$EUID = 138375 / 138375
    $GID = 5762 4 20 21 24 25 26 30 44 46 104 105 119 122 431 5762
    $EGID = 5762 4 20 21 24 25 26 30 44 46 104 105 119 122 431 5762

Perl module toolchain versions installed:

    Module              Have    
    ------------------- --------
    CPAN                1.97_51 
    Cwd                 3.33    
    ExtUtils::CBuilder  0.280202
    ExtUtils::Command   1.16    
    ExtUtils::Install   1.54    
    ExtUtils::MakeMaker 6.58    
    ExtUtils::Manifest  1.58    
    ExtUtils::ParseXS   3.02    
    File::Spec          3.33    
    Module::Build       0.3800  
    Module::Signature   n/a     
    Test::Harness       3.23    
    Test::More          0.98    
    YAML                0.73    
    YAML::Syck          1.17    
    version             0.93    


--

Summary of my perl5 (revision 5 version 8 subversion 9) configuration:
  Platform:
    osname=linux, osvers=2.6.32-33-generic, archname=x86_64-linux-multi
    uname='linux trushel-glaptop 2.6.32-33-generic #70-ubuntu smp thu jul 7 21:13:52 utc 2011 x86_64 gnulinux '
    config_args=''
    hint=recommended, useposix=true, d_sigaction=define
    usethreads=undef use5005threads=undef useithreads=undef usemultiplicity=define
    useperlio=define d_sfio=undef uselargefiles=define usesocks=undef
    use64bitint=define use64bitall=define uselongdouble=undef
    usemymalloc=n, bincompat5005=undef
  Compiler:
    cc='cc', ccflags ='-fno-strict-aliasing -pipe -I/usr/local/include -D_LARGEFILE_SOURCE -D_FILE_OFFSET_BITS=64',
    optimize='-O2',
    cppflags='-fno-strict-aliasing -pipe -I/usr/local/include'
    ccversion='', gccversion='4.4.3', gccosandvers=''
    intsize=4, longsize=8, ptrsize=8, doublesize=8, byteorder=12345678
    d_longlong=define, longlongsize=8, d_longdbl=define, longdblsize=16
    ivtype='long', ivsize=8, nvtype='double', nvsize=8, Off_t='off_t', lseeksize=8
    alignbytes=8, prototype=define
  Linker and Libraries:
    ld='cc', ldflags =' -L/usr/local/lib'
    libpth=/usr/local/lib /lib /usr/lib /lib64 /usr/lib64
    libs=-lnsl -ldb -ldl -lm -lcrypt -lutil -lc
    perllibs=-lnsl -ldl -lm -lcrypt -lutil -lc
    libc=/lib/libc-2.11.1.so, so=so, useshrplib=false, libperl=libperl.a
    gnulibc_version='2.11.1'
  Dynamic Linking:
    dlsrc=dl_dlopen.xs, dlext=so, d_dlsymun=undef, ccdlflags='-Wl,-E'
    cccdlflags='-fPIC', lddlflags='-shared -O2 -L/usr/local/lib'


Characteristics of this binary (from libperl): 
  Compile-time options: MULTIPLICITY PERL_IMPLICIT_CONTEXT PERL_MALLOC_WRAP
                        USE_64_BIT_ALL USE_64_BIT_INT USE_FAST_STDIO
                        USE_LARGE_FILES USE_PERLIO
  Built under linux
  Compiled at Aug  1 2011 06:32:31
  %ENV:
    PERL5LIB=""
    PERL5OPT=""
    PERL5_CPANPLUS_IS_RUNNING="15971"
    PERL5_CPAN_IS_RUNNING="15971"
    PERL5_CPAN_IS_RUNNING_IN_RECURSION="2687,15971"
    PERL_CR_SMOKER_CURRENT="Apache2-ASP-2.46"
    PERL_EXTUTILS_AUTOINSTALL="--defaultdeps"
    PERL_MM_USE_DEFAULT="1"
  @INC:
    /home/trushel/perl/perl589m/lib/5.8.9/x86_64-linux-multi
    /home/trushel/perl/perl589m/lib/5.8.9
    /home/trushel/perl/perl589m/lib/site_perl/5.8.9/x86_64-linux-multi
    /home/trushel/perl/perl589m/lib/site_perl/5.8.9
    .