Back
From: metabase:user:30ae4450-2aae-11df-837a-5e0a49663a4f
Subject: PASS MozRepl-0.06 v5.10.1
Date: 2013-03-01T06:10:11Z
This distribution has been tested as part of the CPAN Testers
project, supporting the Perl programming language. See
http://wiki.cpantesters.org/ for more information or email
questions to cpan-testers-discuss@perl.org
--
Dear Toru Yamaguchi,
This is a computer-generated report for MozRepl-0.06
on perl 5.10.1, created by CPAN-Reporter-1.2009.
Thank you for uploading your work to CPAN. Congratulations!
All tests were successful.
Sections of this report:
* Tester comments
* Program output
* Prerequisites
* Environment and other context
------------------------------
TESTER COMMENTS
------------------------------
Additional comments from tester:
this report is from an automated smoke testing program
and was not reviewed by a human for accuracy
------------------------------
PROGRAM OUTPUT
------------------------------
Output from 'C:\strawberry\c\bin\dmake.EXE test':
C:\strawberry\perl\bin\perl.exe "-Iinc" Makefile.PL --config= --installdeps=Data::JavaScript::Anon,0,Module::Pluggable::Fast,0,Template::Provider::FromDATA,0
C:\strawberry\perl\bin\perl.exe "-MExtUtils::Command::MM" "-e" "test_harness(0, 'inc', 'blib\lib', 'blib\arch')" t/00-load.t t/10-plugin-repl-enter.t t/11-plugin-repl-search.t t/12-plugin-repl-inspect.t t/13-plugin-repl-load.t t/14-plugin-repl-rename.t t/15-plugin-repl-print.t t/16-plugin-repl-home.t t/17-plugin-repl-back.t t/18-plugin-repl-util-help_url_for.t t/19-plugin-repl-util-doc_for.t t/20-plugin-json.t t/pod-coverage.t t/pod.t
# Testing MozRepl 0.06
t/00-load.t ........................... ok
[DEBUG] MozRepl logging enabled
[DEBUG]
---- Client arguments ----
.----------------------+------------------------------------------.
| client_arg_name | client_arg_value |
+----------------------+------------------------------------------+
| host | localhost |
| port | 4242 |
| timeout | 10 |
| extra_client_args | {} |
'----------------------+------------------------------------------'
t/10-plugin-repl-enter.t .............. ok
[DEBUG] MozRepl logging enabled
[DEBUG]
---- Client arguments ----
.----------------------+------------------------------------------.
| client_arg_name | client_arg_value |
+----------------------+------------------------------------------+
| host | localhost |
| port | 4242 |
| timeout | 10 |
| extra_client_args | {} |
'----------------------+------------------------------------------'
t/11-plugin-repl-search.t ............. ok
[DEBUG] MozRepl logging enabled
[DEBUG]
---- Client arguments ----
.----------------------+------------------------------------------.
| client_arg_name | client_arg_value |
+----------------------+------------------------------------------+
| host | localhost |
| port | 4242 |
| timeout | 10 |
| extra_client_args | {} |
'----------------------+------------------------------------------'
t/12-plugin-repl-inspect.t ............ ok
[DEBUG] MozRepl logging enabled
[DEBUG]
---- Client arguments ----
.----------------------+------------------------------------------.
| client_arg_name | client_arg_value |
+----------------------+------------------------------------------+
| host | localhost |
| port | 4242 |
| timeout | 10 |
| extra_client_args | {} |
'----------------------+------------------------------------------'
t/13-plugin-repl-load.t ............... ok
[DEBUG] MozRepl logging enabled
[DEBUG]
---- Client arguments ----
.----------------------+------------------------------------------.
| client_arg_name | client_arg_value |
+----------------------+------------------------------------------+
| host | localhost |
| port | 4242 |
| timeout | 10 |
| extra_client_args | {} |
'----------------------+------------------------------------------'
t/14-plugin-repl-rename.t ............. ok
[DEBUG] MozRepl logging enabled
[DEBUG]
---- Client arguments ----
.----------------------+------------------------------------------.
| client_arg_name | client_arg_value |
+----------------------+------------------------------------------+
| host | localhost |
| port | 4242 |
| timeout | 10 |
| extra_client_args | {} |
'----------------------+------------------------------------------'
t/15-plugin-repl-print.t .............. ok
[DEBUG] MozRepl logging enabled
[DEBUG]
---- Client arguments ----
.----------------------+------------------------------------------.
| client_arg_name | client_arg_value |
+----------------------+------------------------------------------+
| host | localhost |
| port | 4242 |
| timeout | 10 |
| extra_client_args | {} |
'----------------------+------------------------------------------'
t/16-plugin-repl-home.t ............... ok
[DEBUG] MozRepl logging enabled
[DEBUG]
---- Client arguments ----
.----------------------+------------------------------------------.
| client_arg_name | client_arg_value |
+----------------------+------------------------------------------+
| host | localhost |
| port | 4242 |
| timeout | 10 |
| extra_client_args | {} |
'----------------------+------------------------------------------'
t/17-plugin-repl-back.t ............... ok
[DEBUG] MozRepl logging enabled
[DEBUG]
---- Client arguments ----
.----------------------+------------------------------------------.
| client_arg_name | client_arg_value |
+----------------------+------------------------------------------+
| host | localhost |
| port | 4242 |
| timeout | 10 |
| extra_client_args | {} |
'----------------------+------------------------------------------'
t/18-plugin-repl-util-help_url_for.t .. ok
[DEBUG] MozRepl logging enabled
[DEBUG]
---- Client arguments ----
.----------------------+------------------------------------------.
| client_arg_name | client_arg_value |
+----------------------+------------------------------------------+
| host | localhost |
| port | 4242 |
| timeout | 10 |
| extra_client_args | {} |
'----------------------+------------------------------------------'
t/19-plugin-repl-util-doc_for.t ....... ok
[DEBUG] MozRepl logging enabled
[DEBUG]
---- Client arguments ----
.----------------------+------------------------------------------.
| client_arg_name | client_arg_value |
+----------------------+------------------------------------------+
| host | localhost |
| port | 4242 |
| timeout | 10 |
| extra_client_args | {} |
'----------------------+------------------------------------------'
t/20-plugin-json.t .................... ok
t/pod-coverage.t ...................... ok
t/pod.t ............................... ok
All tests successful.
Files=14, Tests=74, 13 wallclock secs ( 0.02 usr + 0.09 sys = 0.11 CPU)
Result: PASS
------------------------------
PREREQUISITES
------------------------------
Prerequisite modules loaded:
requires:
Module Need Have
---------------------------- ---- ----
Carp::Clan 0 6.04
Class::Accessor::Fast 0 0.34
Class::Data::Inheritable 0 0.08
Data::Dump 0 1.21
Data::JavaScript::Anon 0 1.03
File::Spec 0 3.40
Module::Pluggable::Fast 0 0.19
Net::Telnet 0 3.03
Template 0 2.24
Template::Provider::FromDATA 0 0.13
Text::SimpleTable 0 2.03
UNIVERSAL::require 0 0.13
URI 0 1.60
build_requires:
Module Need Have
---------------------------- ---- ----
ExtUtils::MakeMaker 0 6.64
------------------------------
ENVIRONMENT AND OTHER CONTEXT
------------------------------
Environment variables:
AUTOMATED_TESTING = 1
COMSPEC = C:\WINDOWS\system32\cmd.exe
NUMBER_OF_PROCESSORS = 1
PATH = C:\Program Files\Far Manager\;C:\WINDOWS\system32;C:\WINDOWS;C:\WINDOWS\System32\Wbem;C:\strawberry\c\bin;C:\strawberry\perl\site\bin;C:\strawberry\perl\bin
PERL5LIB = C:\strawberry\cpan\build\Data-JavaScript-Anon-1.03-RoVSes/blib/arch;C:\strawberry\cpan\build\Data-JavaScript-Anon-1.03-RoVSes/blib/lib;C:\strawberry\cpan\build\Class-Default-1.51-kBiBQn/blib/arch;C:\strawberry\cpan\build\Class-Default-1.51-kBiBQn/blib/lib;C:\strawberry\cpan\build\Module-Pluggable-Fast-0.19-UoSK8W/blib/arch;C:\strawberry\cpan\build\Module-Pluggable-Fast-0.19-UoSK8W/blib/lib;C:\strawberry\cpan\build\Template-Provider-FromDATA-0.13-2WsyjW/blib/arch;C:\strawberry\cpan\build\Template-Provider-FromDATA-0.13-2WsyjW/blib/lib;C:\strawberry\cpan\build\Object-Import-1.004-u_1Dlo/blib/arch;C:\strawberry\cpan\build\Object-Import-1.004-u_1Dlo/blib/lib;C:\strawberry\cpan\build\Shell-Command-0.06-lRfDJm/blib/arch;C:\strawberry\cpan\build\Shell-Command-0.06-lRfDJm/blib/lib
PERL5OPT =
PERL5_CPANPLUS_IS_RUNNING = 1576
PERL5_CPAN_IS_RUNNING = 1576
PERL5_CPAN_IS_RUNNING_IN_RECURSION = 1196,1576
PERL_CR_SMOKER_CURRENT = WWW-Mechanize-Firefox-0.71
PERL_EXTUTILS_AUTOINSTALL = --defaultdeps
PERL_JSON_BACKEND = JSON::XS
PERL_MM_USE_DEFAULT = 1
PERL_YAML_BACKEND = YAML
PROCESSOR_IDENTIFIER = x86 Family 16 Model 5 Stepping 3, AuthenticAMD
TEMP = C:\DOCUME~1\c\LOCALS~1\Temp
TERM = dumb
Perl special variables (and OS-specific diagnostics, for MSWin32):
$^X = C:\strawberry\perl\bin\perl.exe
$UID/$EUID = 0 / 0
$GID = 0
$EGID = 0
Win32::GetOSName = WinXP/.Net
Win32::GetOSVersion = Service Pack 3, 5, 1, 2600, 2, 3, 0, 256, 1
Win32::FsType = NTFS
Win32::IsAdminUser = 1
Perl module toolchain versions installed:
Module Have
------------------- --------
CPAN 1.9800
CPAN::Meta 2.120921
Cwd 3.40
ExtUtils::CBuilder 0.280202
ExtUtils::Command 1.17
ExtUtils::Install 1.54
ExtUtils::MakeMaker 6.64
ExtUtils::Manifest 1.60
ExtUtils::ParseXS 3.18
File::Spec 3.40
JSON 2.53
JSON::PP 2.27200
Module::Build 0.4003
Module::Signature 0.66
Parse::CPAN::Meta 1.4404
Test::Harness 3.23
Test::More 0.98
YAML 0.84
YAML::Syck 1.22
version 0.9901
--
Summary of my perl5 (revision 5 version 10 subversion 1) configuration:
Platform:
osname=MSWin32, osvers=5.1, archname=MSWin32-x86-multi-thread
uname='Win32 strawberryperl 5.10.1.5 #1 Sun May 15 09:44:53 2011 i386'
config_args='undef'
hint=recommended, useposix=true, d_sigaction=undef
useithreads=define, usemultiplicity=define
useperlio=define, d_sfio=undef, uselargefiles=define, usesocks=undef
use64bitint=undef, use64bitall=undef, uselongdouble=undef
usemymalloc=n, bincompat5005=undef
Compiler:
cc='gcc', ccflags =' -s -O2 -DWIN32 -DHAVE_DES_FCRYPT -DUSE_SITECUSTOMIZE -DPERL_IMPLICIT_CONTEXT -DPERL_IMPLICIT_SYS -fno-strict-aliasing -DPERL_MSVCRT_READFIX',
optimize='-s -O2',
cppflags='-DWIN32'
ccversion='', gccversion='3.4.5', gccosandvers=''
intsize=4, longsize=4, ptrsize=4, doublesize=8, byteorder=1234
d_longlong=undef, longlongsize=8, d_longdbl=define, longdblsize=12
ivtype='long', ivsize=4, nvtype='double', nvsize=8, Off_t='long long', lseeksize=8
alignbytes=8, prototype=define
Linker and Libraries:
ld='g++', ldflags ='-s -L"C:\strawberry\perl\lib\CORE" -L"C:\strawberry\c\lib"'
libpth=C:\strawberry\c\lib
libs= -lmoldname -lkernel32 -luser32 -lgdi32 -lwinspool -lcomdlg32 -ladvapi32 -lshell32 -lole32 -loleaut32 -lnetapi32 -luuid -lws2_32 -lmpr -lwinmm -lversion -lodbc32 -lodbccp32
perllibs= -lmoldname -lkernel32 -luser32 -lgdi32 -lwinspool -lcomdlg32 -ladvapi32 -lshell32 -lole32 -loleaut32 -lnetapi32 -luuid -lws2_32 -lmpr -lwinmm -lversion -lodbc32 -lodbccp32
libc=, so=dll, useshrplib=true, libperl=libperl510.a
gnulibc_version=''
Dynamic Linking:
dlsrc=dl_win32.xs, dlext=dll, d_dlsymun=undef, ccdlflags=' '
cccdlflags=' ', lddlflags='-mdll -s -L"C:\strawberry\perl\lib\CORE" -L"C:\strawberry\c\lib"'
Characteristics of this binary (from libperl):
Compile-time options: MULTIPLICITY PERL_DONT_CREATE_GVSV
PERL_IMPLICIT_CONTEXT PERL_IMPLICIT_SYS
PERL_MALLOC_WRAP PL_OP_SLAB_ALLOC USE_ITHREADS
USE_LARGE_FILES USE_PERLIO USE_SITECUSTOMIZE
Built under MSWin32
Compiled at May 15 2011 09:50:23
%ENV:
PERL5LIB="C:\strawberry\cpan\build\Data-JavaScript-Anon-1.03-RoVSes/blib/arch;C:\strawberry\cpan\build\Data-JavaScript-Anon-1.03-RoVSes/blib/lib;C:\strawberry\cpan\build\Class-Default-1.51-kBiBQn/blib/arch;C:\strawberry\cpan\build\Class-Default-1.51-kBiBQn/blib/lib;C:\strawberry\cpan\build\Module-Pluggable-Fast-0.19-UoSK8W/blib/arch;C:\strawberry\cpan\build\Module-Pluggable-Fast-0.19-UoSK8W/blib/lib;C:\strawberry\cpan\build\Template-Provider-FromDATA-0.13-2WsyjW/blib/arch;C:\strawberry\cpan\build\Template-Provider-FromDATA-0.13-2WsyjW/blib/lib;C:\strawberry\cpan\build\Object-Import-1.004-u_1Dlo/blib/arch;C:\strawberry\cpan\build\Object-Import-1.004-u_1Dlo/blib/lib;C:\strawberry\cpan\build\Shell-Command-0.06-lRfDJm/blib/arch;C:\strawberry\cpan\build\Shell-Command-0.06-lRfDJm/blib/lib"
PERL5_CPANPLUS_IS_RUNNING="1576"
PERL5_CPAN_IS_RUNNING="1576"
PERL5_CPAN_IS_RUNNING_IN_RECURSION="1196,1576"
PERL_CR_SMOKER_CURRENT="WWW-Mechanize-Firefox-0.71"
PERL_EXTUTILS_AUTOINSTALL="--defaultdeps"
PERL_JSON_BACKEND="JSON::XS"
PERL_MM_USE_DEFAULT="1"
PERL_YAML_BACKEND="YAML"
@INC:
C:\strawberry\cpan\build\Data-JavaScript-Anon-1.03-RoVSes/blib/arch
C:\strawberry\cpan\build\Data-JavaScript-Anon-1.03-RoVSes/blib/lib
C:\strawberry\cpan\build\Class-Default-1.51-kBiBQn/blib/arch
C:\strawberry\cpan\build\Class-Default-1.51-kBiBQn/blib/lib
C:\strawberry\cpan\build\Module-Pluggable-Fast-0.19-UoSK8W/blib/arch
C:\strawberry\cpan\build\Module-Pluggable-Fast-0.19-UoSK8W/blib/lib
C:\strawberry\cpan\build\Template-Provider-FromDATA-0.13-2WsyjW/blib/arch
C:\strawberry\cpan\build\Template-Provider-FromDATA-0.13-2WsyjW/blib/lib
C:\strawberry\cpan\build\Object-Import-1.004-u_1Dlo/blib/arch
C:\strawberry\cpan\build\Object-Import-1.004-u_1Dlo/blib/lib
C:\strawberry\cpan\build\Shell-Command-0.06-lRfDJm/blib/arch
C:\strawberry\cpan\build\Shell-Command-0.06-lRfDJm/blib/lib
C:/strawberry/perl/lib
C:/strawberry/perl/site/lib
C:\strawberry\perl\vendor\lib
.