Report for Acme-TLDR-0.004

Back
From: metabase:user:b53c7f44-4c0e-11e4-9ced-a04ade49192c
Subject: PASS Acme-TLDR-0.004 v5.10.1 GNU/Linux
Date: 2015-02-02T06:30:58Z

This distribution has been tested as part of the CPAN Testers
project, supporting the Perl programming language.  See
http://wiki.cpantesters.org/ for more information or email
questions to cpan-testers-discuss@perl.org


--
Dear Stanislaw Pusep,

This is a computer-generated report for Acme-TLDR-0.004
on perl 5.10.1, created by CPAN-Reporter-1.2011.

Thank you for uploading your work to CPAN.  Congratulations!
All tests were successful.

Sections of this report:

    * Tester comments
    * Program output
    * Prerequisites
    * Environment and other context

------------------------------
TESTER COMMENTS
------------------------------

Additional comments from tester:

this report is from an automated smoke testing program
and was not reviewed by a human for accuracy

------------------------------
PROGRAM OUTPUT
------------------------------

Output from '/usr/bin/make test':

PERL_DL_NONLAZY=1 "/opt/perlcc5-32-O0-5.10.1/bin/perl" "-MExtUtils::Command::MM" "-MTest::Harness" "-e" "undef *Test::Harness::Switches; test_harness(0, 'blib/lib', 'blib/arch')" t/*.t
t/00-compile.t ............... ok
# Acme::TLDR v0.004, Perl 5.010001, /opt/perlcc5-32-O0-5.10.1/bin/perl
t/00-load.t .................. ok
ExtUtils::Installed cache: /root/.local/share/.Acme-TLDR-542a85b71740f07aa24187c6100701d1.cache
no cache found; generating
ACME::Error                                                      => ACME::E
ACME::MBHall                                                     => ACME::MBH
ACME::PM::Voronezh                                               => ACME::PM::V
Acme-GuessNumber                                                 => A-GN
Acme-PricelessMethods                                            => A-PM
Acme::123                                                        => A::123
Acme::2zicon                                                     => A::2
Acme::6502                                                       => A::6502
Acme::APHILIPP::Utils                                            => A::APHILIPP::U
Acme::AbhiIsNot                                                  => A::AIsNot
Acme::Acotie                                                     => A::A
Acme::Aheui                                                      => *undef*
Acme::AirRead                                                    => A::AirR
Acme::Akashic::Records                                           => A::A::R
Acme::Albed                                                      => *undef*
Acme::AliG                                                       => A::AliG
Acme::Anything                                                   => *undef*
Acme::AsciiArt2HtmlTable                                         => A::AArt2HT
Acme::AsciiArtFarts                                              => A::AArtF
Acme::AsciiArtinator                                             => A::AA
Acme::Auggy                                                      => *undef*
Acme::AwesomeQuotes                                              => A::AQ
Acme::BLACKJ::Utils                                              => A::BLACKJ::U
Acme::BOATES                                                     => A::BOATES
Acme::Base64                                                     => A::B64
Acme::Be::Modern                                                 => A::Be::M
Acme::Beatnik                                                    => A::B
Acme::BlahBlahBlah                                               => A::BBB
Acme::Bleach                                                     => *undef*
Acme::Bleach::Numerically                                        => A::B::N
Acme::BloodType                                                  => A::BT
Acme::Boolean                                                    => *undef*
Acme::Boom                                                       => *undef*
Acme::BottomsUp                                                  => A::BUp
Acme::Buckaroo                                                   => *undef*
Acme::Buffalo::Buffalo                                           => A::B::B
Acme::Buffy                                                      => *undef*
Acme::Bushisms                                                   => *undef*
Acme::ButFirst                                                   => A::ButF
Acme::CPAN::Testers::PASS                                        => A::CPAN::T::PASS
Acme::Cake                                                       => A::C
Acme::Can\'t                                                     => A::Can\'t
Acme::Canadian                                                   => *undef*
Acme::Cat::Schroedinger                                          => A::Cat::S
Acme::Chef                                                       => *undef*
Acme::Code::FreedomFighter                                       => A::C::FF
Acme::Code::Police                                               => A::C::P
Acme::Coinbase                                                   => *undef*
Acme::Collector64                                                => A::C64
Acme::ComeFrom                                                   => A::CF
Acme::Comment                                                    => *undef*
Acme::Constructor::Pythonic                                      => *undef*
Acme::Coro::Suke                                                 => A::C::S
Acme::Cow::Interpreter                                           => A::Cow::I
Acme::CramCode                                                   => A::CC
Acme::Crap                                                       => *undef*
Acme::Current::Forever                                           => A::C::F
Acme::Curse                                                      => *undef*
Acme::DRM                                                        => A::DRM
Acme::Dahut                                                      => A::D
Acme::Damn                                                       => *undef*
Acme::DateTime::Duration::Numeric                                => A::DT::D::N
Acme::Debug                                                      => *undef*
Acme::Dice                                                       => *undef*
Acme::Don::t                                                     => A::Don::t
Acme::DonMartin                                                  => A::DonM
Acme::Dot                                                        => A::Dot
Acme::DoubleHelix                                                => A::DH
Acme::Drunk                                                      => *undef*
Acme::Echo                                                       => A::E
Acme::EdError                                                    => A::EdE
Acme::Ehoh                                                       => *undef*
Acme::Elk                                                        => A::Elk
Acme::Emoticarp                                                  => *undef*
Acme::EnclosedChar                                               => A::EC
Acme::EvilLicense                                                => A::EL
Acme::ExceptionEater                                             => A::EE
Acme::EyeDrops                                                   => A::EyeD
Acme::Fatal                                                      => A::F
Acme::Filter::Kenny                                              => A::F::K
Acme::FixIO                                                      => A::FixIO
Acme::FizzBuzz                                                   => A::FB
Acme::Flip                                                       => *undef*
Acme::Fork::Bomb                                                 => A::F::B
Acme::Frog                                                       => *undef*
Acme::Futuristic::Perl                                           => A::F::P
Acme::GILLIGAN::Utils                                            => A::GILLIGAN::U
Acme::GRYLLIDA::Utils                                            => A::GRYLLIDA::U
Acme::Geo::Whitwell::Name                                        => A::Geo::W::N
Acme::Globule                                                    => A::G
Acme::Goatse                                                     => *undef*
Acme::Godot                                                      => *undef*
Acme::Goedelize                                                  => *undef*
Acme::Gosub                                                      => *undef*
Acme::Gtk2::Ex::Builder                                          => A::Gtk2::Ex::B
Acme::HaltingProblem                                             => A::HP
Acme::Has::Tiny                                                  => A::Has::T
Acme::HashKeyOrderBrokenAgain                                    => A::HKeyOBA
Acme::HidamariSketch                                             => A::HS
Acme::Hidek                                                      => A::H
Acme::Holy                                                       => *undef*
Acme::Homer                                                      => *undef*
Acme::Hyde                                                       => *undef*
Acme::Hyperindex                                                 => *undef*
Acme::IEnumerable                                                => A::IE
Acme::IRC::Art                                                   => A::IRC::Art
Acme::Include::Data                                              => A::I::D
Acme::Indent                                                     => A::I
Acme::Innuendo                                                   => *undef*
Acme::InputRecordSeparatorIsRegexp                               => A::IRSIsR
Acme::Intraweb                                                   => *undef*
Acme::Iota                                                       => *undef*
Acme::JANEZHANG                                                  => A::JANEZHANG
Acme::JAPH                                                       => A::JAPH
Acme::JJCARMAN                                                   => A::JJCARMAN
Acme::JavaTrace                                                  => A::JT
Acme::Jrush                                                      => A::J
Acme::KJAM                                                       => A::KJAM
Acme::KMX::Test                                                  => A::KMX::T
Acme::Kensiro                                                    => A::K
Acme::KeyboardMarathon                                           => A::KM
Acme::LINFIR::Utils                                              => A::LINFIR::U
Acme::LOLCAT                                                     => A::LOLCAT
Acme::Lambda                                                     => A::L
Acme::Laugh                                                      => *undef*
Acme::LeetSpeak                                                  => A::LS
Acme::Letter                                                     => *undef*
Acme::Licence                                                    => *undef*
Acme::LifeUniverseEverything                                     => A::LUE
Acme::Lingua::NIGERIAN                                           => A::L::NIGERIAN
Acme::Lingua::Strine::Perl                                       => A::L::S::P
Acme::Lingua::ZH::Remix                                          => A::L::ZH::R
Acme::Llama                                                      => *undef*
Acme::Locals                                                     => *undef*
Acme::MJD::FR                                                    => A::MJD::FR
Acme::Madness                                                    => A::M
Acme::Magic8Ball                                                 => A::M8B
Acme::Magic::Pony                                                => A::M::P
Acme::Magpie                                                     => *undef*
Acme::Mahjong::Rule::CC                                          => A::M::R::CC
Acme::Mandolion::Utils                                           => A::M::U
Acme::ManekiNeko                                                 => A::MN
Acme::Math::Google                                               => A::M::G
Acme::Math::PerfectChristmasTree                                 => A::M::PCT
Acme::Math::XS                                                   => A::M::XS
Acme::Math::XS::LeanDist                                         => A::M::XS::LD
Acme::MathProfessor::RandomPrime                                 => A::MP::RP
Acme::Meow                                                       => *undef*
Acme::Meta                                                       => *undef*
Acme::MetaSyntactic                                              => A::MS
Acme::MetaSyntactic::Themes                                      => A::MS::T
Acme::MetaSyntactic::Themes::Abigail                             => A::MS::T::A
Acme::MetaSyntactic::buzzwords                                   => A::MS::b
Acme::MetaSyntactic::daleks                                      => A::MS::d
Acme::MetaSyntactic::dune                                        => *undef*
Acme::MetaSyntactic::legobatman                                  => A::MS::l
Acme::MetaSyntactic::legocityundercover                          => *undef*
Acme::MetaSyntactic::legoharrypotter                             => *undef*
Acme::MetaSyntactic::legoindianajones                            => *undef*
Acme::MetaSyntactic::legolotr                                    => *undef*
Acme::MetaSyntactic::legomarvelsuperheroes                       => *undef*
Acme::MetaSyntactic::legomovievideogame                          => *undef*
Acme::MetaSyntactic::legopiratesofthecaribbean                   => *undef*
Acme::MetaSyntactic::legothehobbit                               => *undef*
Acme::MetaSyntactic::nethack                                     => A::MS::n
Acme::MetaSyntactic::soviet                                      => A::MS::s
Acme::MetaSyntactic::vim                                         => A::MS::vim
Acme::Method::CaseInsensitive                                    => A::M::CI
Acme::Metification                                               => *undef*
Acme::MirrorTracer                                               => A::MT
Acme::Mobile::Therbligs                                          => A::M::T
Acme::Module::Authors                                            => A::M::A
Acme::Monta                                                      => *undef*
Acme::Moose                                                      => *undef*
Acme::MorningMusume                                              => A::MM
Acme::MorningMusume::ShinMember                                  => A::MM::SM
Acme::Morse::Audible                                             => *undef*
Acme::MorseComments                                              => A::MC
Acme::MotorcycleGang                                             => A::MG
Acme::MyFirstModule::ANALL                                       => A::MyFM::ANALL
Acme::MyFirstModule::ASTPL                                       => A::MyFM::ASTPL
Acme::MyFirstModule::AUSTIN                                      => A::MyFM::AUSTIN
Acme::MyFirstModule::BWAGNER                                     => A::MyFM::BWAGNER
Acme::MyFirstModule::CARNIL                                      => A::MyFM::CARNIL
Acme::MyFirstModule::DRZIGMAN                                    => A::MyFM::DRZIGMAN
Acme::MyFirstModule::HEEB                                        => A::MyFM::HEEB
Acme::MyFirstModule::NANDO                                       => A::MyFM::NANDO
Acme::MyFirstModule::WWILLIS                                     => A::MyFM::WWILLIS
Acme::MyFirstModule::ddeimeke                                    => A::MyFM::d
Acme::NabeAtzz                                                   => A::NA
Acme::NamespaceRoulette                                          => A::NR
Acme::Nooo                                                       => A::N
Acme::Note                                                       => *undef*
Acme::Nothing                                                    => *undef*
Acme::Nyaa                                                       => *undef*
Acme::Oil                                                        => A::Oil
Acme::OneBit                                                     => A::OneBit
Acme::OneHundredNotOut                                           => A::OneHNotOut
Acme::OnePiece                                                   => A::OneP
Acme::Ook                                                        => A::Ook
Acme::Opish                                                      => A::O
Acme::Oppai                                                      => *undef*
Acme::PIA::Export                                                => A::PIA::E
Acme::PM::Barcelona                                              => A::PM::B
Acme::PM::Berlin::Meetings                                       => A::PM::B::M
Acme::PM::Chicago                                                => A::PM::C
Acme::PM::Paris::Meetings                                        => A::PM::P::M
Acme::PSON                                                       => A::PSON
Acme::Pano::Util                                                 => A::P::U
Acme::Perl::Consensual                                           => A::P::C
Acme::Perl::VM                                                   => A::P::VM
Acme::Phlegethoth                                                => A::P
Acme::Pi                                                         => A::Pi
Acme::Pi::Abrahamic                                              => A::Pi::A
Acme::Plack::App::GyazoStocker                                   => A::P::App::GS
Acme::PlayCode                                                   => A::PC
Acme::Playwright                                                 => *undef*
Acme::Pod::MathJax                                               => A::Pod::MJax
Acme::Pony                                                       => *undef*
Acme::Pony::Pink                                                 => A::P::P
Acme::Pr0n                                                       => A::Pr0n
Acme::Prereq::BigDistro                                          => A::P::BigD
Acme::Prereq::None                                               => A::P::N
Acme::PrettyCure                                                 => *undef*
Acme::ProgressBar                                                => A::PBar
Acme::Python                                                     => *undef*
Acme::Pythonic                                                   => *undef*
Acme::RFC4824                                                    => A::RFC4824
Acme::Random                                                     => A::R
Acme::Random::Fire                                               => A::R::F
Acme::Random::Hire                                               => A::R::H
Acme::Rant                                                       => *undef*
Acme::Rautavistic::Sort                                          => A::R::S
Acme::RedShirt                                                   => A::RedS
Acme::Ref                                                        => A::Ref
Acme::Remote::Strangulation::Protocol                            => A::R::S::P
Acme::RemoteINC                                                  => A::RINC
Acme::Replica                                                    => *undef*
Acme::RequireModule                                              => A::RM
Acme::Robd::Boring                                               => A::R::B
Acme::SList::Utilities                                           => A::SL::U
Acme::SOAP::Dodger                                               => A::SOAP::D
Acme::SafetyGoggles                                              => A::SG
Acme::Schrodinger::Do                                            => A::S::Do
Acme::Scripticide                                                => A::S
Acme::ScriptoPhrenic                                             => A::SP
Acme::Scurvy::Whoreson::BilgeRat                                 => A::S::W::BRat
Acme::Scurvy::Whoreson::BilgeRat::Backend::insultserver          => A::S::W::BRat::B::i
Acme::Signum                                                     => *undef*
Acme::Siteswap                                                   => *undef*
Acme::Smirch                                                     => *undef*
Acme::Snark                                                      => *undef*
Acme::Sneeze                                                     => *undef*
Acme::Sneeze::JP                                                 => A::S::JP
Acme::Sort::Bogosort                                             => A::S::B
Acme::Sort::Bozo                                                 => *undef*
Acme::Speed                                                      => *undef*
Acme::Spider                                                     => *undef*
Acme::Spinner                                                    => *undef*
Acme::Stardate                                                   => *undef*
Acme::State                                                      => *undef*
Acme::String::Trim                                               => A::S::T
Acme::StringFormat                                               => A::SF
Acme::Study::OS::DateLocales                                     => A::S::OS::DL
Acme::Study::Perl                                                => A::S::P
Acme::Study::SREZIC                                              => A::S::SREZIC
Acme::Sub::Parms                                                 => A::Sub::P
Acme::SuperCollider::Programming                                 => A::SC::P
Acme::SvGROW                                                     => A::SvGROW
Acme::Syntax::Python                                             => *undef*
Acme::TAINT                                                      => A::TAINT
AcmeRTB                                                          => ARTB
AcmeStegano                                                      => AS
Algorithm::C3                                                    => A::C3
Algorithm::Combinatorics                                         => *undef*
Algorithm::Dependency                                            => *undef*
Algorithm::Diff                                                  => *undef*
Algorithm::Diff::XS                                              => A::D::XS
Alt::Acme::Math::XS::ModuleBuild                                 => Alt::A::M::XS::MB
Any::Moose                                                       => Any::M
AnyDBM_File                                                      => AnyDBM_F
AnyEvent                                                         => AnyE
AnyEvent::AIO                                                    => AnyE::AIO
AnyEvent::BDB                                                    => AnyE::BDB
Apache::LogFormat::Compiler                                      => A::LogF::C
App::CamelPKI                                                    => App::CPKI
App::Info                                                        => App::I
App::Prove                                                       => App::P
App::Prove::State                                                => App::P::S
App::Prove::State::Result                                        => App::P::S::R
App::Prove::State::Result::Test                                  => App::P::S::R::T
AppConfig                                                        => AppC
Archive::Any::Lite                                               => A::Any::L
Archive::Extract                                                 => *undef*
Archive::Tar                                                     => A::Tar
Archive::Tar::Constant                                           => A::Tar::C
Archive::Tar::File                                               => A::Tar::F
Archive::Tar::Wrapper                                            => A::Tar::W
Archive::Zip                                                     => A::Zip
Array::Diff                                                      => *undef*
Async::Interrupt                                                 => *undef*
Attribute::Handlers                                              => *undef*
Authen::DecHpwd                                                  => A::DecH
Authen::NTLM                                                     => A::NTLM
Authen::Passphrase                                               => *undef*
Authen::SASL::SASLprep                                           => A::SASL::SASL
Authen::SCRAM                                                    => A::SCRAM
AutoLoader                                                       => AL
AutoSplit                                                        => *undef*
B::Compiling                                                     => B::C
B::Concise                                                       => *undef*
B::Debug                                                         => B::D
B::Deparse                                                       => *undef*
B::Generate                                                      => B::G
B::Hooks::EndOfScope                                             => B::H::EndOfS
B::Hooks::OP::Annotation                                         => B::H::OP::A
B::Hooks::OP::Check                                              => B::H::OP::C
B::Hooks::OP::Check::EntersubForCV                               => B::H::OP::C::EForCV
B::Hooks::OP::PPAddr                                             => B::H::OP::PPA
B::Hooks::Parser                                                 => B::H::P
B::Keywords                                                      => B::K
B::Lint                                                          => B::L
B::Lint::Debug                                                   => B::L::D
B::Showlex                                                       => B::S
B::Terse                                                         => B::T
B::Utils                                                         => B::U
B::Xref                                                          => B::X
BSD::Resource                                                    => BSD::R
Bit::Vector                                                      => Bit::V
Business-BR-Ids                                                  => B-BR-Ids
Business::ISBN                                                   => B::ISBN
Business::ISBN::Data                                             => B::ISBN::D
CGI::Apache                                                      => CGI::A
CGI::Carp                                                        => CGI::C
CGI::Cookie                                                      => *undef*
CGI::Fast                                                        => CGI::F
CGI::Pretty                                                      => CGI::P
CGI::Push                                                        => *undef*
CGI::Simple                                                      => CGI::S
CGI::Struct                                                      => *undef*
CGI::Switch                                                      => *undef*
CGI::Util                                                        => CGI::U
CPAN::Author                                                     => CPAN::A
CPAN::Bundle                                                     => CPAN::B
CPAN::CacheMgr                                                   => CPAN::CMgr
CPAN::Changes                                                    => CPAN::C
CPAN::Complete                                                   => *undef*
CPAN::Debug                                                      => CPAN::D
CPAN::DeferredCode                                               => CPAN::DC
CPAN::DistnameInfo                                               => CPAN::DI
CPAN::Distribution                                               => *undef*
CPAN::Distroprefs                                                => *undef*
CPAN::Distrostatus                                               => *undef*
CPAN::Exception::RecursiveDependency                             => CPAN::E::RD
CPAN::Exception::blocked_urllist                                 => CPAN::E::b
CPAN::Exception::yaml_not_installed                              => CPAN::E::y
CPAN::FTP::netrc                                                 => CPAN::FTP::n
CPAN::FirstTime                                                  => CPAN::FT
CPAN::HandleConfig                                               => CPAN::HC
CPAN::Index                                                      => CPAN::I
CPAN::InfoObj                                                    => CPAN::IObj
CPAN::Kwalify                                                    => CPAN::K
CPAN::LWP::UserAgent                                             => CPAN::LWP::UA
CPAN::Meta                                                       => CPAN::M
CPAN::Meta::Check                                                => CPAN::M::C
CPAN::Meta::Requirements                                         => CPAN::M::R
CPAN::Meta::YAML                                                 => CPAN::M::YAML
CPAN::Module                                                     => *undef*
CPAN::Prompt                                                     => CPAN::P
CPAN::Queue                                                      => CPAN::Q
CPAN::Reporter                                                   => CPAN::R
CPAN::SQLite                                                     => CPAN::SQL
CPAN::Shell                                                      => CPAN::S
CPAN::Tarzip                                                     => CPAN::T
CPAN::Testers::Common::Utils                                     => CPAN::T::C::U
CPAN::Testers::Metabase                                          => CPAN::T::M
CPAN::Testers::Report                                            => CPAN::T::R
CPAN::Uploader                                                   => CPAN::U
CPAN::Version                                                    => CPAN::V
CPANPLUS::Backend                                                => CPANPLUS::B
CPANPLUS::Backend::RV                                            => CPANPLUS::B::RV
CPANPLUS::Config                                                 => CPANPLUS::C
CPANPLUS::Configure                                              => *undef*
CPANPLUS::Configure::Setup                                       => CPANPLUS::C::S
CPANPLUS::Dist                                                   => CPANPLUS::D
CPANPLUS::Dist::Autobundle                                       => CPANPLUS::D::A
CPANPLUS::Dist::Base                                             => CPANPLUS::D::B
CPANPLUS::Dist::Build                                            => *undef*
CPANPLUS::Dist::Build::Constants                                 => CPANPLUS::D::B::C
CPANPLUS::Dist::MM                                               => CPANPLUS::D::MM
CPANPLUS::Dist::Sample                                           => CPANPLUS::D::S
CPANPLUS::Error                                                  => CPANPLUS::E
CPANPLUS::Internals                                              => CPANPLUS::I
CPANPLUS::Internals::Constants                                   => CPANPLUS::I::C
CPANPLUS::Internals::Constants::Report                           => CPANPLUS::I::C::R
CPANPLUS::Internals::Extract                                     => CPANPLUS::I::E
CPANPLUS::Internals::Fetch                                       => CPANPLUS::I::F
CPANPLUS::Internals::Report                                      => CPANPLUS::I::R
CPANPLUS::Internals::Search                                      => CPANPLUS::I::S
CPANPLUS::Internals::Source                                      => *undef*
CPANPLUS::Internals::Source::Memory                              => CPANPLUS::I::S::M
CPANPLUS::Internals::Source::SQLite                              => CPANPLUS::I::S::SQL
CPANPLUS::Internals::Source::SQLite::Tie                         => CPANPLUS::I::S::SQL::Tie
CPANPLUS::Internals::Utils                                       => CPANPLUS::I::U
CPANPLUS::Internals::Utils::Autoflush                            => CPANPLUS::I::U::A
CPANPLUS::Module                                                 => CPANPLUS::M
CPANPLUS::Module::Author                                         => CPANPLUS::M::A
CPANPLUS::Module::Author::Fake                                   => CPANPLUS::M::A::F
CPANPLUS::Module::Checksums                                      => CPANPLUS::M::C
CPANPLUS::Module::Fake                                           => CPANPLUS::M::F
CPANPLUS::Module::Signature                                      => CPANPLUS::M::S
CPANPLUS::Selfupdate                                             => CPANPLUS::S
CPANPLUS::Shell                                                  => *undef*
CPANPLUS::Shell::Classic                                         => CPANPLUS::S::C
CPANPLUS::Shell::Default                                         => CPANPLUS::S::D
CPANPLUS::Shell::Default::Plugins::CustomSource                  => CPANPLUS::S::D::P::CS
CPANPLUS::Shell::Default::Plugins::Remote                        => CPANPLUS::S::D::P::R
CPANPLUS::Shell::Default::Plugins::Source                        => CPANPLUS::S::D::P::S
Capture::Tiny                                                    => C::T
Carp::Assert                                                     => C::A
Carp::Clan                                                       => C::C
Carp::Heavy                                                      => C::H
Catalyst::Action::RenderView                                     => C::A::RV
Catalyst::Devel                                                  => C::D
Catalyst::Engine::Apache                                         => C::E::A
Catalyst::Plugin::ConfigLoader                                   => C::P::CL
Catalyst::Plugin::Static::Simple                                 => C::P::S::S
Catalyst::Runtime                                                => C::R
Catalyst::View::JSON                                             => C::V::JSON
Catalyst::View::TT                                               => C::V::TT
Class::Accessor                                                  => *undef*
Class::Accessor::Chained                                         => C::A::C
Class::Accessor::Grouped                                         => C::A::G
Class::C3                                                        => C::C3
Class::C3::Adopt::NEXT                                           => C::C3::A::NEXT
Class::C3::Componentised                                         => C::C3::C
Class::DBI                                                       => C::DBI
Class::Data::Inheritable                                         => C::D::I
Class::Factory::Util                                             => C::F::U
Class::ISA                                                       => C::ISA
Class::Inspector                                                 => C::I
Class::Load                                                      => C::L
Class::Load::XS                                                  => C::L::XS
Class::Method::Modifiers                                         => C::M::M
Class::Mix                                                       => C::Mix
Class::Singleton                                                 => C::S
Class::Struct                                                    => *undef*
Class::Tiny                                                      => *undef*
Class::Trigger                                                   => *undef*
Class::XSAccessor                                                => C::XSA
Compress::Raw::Bzip2                                             => C::Raw::B2
Compress::Raw::Zlib                                              => C::Raw::Z
Compress::Zlib                                                   => C::Z
Config::Any                                                      => C::Any
Config::AutoConf                                                 => C::AC
Config::Extensions                                               => C::E
Config::General                                                  => C::G
Config::INI                                                      => C::INI
Config::MVP                                                      => C::MVP
Config::MVP::Reader::INI                                         => C::MVP::R::INI
Config::Perl::V                                                  => C::P::V
Config::Scoped                                                   => *undef*
Config::Tiny                                                     => *undef*
Const::Exporter                                                  => *undef*
Const::Fast                                                      => C::F
Context::Preserve                                                => C::P
Convert::ASN1                                                    => C::ASN1
Convert::Bencode                                                 => C::B
Convert::Bencode_XS                                              => C::BXS
Cpanel::JSON::XS                                                 => C::JSON::XS
Crypt::Blowfish                                                  => *undef*
Crypt::CBC                                                       => C::CBC
Crypt::DES                                                       => C::DES
Crypt::Eksblowfish                                               => *undef*
Crypt::MySQL                                                     => C::MySQL
Crypt::OpenSSL::CA                                               => C::OSSL::CA
Crypt::PasswdMD5                                                 => C::PMD5
Crypt::RC4                                                       => C::RC4
Crypt::Rijndael                                                  => *undef*
Crypt::SSLeay                                                    => C::SSL
Crypt::URandom                                                   => C::UR
Crypt::UnixCrypt_XS                                              => C::UCXS
Crypt::X509                                                      => C::X509
Crypt::XKCDCommon1949                                            => C::XKCDC1949
Cwd::Guard                                                       => Cwd::G
DBD::SQLite                                                      => DBD::SQL
DBD::mysql                                                       => DBD::m
DBIx::Class                                                      => DBIx::C
DBIx::Connector                                                  => *undef*
DBIx::ContextualFetch                                            => DBIx::CF
DBIx::HTMLView                                                   => DBIx::HTMLV
DBIx::Simple                                                     => DBIx::S
DBM::Deep                                                        => DBM::D
DBM_Filter                                                       => DBM_F
DBM_Filter::compress                                             => DBM_F::c
DBM_Filter::encode                                               => DBM_F::e
DBM_Filter::int32                                                => DBM_F::int32
DBM_Filter::null                                                 => DBM_F::n
DBM_Filter::utf8                                                 => DBM_F::utf8
DB_File                                                          => DB_F
Data::Compare                                                    => D::C
Data::Denter                                                     => D::D
Data::Difflet                                                    => *undef*
Data::Dump                                                       => *undef*
Data::Dumper                                                     => *undef*
Data::Dumper::Concise                                            => D::D::C
Data::Dumper::Names                                              => D::D::N
Data::Entropy                                                    => D::E
Data::Float                                                      => D::F
Data::GUID                                                       => D::GUID
Data::Integer                                                    => D::I
Data::OptList                                                    => D::OptL
Data::Page                                                       => D::P
Data::Perl                                                       => *undef*
Data::Section                                                    => D::S
Data::Section::Simple                                            => D::S::S
Data::Serializer                                                 => *undef*
Data::Stream::Bulk                                               => D::S::B
Data::Taxi                                                       => D::T
Data::Types                                                      => *undef*
Data::UUID                                                       => D::UUID
Data::Visitor                                                    => D::V
Date::Parse                                                      => *undef*
DateTime                                                         => DT
DateTime::Calendar::Mayan                                        => DT::C::M
DateTime::Event::ICal                                            => DT::E::ICal
DateTime::Event::Recurrence                                      => DT::E::R
DateTime::Format::Builder                                        => DT::F::B
DateTime::Format::Duration                                       => DT::F::D
DateTime::Format::Flexible                                       => DT::F::F
DateTime::Format::ICal                                           => DT::F::ICal
DateTime::Format::ISO8601                                        => DT::F::ISO8601
DateTime::Format::MySQL                                          => DT::F::MySQL
DateTime::Format::Natural                                        => DT::F::N
DateTime::Format::Strptime                                       => DT::F::S
DateTime::Locale                                                 => DT::L
DateTime::Set                                                    => DT::Set
DateTime::TimeZone                                               => DT::TZ
DateTime::Tiny                                                   => DT::T
DateTimeX::Easy                                                  => DTX::E
Debug::ShowStuff                                                 => D::SS
Declare::Constraints::Simple                                     => D::C::S
Devel::Autoflush                                                 => D::A
Devel::BeginLift                                                 => D::BL
Devel::Caller                                                    => *undef*
Devel::CheckBin                                                  => D::CBin
Devel::CheckCompiler                                             => D::CC
Devel::CheckOS                                                   => D::COS
Devel::Cycle                                                     => *undef*
Devel::DProf                                                     => D::DP
Devel::Declare                                                   => *undef*
Devel::Declare::Parser                                           => D::D::P
Devel::Declare::Parser::Fennec                                   => D::D::P::F
Devel::FindPerl                                                  => D::FP
Devel::GlobalDestruction                                         => D::GD
Devel::GlobalDestruction::XS                                     => D::GD::XS
Devel::Hide                                                      => D::H
Devel::InnerPackage                                              => D::IP
Devel::Leak                                                      => D::L
Devel::LexAlias                                                  => D::LexA
Devel::Mallinfo                                                  => D::M
Devel::OverloadInfo                                              => D::OI
Devel::PPPort                                                    => D::PPP
Devel::PartialDump                                               => D::PD
Devel::Peek                                                      => *undef*
Devel::SelfStubber                                               => *undef*
Devel::StackTrace                                                => D::ST
Devel::StackTrace::AsHTML                                        => D::ST::AsHTML
Devel::Symdump                                                   => *undef*
Digest::CRC                                                      => D::CRC
Digest::HMAC                                                     => D::HMAC
Digest::JHash                                                    => D::JH
Digest::MD4                                                      => D::MD4
Digest::MD5                                                      => D::MD5
Digest::Perl::MD5                                                => D::P::MD5
Digest::SHA                                                      => D::SHA
Digest::SHA1                                                     => D::SHA1
Digest::base                                                     => D::b
Digest::file                                                     => D::f
DirHandle                                                        => DirH
Dist::CheckConflicts                                             => *undef*
Dist::Zilla                                                      => D::Z
DynaLoader                                                       => DL
Email::Abstract                                                  => E::A
Email::Address                                                   => *undef*
Email::Date::Format                                              => E::D::F
Email::Simple                                                    => E::S
Email::Valid                                                     => E::V
Email::Valid::Loose                                              => E::V::L
Encode::Alias                                                    => *undef*
Encode::Byte                                                     => E::B
Encode::CJKConstants                                             => E::CJKC
Encode::CN                                                       => E::CN
Encode::CN::HZ                                                   => E::CN::HZ
Encode::Config                                                   => E::C
Encode::EBCDIC                                                   => E::EBCDIC
Encode::Encoder                                                  => E::E
Encode::Encoding                                                 => *undef*
Encode::GSM0338                                                  => E::GSM0338
Encode::Guess                                                    => E::G
Encode::JP                                                       => E::JP
Encode::JP::H2Z                                                  => E::JP::H2Z
Encode::JP::JIS7                                                 => E::JP::JIS7
Encode::KR                                                       => E::KR
Encode::KR::2022_KR                                              => E::KR::2022_KR
Encode::Locale                                                   => E::L
Encode::MIME::Header                                             => E::MIME::H
Encode::MIME::Header::ISO_2022_JP                                => E::MIME::H::ISO_2022_JP
Encode::MIME::Name                                               => E::MIME::N
Encode::Symbol                                                   => *undef*
Encode::TW                                                       => E::TW
Encode::Unicode                                                  => E::U
Encode::Unicode::UTF7                                            => E::U::UTF7
Eval::Closure                                                    => *undef*
Exception::Base                                                  => *undef*
Exception::Class                                                 => *undef*
Exception::Died                                                  => E::D
Exception::Warning                                               => E::W
Exporter::Declare                                                => *undef*
Exporter::Declare::Magic                                         => E::D::M
Exporter::Heavy                                                  => E::H
Exporter::Lite                                                   => *undef*
Exporter::Tidy                                                   => E::T
Exporter::Tiny                                                   => *undef*
ExtUtils::CBuilder                                               => ExtU::CB
ExtUtils::CBuilder::Base                                         => ExtU::CB::B
ExtUtils::CBuilder::Platform::Unix                               => ExtU::CB::P::U
ExtUtils::CBuilder::Platform::VMS                                => ExtU::CB::P::VMS
ExtUtils::CBuilder::Platform::Windows                            => ExtU::CB::P::W
ExtUtils::CBuilder::Platform::aix                                => ExtU::CB::P::aix
ExtUtils::CBuilder::Platform::cygwin                             => ExtU::CB::P::c
ExtUtils::CBuilder::Platform::darwin                             => ExtU::CB::P::d
ExtUtils::CBuilder::Platform::dec_osf                            => *undef*
ExtUtils::CBuilder::Platform::os2                                => ExtU::CB::P::os2
ExtUtils::CChecker                                               => ExtU::CC
ExtUtils::Command                                                => ExtU::C
ExtUtils::Command::MM                                            => ExtU::C::MM
ExtUtils::Config                                                 => *undef*
ExtUtils::Constant                                               => *undef*
ExtUtils::Constant::Base                                         => ExtU::C::B
ExtUtils::Constant::ProxySubs                                    => ExtU::C::PS
ExtUtils::Constant::Utils                                        => ExtU::C::U
ExtUtils::Constant::XS                                           => ExtU::C::XS
ExtUtils::Depends                                                => ExtU::D
ExtUtils::Embed                                                  => ExtU::E
ExtUtils::Helpers                                                => ExtU::H
ExtUtils::Install                                                => ExtU::I
ExtUtils::InstallPaths                                           => ExtU::IP
ExtUtils::Installed                                              => *undef*
ExtUtils::Liblist                                                => ExtU::L
ExtUtils::Liblist::Kid                                           => ExtU::L::Kid
ExtUtils::MM                                                     => ExtU::MM
ExtUtils::MM_AIX                                                 => ExtU::MM_AIX
ExtUtils::MM_Any                                                 => ExtU::MM_Any
ExtUtils::MM_BeOS                                                => ExtU::MM_BeOS
ExtUtils::MM_Cygwin                                              => ExtU::MM_C
ExtUtils::MM_DOS                                                 => ExtU::MM_DOS
ExtUtils::MM_Darwin                                              => ExtU::MM_D
ExtUtils::MM_MacOS                                               => ExtU::MM_MacOS
ExtUtils::MM_NW5                                                 => ExtU::MM_NW5
ExtUtils::MM_OS2                                                 => ExtU::MM_OS2
ExtUtils::MM_QNX                                                 => ExtU::MM_QNX
ExtUtils::MM_UWIN                                                => ExtU::MM_UWIN
ExtUtils::MM_Unix                                                => ExtU::MM_U
ExtUtils::MM_VMS                                                 => ExtU::MM_VMS
ExtUtils::MM_VOS                                                 => ExtU::MM_VOS
ExtUtils::MM_Win32                                               => ExtU::MM_Win32
ExtUtils::MM_Win95                                               => ExtU::MM_Win95
ExtUtils::MY                                                     => ExtU::MY
ExtUtils::MakeMaker                                              => *undef*
ExtUtils::MakeMaker::CPANfile                                    => ExtU::MM::CPAN
ExtUtils::MakeMaker::Config                                      => ExtU::MM::C
ExtUtils::MakeMaker::Dist::Zilla::Develop                        => ExtU::MM::D::Z::D
ExtUtils::Manifest                                               => ExtU::M
ExtUtils::Miniperl                                               => *undef*
ExtUtils::Mkbootstrap                                            => *undef*
ExtUtils::Mksymlists                                             => *undef*
ExtUtils::Packlist                                               => ExtU::P
ExtUtils::ParseXS                                                => ExtU::PXS
ExtUtils::XSSymSet                                               => ExtU::XSSymSet
ExtUtils::testlib                                                => ExtU::t
Fatal::Exception                                                 => F::E
Fennec::Declare                                                  => F::D
Fennec::Lite                                                     => F::L
File::BaseDir                                                    => F::BDir
File::Basename                                                   => F::B
File::ChangeNotify                                               => F::CN
File::CheckTree                                                  => F::CT
File::Compare                                                    => F::C
File::Copy                                                       => *undef*
File::Copy::Recursive                                            => F::C::R
File::DesktopEntry                                               => F::DE
File::DosGlob                                                    => F::DosG
File::Fetch                                                      => F::F
File::Find                                                       => *undef*
File::Find::Object                                               => F::F::O
File::Find::Rule                                                 => F::F::R
File::Find::Rule::Perl                                           => F::F::R::P
File::Flat                                                       => *undef*
File::Glob                                                       => F::G
File::GlobMapper                                                 => F::GM
File::HomeDir                                                    => F::HDir
File::Listing                                                    => *undef*
File::MimeInfo                                                   => F::MI
File::Path                                                       => F::P
File::ReadBackwards                                              => F::RB
File::Remove                                                     => F::R
File::ShareDir                                                   => F::SDir
File::ShareDir::Install                                          => F::SDir::I
File::ShareDir::ProjectDistDir                                   => F::SDir::PDDir
File::Slurp                                                      => F::S
File::Slurp::Tiny                                                => F::S::T
File::Spec                                                       => *undef*
File::Spec::Cygwin                                               => F::S::C
File::Spec::Epoc                                                 => F::S::E
File::Spec::Functions                                            => F::S::F
File::Spec::Mac                                                  => F::S::Mac
File::Spec::OS2                                                  => F::S::OS2
File::Spec::Unix                                                 => F::S::U
File::Spec::VMS                                                  => F::S::VMS
File::Spec::Win32                                                => F::S::Win32
File::Temp                                                       => F::T
File::Where                                                      => F::W
File::Which                                                      => *undef*
File::chmod                                                      => F::c
File::pushd                                                      => F::p
File::stat                                                       => F::s
FileCache                                                        => FC
FileHandle                                                       => FH
Filesys::Notify::Simple                                          => F::N::S
Filesys::Statvfs                                                 => *undef*
Filter::Simple                                                   => *undef*
Filter::Util::Call                                               => F::U::C
FindBin                                                          => FBin
Font::AFM                                                        => F::AFM
FreezeThaw                                                       => FT
GDBM_File                                                        => GDBM_F
Games::BonDigi                                                   => G::BonD
Getopt::Long                                                     => G::L
Getopt::Long::Descriptive                                        => G::L::D
Getopt::Std                                                      => G::Std
GraphViz                                                         => GViz
HTML::Format                                                     => HTML::F
HTML::Lint                                                       => HTML::L
HTML::Parser                                                     => HTML::P
HTML::Tagset                                                     => HTML::T
HTML::Template::Pro                                              => HTML::T::Pro
HTML::Tree                                                       => *undef*
HTTP::Body                                                       => HTTP::B
HTTP::CookieJar                                                  => HTTP::CJar
HTTP::Cookies                                                    => HTTP::C
HTTP::Daemon                                                     => HTTP::D
HTTP::Date                                                       => *undef*
HTTP::Lite                                                       => HTTP::L
HTTP::Message                                                    => HTTP::M
HTTP::Negotiate                                                  => HTTP::N
HTTP::Parser::XS                                                 => HTTP::P::XS
HTTP::Request::AsCGI                                             => HTTP::R::AsCGI
HTTP::Request::Form                                              => HTTP::R::F
HTTP::Server::Simple                                             => HTTP::S::S
HTTP::Server::Simple::PSGI                                       => HTTP::S::S::PSGI
HTTP::Status::Const                                              => HTTP::S::C
HTTP::Tiny                                                       => HTTP::T
Hash::FieldHash                                                  => H::FH
Hash::Merge                                                      => H::M
Hash::Merge::Simple                                              => H::M::S
Hash::MoreUtils                                                  => H::MU
Hash::MultiValue                                                 => H::MV
Hash::Objectify                                                  => H::O
Hash::Util                                                       => H::U
Hash::Util::FieldHash                                            => H::U::FH
Hash::Util::FieldHash::Compat                                    => H::U::FH::C
Hook::AfterRuntime                                               => H::AR
Hook::LexWrap                                                    => H::LexW
I18N::Collate                                                    => I18N::C
I18N::LangTags                                                   => I18N::LT
I18N::LangTags::Detect                                           => I18N::LT::D
I18N::LangTags::List                                             => I18N::LT::L
I18N::Langinfo                                                   => I18N::L
IO::Capture                                                      => IO::C
IO::CaptureOutput                                                => IO::CO
IO::Compress                                                     => *undef*
IO::Compress::Adapter::Bzip2                                     => IO::C::A::B2
IO::Compress::Adapter::Deflate                                   => IO::C::A::D
IO::Compress::Adapter::Identity                                  => IO::C::A::I
IO::Compress::Base                                               => IO::C::B
IO::Compress::Base::Common                                       => IO::C::B::C
IO::Compress::Bzip2                                              => IO::C::B2
IO::Compress::Deflate                                            => IO::C::D
IO::Compress::Gzip                                               => IO::C::G
IO::Compress::Gzip::Constants                                    => IO::C::G::C
IO::Compress::RawDeflate                                         => IO::C::RawD
IO::Compress::Zip                                                => IO::C::Zip
IO::Compress::Zip::Constants                                     => IO::C::Zip::C
IO::Compress::Zlib::Constants                                    => IO::C::Z::C
IO::Compress::Zlib::Extra                                        => IO::C::Z::E
IO::File                                                         => IO::F
IO::Handle                                                       => IO::H
IO::Pipe                                                         => IO::P
IO::Pipely                                                       => *undef*
IO::Poll                                                         => *undef*
IO::Prompt::Tiny                                                 => IO::P::T
IO::Seekable                                                     => IO::S
IO::Select                                                       => *undef*
IO::Socket                                                       => *undef*
IO::Socket::INET                                                 => IO::S::INET
IO::Socket::INET6                                                => IO::S::INET6
IO::Socket::IP                                                   => IO::S::IP
IO::Socket::SSL                                                  => IO::S::SSL
IO::Socket::UNIX                                                 => IO::S::UNIX
IO::String                                                       => *undef*
IO::Stringy                                                      => *undef*
IO::TieCombine                                                   => IO::TieC
IO::Uncompress::Adapter::Bunzip2                                 => IO::U::A::B2
IO::Uncompress::Adapter::Identity                                => IO::U::A::I
IO::Uncompress::Adapter::Inflate                                 => *undef*
IO::Uncompress::AnyInflate                                       => IO::U::AnyI
IO::Uncompress::AnyUncompress                                    => IO::U::AnyU
IO::Uncompress::Base                                             => IO::U::B
IO::Uncompress::Bunzip2                                          => IO::U::B2
IO::Uncompress::Gunzip                                           => IO::U::G
IO::Uncompress::Inflate                                          => IO::U::I
IO::Uncompress::RawInflate                                       => IO::U::RawI
IO::Uncompress::Unzip                                            => IO::U::U
IO::Zlib                                                         => IO::Z
IPC::Open2                                                       => IPC::O2
IPC::Open3                                                       => IPC::O3
IPC::Semaphore                                                   => IPC::S
IPC::SharedMem                                                   => IPC::SMem
IPC::System::Simple                                              => IPC::S::S
Import::Into                                                     => I::I
Inline::C                                                        => I::C
JSON::MaybeXS                                                    => JSON::MXS
LWP::MediaTypes                                                  => LWP::MT
LWP::Protocol::https                                             => LWP::P::h
Lexical::SealRequireHints                                        => L::SRH
Lexical::Types                                                   => L::T
Lingua::EN::Inflect                                              => L::EN::I
List::AllUtils                                                   => L::AllU
List::MoreUtils                                                  => L::MU
List::Util                                                       => L::U
List::Util::PP                                                   => L::U::PP
List::Util::XS                                                   => L::U::XS
Locale-Maketext                                                  => L-M
Locale::Constants                                                => L::C
Locale::Country                                                  => *undef*
Locale::Currency                                                 => *undef*
Locale::Language                                                 => L::L
Locale::Maketext                                                 => L::M
Locale::Maketext::Guts                                           => L::M::G
Locale::Maketext::GutsLoader                                     => L::M::GL
Locale::Maketext::Simple                                         => L::M::S
Locale::Script                                                   => L::S
Locale::US                                                       => L::US
Log::Agent                                                       => Log::A
Log::Dispatch                                                    => Log::D
Log::Dispatch::Array                                             => Log::D::A
Log::Dispatch::Config                                            => Log::D::C
Log::Dispatchouli                                                => *undef*
Log::Log4perl                                                    => Log::Log4
Log::Message                                                     => Log::M
Log::Message::Config                                             => Log::M::C
Log::Message::Handlers                                           => Log::M::H
Log::Message::Item                                               => Log::M::I
Log::Message::Simple                                             => Log::M::S
MIME::Base64                                                     => MIME::B64
MIME::QuotedPrint                                                => MIME::QP
MIME::Types                                                      => MIME::T
MRO::Compat                                                      => MRO::C
Math::BigFloat                                                   => M::BigF
Math::BigFloat::Trace                                            => M::BigF::T
Math::BigInt                                                     => M::BigInt
Math::BigInt::Calc                                               => M::BigInt::C
Math::BigInt::CalcEmu                                            => M::BigInt::CEmu
Math::BigInt::FastCalc                                           => M::BigInt::FC
Math::BigInt::Trace                                              => M::BigInt::T
Math::BigRat                                                     => M::BigRat
Math::Complex                                                    => M::C
Math::Trig                                                       => M::T
Memoize::AnyDBM_File                                             => M::AnyDBM_F
Memoize::Expire                                                  => M::E
Memoize::ExpireFile                                              => M::EF
Memoize::ExpireTest                                              => M::ET
Memoize::NDBM_File                                               => M::NDBM_F
Memoize::SDBM_File                                               => M::SDBM_F
Memoize::Storable                                                => M::S
Meta::Builder                                                    => M::B
Metabase::Backend::SQL                                           => M::B::SQL
Metabase::Client::Simple                                         => M::C::S
Metabase::Fact                                                   => M::F
Mixin::Linewise                                                  => M::L
Mock::Quick                                                      => M::Q
Modern::Perl                                                     => M::P
Module::Build                                                    => *undef*
Module::Build::Base                                              => M::B::B
Module::Build::Compat                                            => M::B::C
Module::Build::Config                                            => *undef*
Module::Build::ConfigData                                        => M::B::CD
Module::Build::Cookbook                                          => *undef*
Module::Build::Dumper                                            => M::B::D
Module::Build::ModuleInfo                                        => M::B::MI
Module::Build::Notes                                             => M::B::N
Module::Build::PPMMaker                                          => M::B::PPMM
Module::Build::Platform::Amiga                                   => M::B::P::A
Module::Build::Platform::Default                                 => M::B::P::D
Module::Build::Platform::EBCDIC                                  => M::B::P::EBCDIC
Module::Build::Platform::MPEiX                                   => M::B::P::MPEiX
Module::Build::Platform::MacOS                                   => M::B::P::MacOS
Module::Build::Platform::RiscOS                                  => M::B::P::ROS
Module::Build::Platform::Unix                                    => M::B::P::U
Module::Build::Platform::VMS                                     => M::B::P::VMS
Module::Build::Platform::VOS                                     => M::B::P::VOS
Module::Build::Platform::Windows                                 => M::B::P::W
Module::Build::Platform::aix                                     => M::B::P::aix
Module::Build::Platform::cygwin                                  => M::B::P::c
Module::Build::Platform::darwin                                  => M::B::P::d
Module::Build::Platform::os2                                     => M::B::P::os2
Module::Build::PodParser                                         => M::B::PodP
Module::Build::Tiny                                              => M::B::T
Module::Build::Version                                           => M::B::V
Module::Build::XSUtil                                            => M::B::XSU
Module::Build::YAML                                              => M::B::YAML
Module::CPANTS::Analyse                                          => M::CPANTS::A
Module::CPANfile                                                 => M::CPAN
Module::CoreList                                                 => M::CL
Module::ExtractUse                                               => M::EUse
Module::Find                                                     => *undef*
Module::Implementation                                           => M::I
Module::Info                                                     => *undef*
Module::Install                                                  => *undef*
Module::Install::AuthorTests                                     => M::I::AT
Module::Install::ExtraTests                                      => M::I::ET
Module::Load                                                     => *undef*
Module::Load::Conditional                                        => M::L::C
Module::Loaded                                                   => *undef*
Module::Metadata                                                 => M::M
Module::Path                                                     => *undef*
Module::Pluggable                                                => *undef*
Module::Pluggable::Object                                        => M::P::O
Module::Refresh                                                  => M::R
Module::Runtime                                                  => *undef*
Module::Runtime::Conflicts                                       => M::R::C
Module::ScanDeps                                                 => M::SD
Module::Signature                                                => *undef*
Module::Util                                                     => M::U
MongoDB                                                          => MDB
MooX::HandlesVia                                                 => MooX::HVia
MooX::Role::Logger                                               => MooX::R::L
MooX::Types::MooseLike                                           => MooX::T::ML
MooX::Types::MooseLike::Numeric                                  => MooX::T::ML::N
Moose::Autobox                                                   => M::A
Moose::Policy                                                    => *undef*
MooseX                                                           => MX
MooseX::ABC                                                      => MX::ABC
MooseX::ABCD                                                     => MX::ABCD
MooseX::APIRole                                                  => MX::APIR
MooseX::AbstractFactory                                          => MX::AF
MooseX::AbstractMethod                                           => MX::AM
MooseX::Accessors::ReadWritePrivate                              => MX::A::RWP
MooseX::Aliases                                                  => MX::A
MooseX::Alien                                                    => *undef*
MooseX::AlwaysCoerce                                             => MX::AC
MooseX::App                                                      => MX::App
MooseX::App::Cmd                                                 => MX::App::Cmd
MooseX::App::Role::Log4perl                                      => MX::App::R::Log4
MooseX::ArrayRef                                                 => MX::ARef
MooseX::Async                                                    => *undef*
MooseX::Atom                                                     => *undef*
MooseX::Attribute::Chained                                       => MX::A::C
MooseX::Attribute::Prototype                                     => MX::A::P
MooseX::AttributeDefaults                                        => MX::AD
MooseX::AttributeHelpers                                         => MX::AH
MooseX::AttributeShortcuts                                       => MX::AS
MooseX::AttributeTree                                            => MX::AT
MooseX::AuthorizedMethodRoles                                    => MX::AMR
MooseX::AuthorizedMethods                                        => *undef*
MooseX::AutoImmute                                               => MX::AI
MooseX::BuildArgs                                                => MX::BA
MooseX::ClassAttribute                                           => MX::CA
MooseX::Clone                                                    => MX::C
MooseX::CoercePerAttribute                                       => MX::CPerA
MooseX::Collect                                                  => *undef*
MooseX::ConfigFromFile                                           => MX::CFF
MooseX::Configuration                                            => *undef*
MooseX::Constructor::AllErrors                                   => MX::C::AllE
MooseX::Contract                                                 => *undef*
MooseX::Control                                                  => *undef*
MooseX::CoverableModifiers                                       => MX::CM
MooseX::Daemonize                                                => MX::D
MooseX::Declare                                                  => *undef*
MooseX::EasyAcc                                                  => MX::EAcc
MooseX::Emulate::Class::Accessor::Fast                           => MX::E::C::A::F
MooseX::Error::Exception::Class                                  => MX::E::E::C
MooseX::Exception::Base                                          => MX::E::B
MooseX::ExtraArgs                                                => MX::EA
MooseX::FileAttribute                                            => MX::FA
MooseX::FollowPBP                                                => MX::FPBP
MooseX::Getopt                                                   => MX::G
MooseX::Getopt::Defanged                                         => MX::G::D
MooseX::GlobRef                                                  => MX::GRef
MooseX::HasDefaults                                              => MX::HasD
MooseX::InsideOut                                                => MX::IOut
MooseX::InstanceTracking                                         => MX::IT
MooseX::Iterator                                                 => MX::I
MooseX::LazyLogDispatch                                          => MX::LLogD
MooseX::LazyRequire                                              => MX::LR
MooseX::LeakCheck                                                => MX::LC
MooseX::Lexical::Types                                           => MX::L::T
MooseX::Locked                                                   => MX::L
MooseX::LogDispatch                                              => MX::LogD
MooseX::LvalueAttribute                                          => MX::LA
MooseX::Mangle                                                   => MX::M
MooseX::Meta::Attribute::Index                                   => MX::M::A::I
MooseX::Meta::TypeConstraint::ForceCoercion                      => MX::M::TC::FC
MooseX::Meta::TypeConstraint::Intersection                       => MX::M::TC::I
MooseX::MetaDescription                                          => MX::MD
MooseX::Method                                                   => *undef*
MooseX::Method::Signatures                                       => MX::M::S
MooseX::MethodAttributes                                         => MX::MA
MooseX::MultiInitArg                                             => MX::MIArg
MooseX::MultiMethods                                             => MX::MM
MooseX::MultiObject                                              => MX::MO
MooseX::Net::API                                                 => MX::Net::API
MooseX::NonMoose                                                 => MX::NonM
MooseX::Object::Pluggable                                        => MX::O::P
MooseX::OneArgNew                                                => MX::OneArgNew
MooseX::Params::Validate                                         => MX::P::V
MooseX::Policy::SemiAffordanceAccessor                           => MX::P::SAA
MooseX::Privacy                                                  => MX::P
MooseX::PrivateSetters                                           => MX::PS
MooseX::Q4MLog                                                   => MX::Q4MLog
MooseX::RW                                                       => MX::RW
MooseX::Role::AttributeOverride                                  => MX::R::AO
MooseX::Role::BuildInstanceOf                                    => MX::R::BIOf
MooseX::Role::Cmd                                                => MX::R::Cmd
MooseX::Role::Debugger                                           => MX::R::D
MooseX::Role::Listenable                                         => MX::R::L
MooseX::Role::Matcher                                            => MX::R::M
MooseX::Role::MongoDB                                            => MX::R::MDB
MooseX::Role::Parameterized                                      => MX::R::P
MooseX::Role::Pluggable                                          => *undef*
MooseX::Role::Restricted                                         => MX::R::R
MooseX::Role::WithOverloading                                    => MX::R::WO
MooseX::Runnable                                                 => MX::R
MooseX::Runnable::Fuse                                           => MX::R::F
MooseX::ScopedConfig                                             => MX::SC
MooseX::SemiAffordanceAccessor                                   => MX::SAA
MooseX::SetOnce                                                  => MX::SetO
MooseX::ShortCut::BuildInstance                                  => MX::SCut::BI
MooseX::SimpleConfig                                             => *undef*
MooseX::SingleArg                                                => MX::SArg
MooseX::SingletonMethod                                          => MX::SM
MooseX::SlurpyConstructor                                        => *undef*
MooseX::Storage                                                  => MX::S
MooseX::Storage::Format::JSONpm                                  => MX::S::F::JSONpm
MooseX::Storage::Format::XML::Simple                             => MX::S::F::XML::S
MooseX::StrictConstructor                                        => *undef*
MooseX::Templated                                                => MX::T
MooseX::TraitFor::Meta::Class::BetterAnonClassNames              => MX::TFor::M::C::BACN
MooseX::Traits                                                   => *undef*
MooseX::Traits::SetScalarByRef                                   => MX::T::SetSByRef
MooseX::TransactionalMethods                                     => MX::TM
MooseX::TypeMap                                                  => MX::TMap
MooseX::Types                                                    => *undef*
MooseX::Types::Authen::Passphrase                                => MX::T::A::P
MooseX::Types::Buf                                               => MX::T::Buf
MooseX::Types::Common                                            => MX::T::C
MooseX::Types::DBIx::Class                                       => MX::T::DBIx::C
MooseX::Types::Data::GUID                                        => MX::T::D::GUID
MooseX::Types::Data::Serializer                                  => MX::T::D::S
MooseX::Types::DateTime                                          => MX::T::DT
MooseX::Types::DateTime::ButMaintained                           => MX::T::DT::ButM
MooseX::Types::DateTime::MoreCoercions                           => MX::T::DT::MC
MooseX::Types::DateTime::MySQL                                   => MX::T::DT::MySQL
MooseX::Types::DateTime::W3C                                     => MX::T::DT::W3C
MooseX::Types::DateTimeX                                         => MX::T::DTX
MooseX::Types::Email                                             => MX::T::E
MooseX::Types::Email::Loose                                      => MX::T::E::L
MooseX::Types::GTIN                                              => MX::T::GTIN
MooseX::Types::HTTPMethod                                        => MX::T::HTTPM
MooseX::Types::IO                                                => MX::T::IO
MooseX::Types::ISO8601                                           => MX::T::ISO8601
MooseX::Types::Implements                                        => MX::T::I
MooseX::Types::LoadableClass                                     => MX::T::LC
MooseX::Types::Log::Dispatch                                     => MX::T::Log::D
MooseX::Types::Meta                                              => MX::T::M
MooseX::Types::NumUnit                                           => MX::T::NumU
MooseX::Types::PIS                                               => MX::T::PIS
MooseX::Types::Parameterizable                                   => MX::T::P
MooseX::Types::Path::Class                                       => MX::T::P::C
MooseX::Types::Path::Class::MoreCoercions                        => MX::T::P::C::MC
MooseX::Types::Path::Tiny                                        => MX::T::P::T
MooseX::Types::Perl                                              => *undef*
MooseX::Types::Ro                                                => MX::T::Ro
MooseX::Types::Set::Object                                       => MX::T::Set::O
MooseX::Types::Signal                                            => MX::T::S
MooseX::Types::Stringlike                                        => *undef*
MooseX::Types::Structured                                        => *undef*
MooseX::Types::URI                                               => MX::T::URI
MooseX::Types::UUID                                              => MX::T::UUID
MooseX::Types::UniStr                                            => MX::T::UniStr
MooseX::Types::Varchar                                           => MX::T::V
MooseX::Types::VariantTable                                      => MX::T::VT
MooseX::Types::Vehicle                                           => *undef*
MooseX::Types::XMLSchema                                         => MX::T::XMLS
MooseX::UndefTolerant                                            => MX::UT
MooseX::Unique                                                   => MX::U
MooseX::Util                                                     => *undef*
MooseX::amine                                                    => MX::a
Moped::Msg                                                       => M::Msg
Mozilla::CA                                                      => M::CA
NDBM_File                                                        => NDBM_F
Net::Config                                                      => Net::C
Net::Domain                                                      => Net::D
Net::Domain::TLD                                                 => Net::D::TLD
Net::FTP::dataconn                                               => Net::FTP::d
Net::IDN::Encode                                                 => Net::IDN::E
Net::Netrc                                                       => Net::N
Net::Ping                                                        => Net::P
Net::SSLeay                                                      => Net::SSL
Net::Server                                                      => Net::S
Net::Time                                                        => Net::T
Net::hostent                                                     => Net::h
Net::netent                                                      => Net::n
Net::protoent                                                    => Net::p
Net::servent                                                     => Net::s
Number::Compare                                                  => N::C
Number::Misc                                                     => N::M
ODBM_File                                                        => ODBM_F
OLE::Storage_Lite                                                => OLE::SL
OS2::ExtAttr                                                     => OS2::ExtA
OS2::Process                                                     => OS2::P
Object::Accessor                                                 => O::A
Olson::Abbreviations                                             => *undef*
PAR::Dist                                                        => PAR::D
PBKDF2::Tiny                                                     => PBKDF2::T
PHP::Serialization                                               => PHP::S
POE::Test::Loops                                                 => POE::T::L
POSIX::strftime::Compiler                                        => POSIX::s::C
PPIx::Regexp                                                     => PPIx::R
PPIx::Utilities                                                  => PPIx::U
PPerl                                                            => PP
Package::Constants                                               => P::C
Package::DeprecationManager                                      => P::DM
Package::Stash                                                   => P::S
Package::Stash::XS                                               => P::S::XS
Package::Variant                                                 => P::V
PadWalker                                                        => PadW
Parallel::Iterator                                               => P::I
Parallel::Runner                                                 => P::R
Params::Check                                                    => *undef*
Params::Classify                                                 => *undef*
Params::Coerce                                                   => *undef*
Params::Util                                                     => P::U
Params::Validate                                                 => *undef*
Parse::CPAN::Meta                                                => P::CPAN::M
Parse::Method::Signatures                                        => P::M::S
Parse::RecDescent                                                => P::RecD
Path::Class                                                      => *undef*
Path::FindDev                                                    => P::FDev
Path::IsDev                                                      => P::IsDev
Path::Router                                                     => *undef*
Path::Tiny                                                       => P::T
Perl6::Junction                                                  => P6::J
Perl::Critic                                                     => *undef*
Perl::Critic::More                                               => P::C::M
Perl::MinimumVersion                                             => P::MV
Perl::OSType                                                     => P::OST
Perl::PrereqScanner                                              => P::PS
Perl::Tidy                                                       => *undef*
Perl::Version                                                    => *undef*
PerlIO                                                           => PIO
PerlIO::encoding                                                 => PIO::e
PerlIO::scalar                                                   => PIO::s
PerlIO::utf8_strict                                              => PIO::utf8
PerlIO::via                                                      => PIO::via
PerlIO::via::QuotedPrint                                         => PIO::via::QP
Physics::Unit                                                    => *undef*
Plack::Middleware::FixMissingBodyInRedirect                      => P::M::FixMBInR
Plack::Middleware::MethodOverride                                => P::M::MO
Plack::Middleware::RemoveRedundantBody                           => P::M::RRB
Plack::Middleware::ReverseProxy                                  => P::M::RP
Plack::Test::ExternalServer                                      => P::T::ES
Pod::Checker                                                     => Pod::C
Pod::Coverage                                                    => *undef*
Pod::Coverage::Moose                                             => Pod::C::M
Pod::Coverage::TrustPod                                          => Pod::C::TPod
Pod::Elemental                                                   => Pod::E
Pod::Elemental::PerlMunger                                       => Pod::E::PM
Pod::Escapes                                                     => *undef*
Pod::Eventual                                                    => *undef*
Pod::Find                                                        => Pod::F
Pod::Functions                                                   => *undef*
Pod::Html                                                        => Pod::H
Pod::InputObjects                                                => Pod::IO
Pod::Markdown                                                    => Pod::M
Pod::ParseLink                                                   => Pod::PL
Pod::ParseUtils                                                  => Pod::PU
Pod::Parser                                                      => Pod::P
Pod::Perldoc                                                     => *undef*
Pod::Perldoc::BaseTo                                             => Pod::P::BTo
Pod::Perldoc::GetOptsOO                                          => Pod::P::GetOOO
Pod::Perldoc::ToChecker                                          => Pod::P::ToC
Pod::Perldoc::ToMan                                              => Pod::P::ToMan
Pod::Perldoc::ToNroff                                            => Pod::P::ToN
Pod::Perldoc::ToPod                                              => Pod::P::ToPod
Pod::Perldoc::ToRtf                                              => Pod::P::ToRtf
Pod::Perldoc::ToText                                             => Pod::P::ToT
Pod::Perldoc::ToTk                                               => Pod::P::ToTk
Pod::Perldoc::ToXml                                              => Pod::P::ToXml
Pod::PlainText                                                   => Pod::PT
Pod::Plainer                                                     => *undef*
Pod::Readme                                                      => Pod::R
Pod::Select                                                      => Pod::S
Pod::Simple                                                      => *undef*
Pod::Simple::BlackBox                                            => Pod::S::BBox
Pod::Simple::Checker                                             => Pod::S::C
Pod::Simple::Debug                                               => Pod::S::D
Pod::Simple::DumpAsText                                          => Pod::S::DAsT
Pod::Simple::DumpAsXML                                           => Pod::S::DAsXML
Pod::Simple::HTML                                                => Pod::S::HTML
Pod::Simple::HTMLBatch                                           => Pod::S::HTMLB
Pod::Simple::HTMLLegacy                                          => Pod::S::HTMLL
Pod::Simple::LaTeX                                               => Pod::S::LaTeX
Pod::Simple::LinkSection                                         => Pod::S::LS
Pod::Simple::Methody                                             => Pod::S::M
Pod::Simple::Progress                                            => Pod::S::P
Pod::Simple::PullParser                                          => Pod::S::PP
Pod::Simple::PullParserEndToken                                  => Pod::S::PPEndT
Pod::Simple::PullParserStartToken                                => Pod::S::PPST
Pod::Simple::PullParserTextToken                                 => Pod::S::PPTT
Pod::Simple::PullParserToken                                     => Pod::S::PPT
Pod::Simple::RTF                                                 => Pod::S::RTF
Pod::Simple::Search                                              => Pod::S::S
Pod::Simple::SimpleTree                                          => Pod::S::ST
Pod::Simple::Text                                                => Pod::S::T
Pod::Simple::TextContent                                         => Pod::S::TC
Pod::Simple::TiedOutFH                                           => Pod::S::TOutFH
Pod::Simple::Transcode                                           => *undef*
Pod::Simple::TranscodeDumb                                       => Pod::S::TD
Pod::Simple::TranscodeSmart                                      => Pod::S::TS
Pod::Simple::XHTML                                               => Pod::S::XHTML
Pod::Simple::XMLOutStream                                        => Pod::S::XMLOutS
Pod::Spell                                                       => *undef*
Pod::Spelling                                                    => *undef*
Pod::Strip                                                       => *undef*
Pod::Tests                                                       => Pod::T
Pod::Text                                                        => *undef*
Pod::Text::Color                                                 => Pod::T::C
Pod::Text::Overstrike                                            => Pod::T::O
Pod::Text::Termcap                                               => Pod::T::T
Pod::Usage                                                       => Pod::U
Probe::Perl                                                      => P::P
Queue::Q4M                                                       => Q::Q4M
RDF::Trine                                                       => RDF::T
Readonly::XS                                                     => R::XS
Regexp::Common                                                   => R::C
Regexp::SQL::LIKE                                                => R::SQL::LIKE
Role::HasMessage                                                 => R::HasM
Role::Identifiable                                               => R::I
Role::Tiny                                                       => R::T
SDBM_File                                                        => SDBM_F
SQL::Abstract                                                    => SQL::A
SQL::Translator                                                  => SQL::T
Safe::Isa                                                        => S::Isa
Scalar::Accessors::LikeHash                                      => S::A::LH
Scalar::String                                                   => S::S
Scalar::Util                                                     => S::U
Scalar::Util::PP                                                 => S::U::PP
Scope::Guard                                                     => S::G
Scope::Upper                                                     => *undef*
Search::Dict                                                     => S::D
SelectSaver                                                      => SS
SelfLoader                                                       => SL
Set::Infinite                                                    => Set::I
Set::Object                                                      => Set::O
Set::Scalar                                                      => Set::S
Smart::Comments                                                  => S::C
Socket6                                                          => S6
Socket::GetAddrInfo                                              => S::GetAI
Software::License                                                => S::L
Software::License::CCpack                                        => S::L::CC
Spreadsheet::ParseExcel                                          => S::PE
Stream::Buffered                                                 => S::B
String::CRC32                                                    => S::CRC32
String::Errf                                                     => S::E
String::Flogger                                                  => S::F
String::Format                                                   => *undef*
String::Formatter                                                => *undef*
String::RewritePrefix                                            => S::RP
String::Truncate                                                 => S::T
String::Util                                                     => *undef*
Sub::Exporter                                                    => Sub::E
Sub::Exporter::ForMethods                                        => Sub::E::ForM
Sub::Exporter::GlobExporter                                      => Sub::E::GE
Sub::Exporter::Progressive                                       => Sub::E::P
Sub::Identify                                                    => Sub::I
Sub::Install                                                     => *undef*
Sub::Name                                                        => Sub::N
Sub::Uplevel                                                     => Sub::U
Symbol::Util                                                     => *undef*
Syntax::Keyword::Junction                                        => S::K::J
Sys::Hostname                                                    => Sys::H
Sys::Syslog                                                      => Sys::S
Sys::Syslog::win32::Win32                                        => Sys::S::win32::Win32
TAP::Base                                                        => TAP::B
TAP::Formatter::Base                                             => TAP::F::B
TAP::Formatter::Color                                            => TAP::F::C
TAP::Formatter::Console                                          => *undef*
TAP::Formatter::Console::ParallelSession                         => TAP::F::C::PS
TAP::Formatter::Console::Session                                 => TAP::F::C::S
TAP::Formatter::File                                             => TAP::F::F
TAP::Formatter::File::Session                                    => TAP::F::F::S
TAP::Formatter::Session                                          => TAP::F::S
TAP::Harness                                                     => TAP::H
TAP::Object                                                      => TAP::O
TAP::Parser                                                      => TAP::P
TAP::Parser::Aggregator                                          => TAP::P::A
TAP::Parser::Grammar                                             => TAP::P::G
TAP::Parser::Iterator                                            => TAP::P::I
TAP::Parser::Iterator::Array                                     => TAP::P::I::A
TAP::Parser::Iterator::Process                                   => TAP::P::I::P
TAP::Parser::Iterator::Stream                                    => TAP::P::I::S
TAP::Parser::IteratorFactory                                     => TAP::P::IF
TAP::Parser::Multiplexer                                         => TAP::P::M
TAP::Parser::Result                                              => TAP::P::R
TAP::Parser::Result::Bailout                                     => TAP::P::R::B
TAP::Parser::Result::Comment                                     => TAP::P::R::C
TAP::Parser::Result::Plan                                        => TAP::P::R::P
TAP::Parser::Result::Pragma                                      => *undef*
TAP::Parser::Result::Test                                        => TAP::P::R::T
TAP::Parser::Result::Unknown                                     => TAP::P::R::U
TAP::Parser::Result::Version                                     => TAP::P::R::V
TAP::Parser::Result::YAML                                        => TAP::P::R::YAML
TAP::Parser::ResultFactory                                       => TAP::P::RF
TAP::Parser::Scheduler                                           => TAP::P::S
TAP::Parser::Scheduler::Job                                      => TAP::P::S::Job
TAP::Parser::Scheduler::Spinner                                  => TAP::P::S::S
TAP::Parser::Source                                              => *undef*
TAP::Parser::Source::Perl                                        => TAP::P::S::P
TAP::Parser::Utils                                               => TAP::P::U
TAP::Parser::YAMLish::Reader                                     => TAP::P::YAML::R
TAP::Parser::YAMLish::Writer                                     => TAP::P::YAML::W
TAP::SimpleOutput                                                => TAP::SO
Task::CPAN::Reporter                                             => T::CPAN::R
Task::Metabase                                                   => T::M
Task::Weaken                                                     => T::W
Template::Timer                                                  => T::T
Term::ANSIColor                                                  => T::ANSIC
Term::Cap                                                        => T::Cap
Term::Complete                                                   => T::C
Term::Encoding                                                   => T::E
Term::Info                                                       => T::I
Term::ReadKey                                                    => T::RKey
Term::ReadLine                                                   => T::RL
Term::ReadLine::Gnu                                              => T::RL::Gnu
Term::Size                                                       => T::S
Term::UI                                                         => T::UI
Term::UI::History                                                => T::UI::H
Test::API                                                        => T::API
Test::Able                                                       => T::A
Test::Able::Runner                                               => T::A::R
Test::AbstractMethod                                             => T::AM
Test::AgainstSchema                                              => T::AS
Test::Aggregate                                                  => *undef*
Test::AllModules                                                 => T::AllM
Test::AskAnExpert                                                => T::AskAnE
Test::Assert                                                     => *undef*
Test::AtRuntime                                                  => T::AtR
Test::Attribute::AutoLevel                                       => T::A::AL
Test::Base                                                       => T::B
Test::Behaviour::Spec                                            => T::B::S
Test::Benchmark                                                  => *undef*
Test::BinaryData                                                 => T::BD
Test::Bits                                                       => *undef*
Test::Block                                                      => *undef*
Test::Bomb                                                       => *undef*
Test::Builder                                                    => *undef*
Test::Builder::Clutch                                            => T::B::C
Test::Builder::Compat                                            => *undef*
Test::Builder::Module                                            => T::B::M
Test::Builder::Tester                                            => T::B::T
Test::Builder::Tester::Color                                     => T::B::T::C
Test::CChecker                                                   => T::CC
Test::CGI::External                                              => T::CGI::E
Test::CPAN::Changes::ReallyStrict                                => T::CPAN::C::RS
Test::CPAN::Meta                                                 => T::CPAN::M
Test::CPAN::Meta::JSON                                           => T::CPAN::M::JSON
Test::CallCounter                                                => *undef*
Test::CallFlow                                                   => T::CF
Test::Carp                                                       => *undef*
Test::CheckChanges                                               => *undef*
Test::CheckDeps                                                  => T::CD
Test::CheckManifest                                              => T::CM
Test::Class                                                      => *undef*
Test::Class::Moose                                               => T::C::M
Test::Class::Most                                                => *undef*
Test::Class::Sugar                                               => T::C::S
Test::ClassAPI                                                   => T::CAPI
Test::Classy                                                     => *undef*
Test::CleanNamespaces                                            => T::CN
Test::Cmd                                                        => T::Cmd
Test::Command                                                    => *undef*
Test::Command::Simple                                            => *undef*
Test::Compile                                                    => *undef*
Test::Config::System                                             => *undef*
Test::ConsistentVersion                                          => T::CV
Test::Count                                                      => *undef*
Test::Cucumber::Tiny                                             => T::C::T
Test::Cukes                                                      => *undef*
Test::DBIC::Schema::Connector                                    => T::DBIC::S::C
Test::DBICSchemaLoaderDigest                                     => T::DBICSLD
Test::DBIx::Class::Schema                                        => T::DBIx::C::S
Test::DNS                                                        => T::DNS
Test::Data                                                       => T::D
Test::DataDirs                                                   => T::DD
Test::DatabaseRow                                                => T::DRow
Test::Debian                                                     => *undef*
Test::Debugger                                                   => *undef*
Test::Declare                                                    => *undef*
Test::Deep                                                       => *undef*
Test::Deep::Between                                              => T::D::B
Test::Deep::Cond                                                 => T::D::C
Test::Deep::JSON                                                 => T::D::JSON
Test::Deep::This                                                 => T::D::T
Test::Deep::Type                                                 => *undef*
Test::Deep::UnorderedPairs                                       => T::D::UP
Test::Deep::YAML                                                 => T::D::YAML
Test::DeepFile                                                   => T::DF
Test::Depends                                                    => *undef*
Test::Detect                                                     => *undef*
Test::Device::SerialPort                                         => T::D::SP
Test::DiagINC                                                    => T::DINC
Test::DiagRef                                                    => T::DRef
Test::Differences                                                => *undef*
Test::Dir                                                        => T::Dir
Test::Directory                                                  => *undef*
Test::Dist::VersionSync                                          => T::D::VS
Test::Distribution                                               => *undef*
Test::Dynamic                                                    => *undef*
Test::EOF                                                        => T::EOF
Test::EOL                                                        => T::EOL
Test::Env                                                        => T::Env
Test::Excel                                                      => *undef*
Test::Exception                                                  => *undef*
Test::Exception::LessClever                                      => T::E::LC
Test::Exit                                                       => *undef*
Test::Exports                                                    => *undef*
Test::FIT                                                        => T::FIT
Test::FITesque                                                   => *undef*
Test::FailWarnings                                               => T::FW
Test::Fatal                                                      => T::F
Test::Fatal::matchfor                                            => T::F::m
Test::File::Cleaner                                              => T::F::C
Test::File::Content                                              => *undef*
Test::File::Contents                                             => *undef*
Test::File::Find::Rule                                           => T::F::F::R
Test::File::ShareDir                                             => T::F::SDir
Test::FileReferenced                                             => T::FR
Test::Filename                                                   => *undef*
Test::Files                                                      => *undef*
Test::Filesystem                                                 => *undef*
Test::Fixme                                                      => *undef*
Test::Flatten                                                    => *undef*
Test::Fork                                                       => *undef*
Test::Formats                                                    => *undef*
Test::GetVolatileData                                            => T::GetVD
Test::Given                                                      => T::G
Test::Glade                                                      => *undef*
Test::GreaterVersion                                             => T::GV
Test::Groonga                                                    => *undef*
Test::Group                                                      => *undef*
Test::HTML::Content                                              => T::HTML::C
Test::HTTP::Response                                             => T::HTTP::R
Test::HTTP::Server                                               => T::HTTP::S
Test::Harness                                                    => T::H
Test::Inline                                                     => *undef*
Test::Inspector                                                  => *undef*
Test::JSON                                                       => T::JSON
Test::Kwalitee                                                   => T::K
Test::LeakTrace                                                  => T::LT
Test::Manifest                                                   => *undef*
Test::Memory::Cycle                                              => T::M::C
Test::MinimumVersion                                             => T::MV
Test::MockModule                                                 => T::MM
Test::MockObject                                                 => T::MO
Test::MockTime                                                   => T::MT
Test::Moose::More                                                => T::M::M
Test::More                                                       => *undef*
Test::Most                                                       => *undef*
Test::NoBreakpoints                                              => T::NoB
Test::NoTabs                                                     => T::NoT
Test::NoWarnings                                                 => T::NoW
Test::Number::Delta                                              => T::N::D
Test::Object                                                     => T::O
Test::Output                                                     => *undef*
Test::Perl::Critic                                               => T::P::C
Test::Pod                                                        => T::Pod
Test::Pod::Coverage                                              => T::Pod::C
Test::Reporter                                                   => T::R
Test::Reporter::Transport::Metabase                              => T::R::T::M
Test::Requires                                                   => *undef*
Test::Routine                                                    => *undef*
Test::Script                                                     => *undef*
Test::SharedFork                                                 => T::SF
Test::Simple                                                     => *undef*
Test::SubCalls                                                   => T::SubC
Test::TCP                                                        => T::TCP
Test::TableDriven                                                => T::TD
Test::Taint                                                      => *undef*
Test::Trap                                                       => *undef*
Test::Unit::Lite                                                 => T::U::L
Test::UseAllModules                                              => T::UseAllM
Test::Warn                                                       => *undef*
Test::Warnings                                                   => *undef*
Test::Without::Module                                            => T::W::M
Test::YAML                                                       => T::YAML
Text-Wrap                                                        => T-W
Text::Abbrev                                                     => *undef*
Text::Aligner                                                    => *undef*
Text::Autoformat                                                 => *undef*
Text::Balanced                                                   => *undef*
Text::CSV                                                        => T::CSV
Text::Diff                                                       => *undef*
Text::Glob                                                       => *undef*
Text::ParseWords                                                 => T::PW
Text::RecordParser                                               => T::RP
Text::Reform                                                     => *undef*
Text::SimpleTable                                                => T::ST
Text::Soundex                                                    => *undef*
Text::Table                                                      => *undef*
Text::Tabs                                                       => *undef*
Text::TabularDisplay                                             => *undef*
Text::Template                                                   => *undef*
Text::Wrap                                                       => *undef*
Thread::Queue                                                    => T::Q
Thread::Semaphore                                                => *undef*
Tie::Array                                                       => Tie::A
Tie::File                                                        => Tie::F
Tie::Handle                                                      => Tie::H
Tie::Hash                                                        => *undef*
Tie::Hash::NamedCapture                                          => Tie::H::NC
Tie::IxHash                                                      => Tie::IxH
Tie::Memoize                                                     => Tie::M
Tie::RefHash                                                     => Tie::RefH
Tie::Scalar                                                      => Tie::S
Tie::StdHandle                                                   => Tie::StdH
Tie::SubstrHash                                                  => Tie::SH
Tie::ToObject                                                    => Tie::ToO
Time::Duration                                                   => *undef*
Time::Duration::Parse                                            => T::D::P
Time::HiRes                                                      => T::HiRes
Time::Local                                                      => T::L
Time::Mock                                                       => *undef*
Time::Piece                                                      => T::P
Time::Seconds                                                    => *undef*
Time::gmtime                                                     => T::g
Time::localtime                                                  => T::l
Time::tm                                                         => T::tm
Tree::Simple                                                     => *undef*
Tree::Simple::VisitorFactory                                     => T::S::VF
Try::Tiny                                                        => Try::T
TryCatch                                                         => TryC
Type::Tie                                                        => T::Tie
Type::Tiny                                                       => *undef*
Type::Tiny::XS                                                   => T::T::XS
Types::Serialiser                                                => *undef*
UNIVERSAL::moniker                                               => UNIVERSAL::m
UNIVERSAL::require                                               => UNIVERSAL::r
URI::FromHash                                                    => URI::FH
Unicode::Collate                                                 => U::C
Unicode::Normalize                                               => U::N
Unicode::Stringprep                                              => U::S
Unicode::UCD                                                     => U::UCD
Unicode::UTF8                                                    => U::UTF8
Unix::Mknod                                                      => U::M
User::grent                                                      => U::g
User::pwent                                                      => U::p
VMS::DCLsym                                                      => VMS::DCL
VMS::Filespec                                                    => VMS::F
VMS::Stdio                                                       => VMS::S
Variable::Magic                                                  => V::M
WWW::RobotRules                                                  => WWW::RR
WeakRef                                                          => WRef
Win32API::File                                                   => Win32API::F
Win32API::File::ExtUtils::Myconst2perl                           => Win32API::F::ExtU::M2
XML::CommonNS                                                    => XML::CNS
XML::Dumper                                                      => XML::D
XML::Namespace                                                   => XML::N
XML::NamespaceFactory                                            => XML::NF
XML::NamespaceSupport                                            => XML::NS
XML::Parser                                                      => XML::P
XML::SAX::Base                                                   => XML::SAX::B
XML::SAX::Expat                                                  => XML::SAX::E
XML::Simple                                                      => XML::S
XML::Twig                                                        => XML::T
XML::Writer                                                      => XML::W
XML::XPath                                                       => XML::XP
XS::APItest                                                      => XS::API
XS::Typemap                                                      => XS::T
XSLoader                                                         => XSL
YAML::Syck                                                       => YAML::S
YAML::Tiny                                                       => YAML::T
autobox::Core                                                    => a::C
autobox::Junctions                                               => a::J
autodie::exception                                               => a::e
autodie::exception::system                                       => a::e::s
autodie::hints                                                   => a::h
bareword::filehandles                                            => b::f
common::sense                                                    => c::s
constant::boolean                                                => c::b
encoding::warnings                                               => e::w
namespace::autoclean                                             => n::a
namespace::clean                                                 => n::c
overload::numbers                                                => o::n
threads::shared                                                  => t::s
warnings::everywhere                                             => w::e
warnings::register                                               => w::r
t/10-check.t ................. ok
t/author-critic.t ............ skipped: these tests are for testing by the author
t/author-test-eol.t .......... skipped: these tests are for testing by the author
t/release-cpan-changes.t ..... skipped: these tests are for release candidate testing
t/release-dist-manifest.t .... skipped: these tests are for release candidate testing
t/release-distmeta.t ......... skipped: these tests are for release candidate testing
t/release-kwalitee.t ......... skipped: these tests are for release candidate testing
t/release-minimum-version.t .. skipped: these tests are for release candidate testing
t/release-mojibake.t ......... skipped: these tests are for release candidate testing
t/release-no-tabs.t .......... skipped: these tests are for release candidate testing
t/release-pod-coverage.t ..... skipped: these tests are for release candidate testing
t/release-pod-linkcheck.t .... skipped: these tests are for release candidate testing
t/release-pod-syntax.t ....... skipped: these tests are for release candidate testing
t/release-portability.t ...... skipped: these tests are for release candidate testing
t/release-test-version.t ..... skipped: these tests are for release candidate testing
t/release-unused-vars.t ...... skipped: these tests are for release candidate testing
All tests successful.
Files=18, Tests=4, 61 wallclock secs ( 0.44 usr  0.09 sys + 13.23 cusr  2.10 csys = 15.86 CPU)
Result: PASS

------------------------------
PREREQUISITES
------------------------------

Prerequisite modules loaded:

requires:

    Module              Need Have      
    ------------------- ---- ----------
    File::HomeDir       0    1.00      
    List::MoreUtils     0    0.404     
    Module::CoreList    0    5.20150120

build_requires:

    Module              Need Have      
    ------------------- ---- ----------
    ExtUtils::MakeMaker 0    7.04      

configure_requires:

    Module              Need Have      
    ------------------- ---- ----------
    ExtUtils::MakeMaker 6.30 7.04      


------------------------------
ENVIRONMENT AND OTHER CONTEXT
------------------------------

Environment variables:

    AUTOMATED_TESTING = 1
    LANG = en_US.utf8
    NONINTERACTIVE_TESTING = 1
    PATH = /usr/lib/qt-3.3/bin:/usr/kerberos/sbin:/usr/kerberos/bin:/usr/lib/ccache:/usr/local/sbin:/usr/sbin:/sbin:/usr/local/bin:/usr/bin:/bin:/usr/lib/firebird/bin:/opt/real/RealPlayer:/root/bin:/usr/lib/firebird/bin:/opt/real/RealPlayer
    PERL5LIB = 
    PERL5OPT = 
    PERL5_CPANPLUS_IS_RUNNING = 3298
    PERL5_CPAN_IS_RUNNING = 3298
    PERL_MM_USE_DEFAULT = 1
    PERL_PARALLEL_SMOKER = yes
    SHELL = /bin/bash
    TERM = xterm

Perl special variables (and OS-specific diagnostics, for MSWin32):

    $^X = /opt/perlcc5-32-O0-5.10.1/bin/perl
    $UID/$EUID = 0 / 0
    $GID = 0 0 1 2 3 4 6 10
    $EGID = 0 0 1 2 3 4 6 10

Perl module toolchain versions installed:

    Module              Have    
    ------------------- --------
    CPAN                2.05    
    CPAN::Meta          2.143240
    Cwd                 3.47    
    ExtUtils::CBuilder  0.280220
    ExtUtils::Command   1.16    
    ExtUtils::Install   2.04    
    ExtUtils::MakeMaker 7.04    
    ExtUtils::Manifest  1.70    
    ExtUtils::ParseXS   3.24    
    File::Spec          3.47    
    JSON                2.90    
    JSON::PP            2.27300 
    Module::Build       0.4211  
    Module::Signature   0.73    
    Parse::CPAN::Meta   1.4414  
    Test::Harness       3.35    
    Test::More          1.001014
    YAML                1.14    
    YAML::Syck          1.29    
    version             0.9912  


--

Summary of my perl5 (revision 5 version 10 subversion 1) configuration:
   
  Platform:
    osname=linux, osvers=2.6.32.63, archname=i686-linux-thread-multi-64int-ld
    uname='linux localhost.localdomain 2.6.32.63 #2 smp fri jan 30 10:45:01 pst 2015 i686 i686 i386 gnulinux '
    config_args='-Dcc=/opt/bin/gcc -Dprefix=/opt/perlcc5-32-O0-5.10.1 -DDEBUGGING'
    hint=recommended, useposix=true, d_sigaction=define
    useithreads=define, usemultiplicity=define
    useperlio=define, d_sfio=undef, uselargefiles=define, usesocks=undef
    use64bitint=define, use64bitall=undef, uselongdouble=define
    usemymalloc=y, bincompat5005=undef
  Compiler:
    cc='/opt/bin/gcc', ccflags ='-D_REENTRANT -D_GNU_SOURCE -DDEBUGGING -fno-strict-aliasing -pipe -fstack-protector -I/usr/local/include -D_LARGEFILE_SOURCE -D_FILE_OFFSET_BITS=64',
    optimize='-O0 -g',
    cppflags='-D_REENTRANT -D_GNU_SOURCE -DDEBUGGING -fno-strict-aliasing -pipe -fstack-protector -I/usr/local/include'
    ccversion='', gccversion='5.0.0 20140817 (experimental)', gccosandvers=''
    intsize=4, longsize=4, ptrsize=4, doublesize=8, byteorder=12345678
    d_longlong=define, longlongsize=8, d_longdbl=define, longdblsize=12
    ivtype='long long', ivsize=8, nvtype='long double', nvsize=12, Off_t='off_t', lseeksize=8
    alignbytes=4, prototype=define
  Linker and Libraries:
    ld='/opt/bin/gcc', ldflags =' -fstack-protector -L/usr/local/lib'
    libpth=/usr/local/lib /lib /usr/lib
    libs=-lnsl -lgdbm -ldb -ldl -lm -lcrypt -lutil -lpthread -lc
    perllibs=-lnsl -ldl -lm -lcrypt -lutil -lpthread -lc
    libc=/lib/libc-2.8.so, so=so, useshrplib=true, libperl=libperl.so
    gnulibc_version='2.8'
  Dynamic Linking:
    dlsrc=dl_dlopen.xs, dlext=so, d_dlsymun=undef, ccdlflags='-Wl,-E -Wl,-rpath,/opt/perlcc5-32-O0-5.10.1/lib/5.10.1/i686-linux-thread-multi-64int-ld/CORE'
    cccdlflags='-fPIC', lddlflags='-shared -O0 -g -L/usr/local/lib -fstack-protector'


Characteristics of this binary (from libperl): 
  Compile-time options: DEBUGGING MULTIPLICITY MYMALLOC PERL_DONT_CREATE_GVSV
                        PERL_IMPLICIT_CONTEXT PERL_MAD PERL_MALLOC_WRAP
                        PERL_TRACK_MEMPOOL USE_64_BIT_INT USE_FAST_STDIO
                        USE_ITHREADS USE_LARGE_FILES USE_LONG_DOUBLE
                        USE_PERLIO USE_REENTRANT_API
  Built under linux
  Compiled at Jan 30 2015 14:10:53
  %ENV:
    PERL5LIB=""
    PERL5OPT=""
    PERL5_CPANPLUS_IS_RUNNING="3298"
    PERL5_CPAN_IS_RUNNING="3298"
    PERL_MM_USE_DEFAULT="1"
    PERL_PARALLEL_SMOKER="yes"
  @INC:
    /opt/perlcc5-32-O0-5.10.1/lib/5.10.1/i686-linux-thread-multi-64int-ld
    /opt/perlcc5-32-O0-5.10.1/lib/5.10.1
    /opt/perlcc5-32-O0-5.10.1/lib/site_perl/5.10.1/i686-linux-thread-multi-64int-ld
    /opt/perlcc5-32-O0-5.10.1/lib/site_perl/5.10.1
    .