JSON-Pointer v0.07 Perl 5 v5.24.0 evbarm-netbsd-thread-multi

Status
Pass
From
Nigel Horne
Dist
JSON-Pointer v0.07
Platform
Perl 5 v5.24.0 evbarm-netbsd-thread-multi
Date
2018-05-10 14:11:35
ID
0c633e62-545c-11e8-9da6-f703c768dc7a
This distribution has been tested as part of the CPAN Testers
project, supporting the Perl programming language.  See
http://wiki.cpantesters.org/ for more information or email
questions to cpan-testers-discuss@perl.org


--
Dear Toru Yamaguchi,

This is a computer-generated report for JSON-Pointer-0.07
on perl 5.24.0, created by CPAN-Reporter-1.2018.

Thank you for uploading your work to CPAN.  Congratulations!
All tests were successful.

Sections of this report:

    * Tester comments
    * Program output
    * Prerequisites
    * Environment and other context

------------------------------
TESTER COMMENTS
------------------------------

Additional comments from tester:

this report is from an automated smoke testing program
and was not reviewed by a human for accuracy

------------------------------
PROGRAM OUTPUT
------------------------------

Output from './Build test':

t/000_load.t ............................. ok
t/001_traverse.t ......................... ok
t/002_get.t .............................. ok
t/003_mojo_json_pointer_compat.t ......... ok
t/004_add.t .............................. ok
t/005_remove.t ........................... ok
t/006_replace.t .......................... ok
t/007_copy.t ............................. ok
t/008_move.t ............................. ok
t/009_test.t ............................. ok
t/010_get_relative.t ..................... ok
t/rt/89773.t ............................. ok
t/syntax/001_unescape_reference_token.t .. ok
t/syntax/002_escape_reference_token.t .... ok
t/syntax/003_tokenize.t .................. ok
t/syntax/004_as_pointer.t ................ ok
t/syntax/005_is_array_numeric_index.t .... ok
All tests successful.
Files=17, Tests=63, 33 wallclock secs ( 0.90 usr  0.64 sys + 12.04 cusr 17.35 csys = 30.93 CPU)
Result: PASS

------------------------------
PREREQUISITES
------------------------------

Prerequisite modules loaded:

requires:

    Module                Need     Have    
    --------------------- -------- --------
    B                     0        1.62    
    Carp                  1.20     1.40    
    Class::Accessor::Lite 0.05     0.08    
    Clone                 0.36     0.39    
    Exporter              0        5.72    
    JSON                  2.53     2.97001 
    perl                  5.008001 5.024000
    URI::Escape           3.31     3.31    

build_requires:

    Module                Need     Have    
    --------------------- -------- --------
    ExtUtils::CBuilder    0        0.280225
    Test::Exception       0.31     0.43    
    Test::More            0.98     1.302073

configure_requires:

    Module                Need     Have    
    --------------------- -------- --------
    CPAN::Meta            0        2.150010
    CPAN::Meta::Prereqs   0        2.150010
    Module::Build         0.38     0.4224  


------------------------------
ENVIRONMENT AND OTHER CONTEXT
------------------------------

Environment variables:

    AUTOMATED_TESTING = 1
    PATH = /home/njh/perl5/perlbrew/bin:/home/njh/perl5/perlbrew/perls/perl-5.24.0/bin:src/njh/smoker/bin:/usr/bin:/bin:/usr/pkg/bin:/usr/local/bin
    PERL5LIB = /home/njh/.cpan/build/JSON-2.97001-0/blib/arch:/home/njh/.cpan/build/JSON-2.97001-0/blib/lib:/home/njh/.cpan/build/Clone-0.39-0/blib/arch:/home/njh/.cpan/build/Clone-0.39-0/blib/lib:/home/njh/.cpan/build/Class-Accessor-Lite-0.08-0/blib/arch:/home/njh/.cpan/build/Class-Accessor-Lite-0.08-0/blib/lib:/home/njh/.cpan/build/Module-Build-0.4224-0/blib/arch:/home/njh/.cpan/build/Module-Build-0.4224-0/blib/lib:/home/njh/.cpan/build/JSON-MaybeXS-1.004000-0/blib/arch:/home/njh/.cpan/build/JSON-MaybeXS-1.004000-0/blib/lib:/home/njh/.cpan/build/Cpanel-JSON-XS-4.02-0/blib/arch:/home/njh/.cpan/build/Cpanel-JSON-XS-4.02-0/blib/lib
    PERL5OPT = 
    PERL5_CPANPLUS_IS_RUNNING = 1441
    PERL5_CPAN_IS_RUNNING = 1441
    PERLBREW_BASHRC_VERSION = 0.80
    PERLBREW_HOME = /home/njh/.perlbrew
    PERLBREW_MANPATH = /home/njh/perl5/perlbrew/perls/perl-5.24.0/man
    PERLBREW_PATH = /home/njh/perl5/perlbrew/bin:/home/njh/perl5/perlbrew/perls/perl-5.24.0/bin
    PERLBREW_PERL = perl-5.24.0
    PERLBREW_ROOT = /home/njh/perl5/perlbrew
    PERLBREW_VERSION = 0.80
    SHELL = /bin/sh
    TMPDIR = /tmp/testwrapper.12975

Perl special variables (and OS-specific diagnostics, for MSWin32):

    $^X = /mnt/nas/home/pi2c/njh/perl5/perlbrew/perls/perl-5.24.0/bin/perl
    $UID/$EUID = 1000 / 1000
    $GID = 1000 1000 0
    $EGID = 1000 1000 0

Perl module toolchain versions installed:

    Module              Have    
    ------------------- --------
    CPAN                2.16    
    CPAN::Meta          2.150010
    Cwd                 3.63    
    ExtUtils::CBuilder  0.280225
    ExtUtils::Command   7.24    
    ExtUtils::Install   2.04    
    ExtUtils::MakeMaker 7.24    
    ExtUtils::Manifest  1.70    
    ExtUtils::ParseXS   3.31    
    File::Spec          3.63    
    JSON                2.97001 
    JSON::PP            2.27400 
    Module::Build       0.4224  
    Module::Signature   n/a     
    Parse::CPAN::Meta   2.150010
    Test::Harness       3.36    
    Test::More          1.302073
    YAML                1.24    
    YAML::Syck          1.30    
    version             0.9917  


--

Summary of my perl5 (revision 5 version 24 subversion 0) configuration:
   
  Platform:
    osname=netbsd, osvers=7.0.2_patch, archname=evbarm-netbsd-thread-multi
    uname='netbsd pi2c.bandsman.co.uk 7.0.2_patch netbsd 7.0.2_patch (rpi2.201612281350z) evbarm '
    config_args='-de -Dprefix=/home/njh/perl5/perlbrew/perls/perl-5.24.0 -Duseithreads -Dusemultiplicity -Dusedevel -Accflags=-O2 -W -Wformat=2 -Wswitch -Wshadow -Wwrite-strings -Wuninitialized -Wall -pipe -fomit-frame-pointer -D_FORTIFY_SOURCE=2 -Wpointer-arith -Wstrict-prototypes -fstack-protector -Wstack-protector -Wextra -Wbad-function-cast -Wcast-align -Wcast-qual -Wdisabled-optimization -Wendif-labels -Wfloat-equal -Wformat-nonliteral -Winline -Wmissing-declarations -Wmissing-prototypes -Wnested-externs -Wpointer-arith -Wundef -Wformat-security -mtune=cortex-a7 -mfpu=vfp -mfloat-abi=hard -Aeval:scriptdir=/home/njh/perl5/perlbrew/perls/perl-5.24.0/bin'
    hint=recommended, useposix=true, d_sigaction=define
    useithreads=define, usemultiplicity=define
    use64bitint=undef, use64bitall=undef, uselongdouble=undef
    usemymalloc=n, bincompat5005=undef
  Compiler:
    cc='cc', ccflags ='-O2 -W -Wformat=2 -Wswitch -Wshadow -Wwrite-strings -Wuninitialized -Wall -pipe -fomit-frame-pointer -D_FORTIFY_SOURCE=2 -Wpointer-arith -Wstrict-prototypes -fstack-protector -Wstack-protector -Wextra -Wbad-function-cast -Wcast-align -Wcast-qual -Wdisabled-optimization -Wendif-labels -Wfloat-equal -Wformat-nonliteral -Winline -Wmissing-declarations -Wmissing-prototypes -Wnested-externs -Wpointer-arith -Wundef -Wformat-security -mtune=cortex-a7 -mfpu=vfp -mfloat-abi=hard -fwrapv -fno-strict-aliasing -I/usr/pkg/include',
    optimize='-O',
    cppflags='-O2 -W -Wformat=2 -Wswitch -Wshadow -Wwrite-strings -Wuninitialized -Wall -pipe -fomit-frame-pointer -D_FORTIFY_SOURCE=2 -Wpointer-arith -Wstrict-prototypes -fstack-protector -Wstack-protector -Wextra -Wbad-function-cast -Wcast-align -Wcast-qual -Wdisabled-optimization -Wendif-labels -Wfloat-equal -Wformat-nonliteral -Winline -Wmissing-declarations -Wmissing-prototypes -Wnested-externs -Wpointer-arith -Wundef -Wformat-security -mtune=cortex-a7 -mfpu=vfp -mfloat-abi=hard -fwrapv -fno-strict-aliasing -I/usr/pkg/include'
    ccversion='', gccversion='4.8.4', gccosandvers=''
    intsize=4, longsize=4, ptrsize=4, doublesize=8, byteorder=1234, doublekind=3
    d_longlong=define, longlongsize=8, d_longdbl=define, longdblsize=8, longdblkind=0
    ivtype='long', ivsize=4, nvtype='double', nvsize=8, Off_t='off_t', lseeksize=8
    alignbytes=8, prototype=define
  Linker and Libraries:
    ld='cc', ldflags =' -Wl,-rpath,/usr/pkg/lib -Wl,-rpath,/usr/local/lib -fstack-protector -L/usr/pkg/lib'
    libpth=/usr/include/gcc-4.8 /usr/lib /usr/pkg/lib /lib
    libs=-lpthread -lm -lcrypt -lutil -lc -lposix
    perllibs=-lpthread -lm -lcrypt -lutil -lc -lposix
    libc=/lib/libc.so, so=so, useshrplib=false, libperl=libperl.a
    gnulibc_version=''
  Dynamic Linking:
    dlsrc=dl_dlopen.xs, dlext=so, d_dlsymun=undef, ccdlflags='-Wl,-E '
    cccdlflags='-DPIC -fPIC ', lddlflags='-shared  -L/usr/pkg/lib -fstack-protector'


Characteristics of this binary (from libperl): 
  Compile-time options: HAS_TIMES MULTIPLICITY PERLIO_LAYERS
                        PERL_COPY_ON_WRITE PERL_DONT_CREATE_GVSV
                        PERL_HASH_FUNC_ONE_AT_A_TIME_HARD
                        PERL_IMPLICIT_CONTEXT PERL_MALLOC_WRAP
                        PERL_PRESERVE_IVUV PERL_USE_DEVEL USE_ITHREADS
                        USE_LARGE_FILES USE_LOCALE USE_LOCALE_COLLATE
                        USE_LOCALE_CTYPE USE_LOCALE_NUMERIC USE_LOCALE_TIME
                        USE_PERLIO USE_PERL_ATOF USE_REENTRANT_API
  Locally applied patches:
	Devel::PatchPerl 1.38
  Built under netbsd
  Compiled at Dec 29 2016 13:18:46
  %ENV:
    PERL5LIB="/home/njh/.cpan/build/JSON-2.97001-0/blib/arch:/home/njh/.cpan/build/JSON-2.97001-0/blib/lib:/home/njh/.cpan/build/Clone-0.39-0/blib/arch:/home/njh/.cpan/build/Clone-0.39-0/blib/lib:/home/njh/.cpan/build/Class-Accessor-Lite-0.08-0/blib/arch:/home/njh/.cpan/build/Class-Accessor-Lite-0.08-0/blib/lib:/home/njh/.cpan/build/Module-Build-0.4224-0/blib/arch:/home/njh/.cpan/build/Module-Build-0.4224-0/blib/lib:/home/njh/.cpan/build/JSON-MaybeXS-1.004000-0/blib/arch:/home/njh/.cpan/build/JSON-MaybeXS-1.004000-0/blib/lib:/home/njh/.cpan/build/Cpanel-JSON-XS-4.02-0/blib/arch:/home/njh/.cpan/build/Cpanel-JSON-XS-4.02-0/blib/lib"
    PERL5OPT=""
    PERL5_CPANPLUS_IS_RUNNING="1441"
    PERL5_CPAN_IS_RUNNING="1441"
    PERLBREW_BASHRC_VERSION="0.80"
    PERLBREW_HOME="/home/njh/.perlbrew"
    PERLBREW_MANPATH="/home/njh/perl5/perlbrew/perls/perl-5.24.0/man"
    PERLBREW_PATH="/home/njh/perl5/perlbrew/bin:/home/njh/perl5/perlbrew/perls/perl-5.24.0/bin"
    PERLBREW_PERL="perl-5.24.0"
    PERLBREW_ROOT="/home/njh/perl5/perlbrew"
    PERLBREW_VERSION="0.80"
  @INC:
    /home/njh/.cpan/build/JSON-2.97001-0/blib/arch
    /home/njh/.cpan/build/JSON-2.97001-0/blib/lib
    /home/njh/.cpan/build/Clone-0.39-0/blib/arch
    /home/njh/.cpan/build/Clone-0.39-0/blib/lib
    /home/njh/.cpan/build/Class-Accessor-Lite-0.08-0/blib/arch
    /home/njh/.cpan/build/Class-Accessor-Lite-0.08-0/blib/lib
    /home/njh/.cpan/build/Module-Build-0.4224-0/blib/arch
    /home/njh/.cpan/build/Module-Build-0.4224-0/blib/lib
    /home/njh/.cpan/build/JSON-MaybeXS-1.004000-0/blib/arch
    /home/njh/.cpan/build/JSON-MaybeXS-1.004000-0/blib/lib
    /home/njh/.cpan/build/Cpanel-JSON-XS-4.02-0/blib/arch
    /home/njh/.cpan/build/Cpanel-JSON-XS-4.02-0/blib/lib
    /home/njh/perl5/perlbrew/perls/perl-5.24.0/lib/site_perl/5.24.0/evbarm-netbsd-thread-multi
    /home/njh/perl5/perlbrew/perls/perl-5.24.0/lib/site_perl/5.24.0
    /home/njh/perl5/perlbrew/perls/perl-5.24.0/lib/5.24.0/evbarm-netbsd-thread-multi
    /home/njh/perl5/perlbrew/perls/perl-5.24.0/lib/5.24.0
    .