CLI-Driver v0.77 Perl 5 v5.39.2 x86_64-linux
- Status
- Pass
- From
- Andreas J. König (ANDK)
- Dist
-
CLI-Driver v0.77
- Platform
- Perl 5 v5.39.2 x86_64-linux
- Date
- 2023-08-21 09:28:11
- ID
- 0c38ab4e-4005-11ee-b85a-cfc0ece94e4e
This distribution has been tested as part of the CPAN Testers
project, supporting the Perl programming language. See
http://wiki.cpantesters.org/ for more information or email
questions to cpan-testers-discuss@perl.org
--
Dear John Gravatt,
This is a computer-generated report for CLI-Driver-0.77
on perl 5.39.2, created by CPAN-Reporter-1.2019.
Thank you for uploading your work to CPAN. Congratulations!
All tests were successful.
Sections of this report:
* Tester comments
* Program output
* Prerequisites
* Environment and other context
------------------------------
TESTER COMMENTS
------------------------------
Additional comments from tester:
this report is from an automated smoke testing program
and was not reviewed by a human for accuracy
------------------------------
PROGRAM OUTPUT
------------------------------
Output from '/usr/bin/make test':
Skip blib/lib/auto/share/dist/CLI-Driver/templates/app.pl (unchanged)
Skip blib/lib/auto/share/dist/CLI-Driver/templates/cli-driver.yml (unchanged)
Skip blib/lib/auto/share/dist/CLI-Driver/templates/app-sharedir.pl (unchanged)
Skip blib/lib/auto/share/dist/CLI-Driver/cli-driver.yml (unchanged)
PERL_DL_NONLAZY=1 "/tmp/basesmoker-reloperl-Dq7W/bin/perl" "-MExtUtils::Command::MM" "-MTest::Harness" "-e" "undef *Test::Harness::Switches; test_harness(0, 'blib/lib', 'blib/arch')" t/*.t
# Testing CLI::Driver 0.77, Perl 5.039002, /tmp/basesmoker-reloperl-Dq7W/bin/perl
t/00-load.t .......... ok
t/01-test1.t ......... ok
t/02-test2.t ......... ok
t/03-test3.t ......... ok
t/04-test4.t ......... ok
t/05-test5.t ......... ok
t/06-test6.t ......... ok
t/07-test7.t ......... ok
t/08-test8.t ......... ok
t/09-test9.t ......... ok
t/10-test10.t ........ ok
t/11-test11.t ........ ok
t/11-use-argv-map.t .. ok
t/12-test12.t ........ ok
t/13-test13.t ........ ok
t/14-test14.t ........ ok
t/15-test15.t ........ ok
t/16-test16.t ........ ok
t/manifest.t ......... skipped: Author tests not required for installation
t/pod-coverage.t ..... skipped: Author tests not required for installation
t/pod.t .............. skipped: Author tests not required for installation
All tests successful.
Files=21, Tests=95, 11 wallclock secs ( 0.04 usr 0.05 sys + 9.81 cusr 0.83 csys = 10.73 CPU)
Result: PASS
------------------------------
PREREQUISITES
------------------------------
Prerequisite modules loaded:
requires:
Module Need Have
----------------------- ----- ----------
Capture::Tiny 0 0.48
Data::Printer 0 1.001001
Devel::Confess 0 0.009004
File::Basename 0 2.86
File::ShareDir 0 1.118
Kavorka 0 0.039
Modern::Perl 0 1.20230106
Module::Load 0 0.36
Moose 0 2.2206
namespace::autoclean 0 0.29
perl 5.006 5.039002
Sort::Naturally 0 1.03
Time::localtime 0 1.03
YAML::Syck 1.31 1.34
build_requires:
Module Need Have
----------------------- ----- ----------
Test::More 0 1.302195
configure_requires:
Module Need Have
----------------------- ----- ----------
ExtUtils::MakeMaker 0 7.70
File::ShareDir::Install 0 0.14
------------------------------
ENVIRONMENT AND OTHER CONTEXT
------------------------------
Environment variables:
AUTOMATED_TESTING = 1
LANG = en_US.UTF-8
LC_ADDRESS = de_DE.UTF-8
LC_IDENTIFICATION = de_DE.UTF-8
LC_MEASUREMENT = de_DE.UTF-8
LC_MONETARY = de_DE.UTF-8
LC_NAME = de_DE.UTF-8
LC_NUMERIC = de_DE.UTF-8
LC_PAPER = de_DE.UTF-8
LC_TELEPHONE = de_DE.UTF-8
LC_TIME = de_DE.UTF-8
PATH = /home/sand/bin:/usr/local/bin:/usr/local/sbin:/usr/sbin:/usr/bin:/sbin:/bin:/usr/games:/usr/local/games:/snap/bin:/usr/local/perl/bin:/usr/X11/bin
PERL5LIB =
PERL5OPT =
PERL5_CPANPLUS_IS_RUNNING = 2475
PERL5_CPAN_IS_RUNNING = 2475
PERL_CANARY_STABILITY_NOPROMPT = 1
PERL_MM_USE_DEFAULT = 1
PERL_USE_UNSAFE_INC = 1
SHELL = /usr/bin/zsh
TERM = screen
Perl special variables (and OS-specific diagnostics, for MSWin32):
$^X = /tmp/basesmoker-reloperl-Dq7W/bin/perl
$UID/$EUID = 1005 / 1005
$GID = 1005 1005
$EGID = 1005 1005
Perl module toolchain versions installed:
Module Have
------------------- --------
CPAN 2.36
CPAN::Meta 2.150010
Cwd 3.90
ExtUtils::CBuilder 0.280239
ExtUtils::Command 7.70
ExtUtils::Install 2.22
ExtUtils::MakeMaker 7.70
ExtUtils::Manifest 1.75
ExtUtils::ParseXS 3.51
File::Spec 3.90
JSON 4.10
JSON::PP 4.16
Module::Build 0.4234
Module::Signature 0.88
Parse::CPAN::Meta 2.150010
Test2 1.302195
Test::Harness 3.47
Test::More 1.302195
YAML 1.30
YAML::Syck 1.34
version 0.9929
--
Summary of my perl5 (revision 5 version 39 subversion 2) configuration:
Commit id: e246fd63c3ad4034efc21113d44231047f6b2909
Platform:
osname=linux
osvers=6.2.0-26-generic
archname=x86_64-linux
uname='linux k93jammy 6.2.0-26-generic #26~22.04.1-ubuntu smp preempt_dynamic thu jul 13 16:27:29 utc 2 x86_64 x86_64 x86_64 gnulinux '
config_args='-Dprefix=/home/sand/src/perl/repoperls/installed-perls/host/k93jammy/v5.39.2/6567 -Dmyhostname=k93jammy -Dinstallusrbinperl=n -Uversiononly -Dusedevel -des -Ui_db -Dlibswanted=cl pthread socket inet nsl gdbm dbm malloc dl ld sun m crypt sec util c cposix posix ucb BSD gdbm_compat -Uuseithreads -Uuselongdouble -DEBUGGING=-g'
hint=recommended
useposix=true
d_sigaction=define
useithreads=undef
usemultiplicity=undef
use64bitint=define
use64bitall=define
uselongdouble=undef
usemymalloc=n
default_inc_excludes_dot=define
Compiler:
cc='cc'
ccflags ='-fwrapv -fno-strict-aliasing -pipe -fstack-protector-strong -I/usr/local/include -D_LARGEFILE_SOURCE -D_FILE_OFFSET_BITS=64'
optimize='-O2 -g'
cppflags='-fwrapv -fno-strict-aliasing -pipe -fstack-protector-strong -I/usr/local/include'
ccversion=''
gccversion='11.4.0'
gccosandvers=''
intsize=4
longsize=8
ptrsize=8
doublesize=8
byteorder=12345678
doublekind=3
d_longlong=define
longlongsize=8
d_longdbl=define
longdblsize=16
longdblkind=3
ivtype='long'
ivsize=8
nvtype='double'
nvsize=8
Off_t='off_t'
lseeksize=8
alignbytes=8
prototype=define
Linker and Libraries:
ld='cc'
ldflags =' -fstack-protector-strong -L/usr/local/lib'
libpth=/usr/local/lib /usr/lib/x86_64-linux-gnu /usr/lib /usr/lib64
libs=-lpthread -lnsl -ldl -lm -lcrypt -lutil -lc
perllibs=-lpthread -lnsl -ldl -lm -lcrypt -lutil -lc
libc=/lib/x86_64-linux-gnu/libc.so.6
so=so
useshrplib=false
libperl=libperl.a
gnulibc_version='2.35'
Dynamic Linking:
dlsrc=dl_dlopen.xs
dlext=so
d_dlsymun=undef
ccdlflags='-Wl,-E'
cccdlflags='-fPIC'
lddlflags='-shared -O2 -g -L/usr/local/lib -fstack-protector-strong'
Characteristics of this binary (from libperl):
Compile-time options:
HAS_LONG_DOUBLE
HAS_STRTOLD
HAS_TIMES
PERLIO_LAYERS
PERL_COPY_ON_WRITE
PERL_DONT_CREATE_GVSV
PERL_HASH_FUNC_SIPHASH13
PERL_HASH_USE_SBOX32
PERL_MALLOC_WRAP
PERL_OP_PARENT
PERL_PRESERVE_IVUV
PERL_USE_DEVEL
PERL_USE_SAFE_PUTENV
USE_64_BIT_ALL
USE_64_BIT_INT
USE_LARGE_FILES
USE_LOCALE
USE_LOCALE_COLLATE
USE_LOCALE_CTYPE
USE_LOCALE_NUMERIC
USE_LOCALE_TIME
USE_PERLIO
USE_PERL_ATOF
Built under linux
Compiled at Aug 21 2023 02:09:42
%ENV:
PERL5LIB=""
PERL5OPT=""
PERL5_CPANPLUS_IS_RUNNING="2475"
PERL5_CPAN_IS_RUNNING="2475"
PERL_CANARY_STABILITY_NOPROMPT="1"
PERL_MM_USE_DEFAULT="1"
PERL_USE_UNSAFE_INC="1"
@INC:
/home/sand/src/perl/repoperls/installed-perls/host/k93jammy/v5.39.2/6567/lib/site_perl/5.39.2/x86_64-linux
/home/sand/src/perl/repoperls/installed-perls/host/k93jammy/v5.39.2/6567/lib/site_perl/5.39.2
/home/sand/src/perl/repoperls/installed-perls/host/k93jammy/v5.39.2/6567/lib/5.39.2/x86_64-linux
/home/sand/src/perl/repoperls/installed-perls/host/k93jammy/v5.39.2/6567/lib/5.39.2
.