namespace-autoclean v0.31 Perl 5 v5.43.1 darwin-2level

Status
Pass
From
John SJ Anderson
Dist
namespace-autoclean v0.31
Platform
Perl 5 v5.43.1 darwin-2level
Date
2025-07-22 21:01:32
ID
0bef4d56-673f-11f0-a7e9-8fd91d40f0bd
This distribution has been tested as part of the CPAN Testers
project, supporting the Perl programming language.  See
http://wiki.cpantesters.org/ for more information or email
questions to cpan-testers-discuss@perl.org


--
Dear ETHER,

This is a computer-generated report for namespace-autoclean-0.31
on perl 5.43.1, created by App::cpanminus::reporter 0.22 (1.7048).

Thank you for uploading your work to CPAN.  Congratulations!
All tests were successful.

Sections of this report:

    * Tester comments
    * Program output
    * Prerequisites
    * Environment and other context

------------------------------
TESTER COMMENTS
------------------------------

Additional comments from tester:

none provided

------------------------------
PROGRAM OUTPUT
------------------------------

Output from '':

Building and testing namespace-autoclean-0.31
cp lib/namespace/autoclean.pm blib/lib/namespace/autoclean.pm
PERL_DL_NONLAZY=1 "/opt/plenv/versions/5.43.1/bin/perl5.43.1" "-MExtUtils::Command::MM" "-MTest::Harness" "-e" "undef *Test::Harness::Switches; test_harness(0, 'blib/lib', 'blib/arch')" t/*.t
# 
# Versions for all modules listed in MYMETA.json (including optional ones):
# 
# === Configure Requires ===
# 
#     Module               Want     Have
#     ------------------- ----- --------
#     ExtUtils::MakeMaker   any     7.76
#     perl                5.006 5.043001
# 
# === Build Requires ===
# 
#     Module              Want Have
#     ------------------- ---- ----
#     ExtUtils::MakeMaker  any 7.76
# 
# === Test Requires ===
# 
#     Module               Want     Have
#     ------------------- ----- --------
#     Carp                  any     1.54
#     ExtUtils::MakeMaker   any     7.76
#     File::Basename        any     2.86
#     File::Spec            any     3.94
#     FindBin               any     1.54
#     Scalar::Util          any  1.68_01
#     Test::More           0.88 1.302214
#     Test::Needs           any 0.002010
#     constant              any     1.33
#     overload              any     1.40
#     perl                5.006 5.043001
# 
# === Test Recommends ===
# 
#     Module         Want     Have
#     ---------- -------- --------
#     CPAN::Meta 2.120900 2.150010
# 
# === Runtime Requires ===
# 
#     Module                Want     Have
#     -------------------- ----- --------
#     B                      any     1.89
#     B::Hooks::EndOfScope  0.12     0.28
#     List::Util             any  1.68_01
#     namespace::clean      0.20     0.27
#     perl                 5.006 5.043001
#     strict                 any     1.14
#     warnings               any     1.74
# 
# === Other Modules ===
# 
#     Module                           Have
#     ----------------------------- -------
#     Class::MOP                     2.4000
#     Encode                           3.21
#     Exporter                         5.79
#     File::Temp                     0.2311
#     JSON::PP                         4.16
#     Module::Runtime                 0.018
#     Moo                           missing
#     Moose                          2.4000
#     MooseX::Role::Parameterized   missing
#     MooseX::Role::WithOverloading missing
#     Mouse                         missing
#     Mouse::PurePerl               missing
#     Pod::Coverage                    0.23
#     Role::Tiny                    missing
#     Sub::Exporter                   0.991
#     Sub::Install                    0.929
#     Sub::Name                     missing
#     Sub::Util                     1.68_01
#     Test::Fatal                     0.017
#     YAML                          missing
#     autodie                          2.37
#     parent                          0.244
# 
t/00-report-prereqs.t .............. ok
t/also.t ........................... ok
t/basic.t .......................... ok
t/broken_meta.t .................... ok
t/cleanee.t ........................ ok
t/constant.t ....................... ok
t/except.t ......................... ok
t/matchclean.t ..................... ok
t/moo-with-moose.t ................. skipped: Need Moo 1.004000
t/moo.t ............................ skipped: Need Moo, Moo::Role
t/moose-with-native-overloading.t .. ok
t/moose-withoverloading.t .......... skipped: Need MooseX::Role::WithOverloading
t/moose.t .......................... ok
t/mouse-pp.t ....................... skipped: Need Mouse
t/mouse.t .......................... skipped: Need Mouse
t/overload.t ....................... ok
t/sub-install.t .................... ok
t/sub-name.t ....................... skipped: Need Sub::Name
All tests successful.
Files=18, Tests=76,  0 wallclock secs ( 0.01 usr  0.01 sys +  0.46 cusr  0.07 csys =  0.55 CPU)
Result: PASS

------------------------------
PREREQUISITES
------------------------------

Prerequisite modules loaded:

runtime:

    Module               Need  Have    
    -------------------- ----- --------
    B                    0     1.89    
    B::Hooks::EndOfScope 0.12  0.28    
    List::Util           0     1.68_01 
    namespace::clean     0.20  0.27    
    perl                 5.006 5.043001
    strict               0     1.14    
    warnings             0     1.74    

build:

    Module               Need  Have    
    -------------------- ----- --------
    ExtUtils::MakeMaker  0     7.76    

configure:

    Module               Need  Have    
    -------------------- ----- --------
    ExtUtils::MakeMaker  0     7.76    


------------------------------
ENVIRONMENT AND OTHER CONTEXT
------------------------------

Environment variables:

    LANG = en_US.UTF-8
    LC_ALL = en_US.UTF-8
    LC_TERMINAL = iTerm2
    LC_TERMINAL_VERSION = 3.5.14
    PATH = /opt/plenv/versions/5.43.1/bin:/opt/plenv/libexec:/opt/plenv/plugins/perl-build/bin:/opt/rbenv/shims:/Users/genehack/src/git-subrepo/lib:/opt/nextstrain-env/cli-standalone:/Users/genehack/bin:/opt/rust/cargo/bin:/opt/plenv/shims:/opt/plenv/bin:/opt/git/bin:/opt/homebrew/bin:/opt/local/bin:/usr/bin:/bin:/usr/sbin:/sbin
    PERL_CPANM_OPT = --skip-installed --prompt
    SHELL = /bin/zsh
    TERM = screen-256color
    TMPDIR = /var/folders/p0/j7mly95s4nd__w74h26sqqkc0000gn/T/

Perl special variables (and OS-specific diagnostics, for MSWin32):

    EGID = 20 20 12 61 79 80 81 98 701 33 100 204 250 395 398 101 400
    EUID = 501
    EXECUTABLE_NAME = /opt/plenv/versions/5.43.1/bin/perl5.43.1
    GID = 20 20 12 61 79 80 81 98 701 33 100 204 250 395 398 101 400
    UID = 501

Perl module toolchain versions installed:

    Module              Have    
    ------------------- --------
    CPAN                2.38    
    CPAN::Meta          2.150010
    Cwd                 3.94    
    ExtUtils::CBuilder  0.280242
    ExtUtils::Command   7.76    
    ExtUtils::Install   2.22    
    ExtUtils::MakeMaker 7.76    
    ExtUtils::Manifest  1.75    
    ExtUtils::ParseXS   3.58    
    File::Spec          3.94    
    JSON                4.10    
    JSON::PP            4.16    
    Module::Build       0.4234  
    Module::Signature   n/a     
    Parse::CPAN::Meta   2.150010
    Test::Harness       3.52    
    Test::More          1.302214
    YAML                1.31    
    YAML::Syck          n/a     
    version             0.9933  


--

Summary of my perl5 (revision 5 version 43 subversion 1) configuration:
   
  Platform:
    osname=darwin
    osvers=24.5.0
    archname=darwin-2level
    uname='darwin nextmac.home.genehack.org 24.5.0 darwin kernel version 24.5.0: tue apr 22 19:52:00 pdt 2025; root:xnu-11417.121.6~2release_arm64_t6031 arm64 arm darwin '
    config_args='-Dprefix=/opt/plenv/versions/5.43.1 -de -Dversiononly -Dusedevel -A'eval:scriptdir=/opt/plenv/versions/5.43.1/bin''
    hint=recommended
    useposix=true
    d_sigaction=define
    useithreads=undef
    usemultiplicity=undef
    use64bitint=define
    use64bitall=define
    uselongdouble=undef
    usemymalloc=n
    default_inc_excludes_dot=define
  Compiler:
    cc='cc'
    ccflags ='-fno-common -DPERL_DARWIN -DNO_THREAD_SAFE_QUERYLOCALE -DNO_POSIX_2008_LOCALE -DHAS_BROKEN_LANGINFO_CODESET -DNO_LOCALE_COLLATE -fno-strict-aliasing -pipe -fstack-protector-strong'
    optimize='-O3'
    cppflags='-fno-common -DPERL_DARWIN -DNO_THREAD_SAFE_QUERYLOCALE -DNO_POSIX_2008_LOCALE -DHAS_BROKEN_LANGINFO_CODESET -DNO_LOCALE_COLLATE -fno-strict-aliasing -pipe -fstack-protector-strong'
    ccversion=''
    gccversion='Apple LLVM 17.0.0 (clang-1700.0.13.5)'
    gccosandvers=''
    intsize=4
    longsize=8
    ptrsize=8
    doublesize=8
    byteorder=12345678
    doublekind=3
    d_longlong=define
    longlongsize=8
    d_longdbl=define
    longdblsize=8
    longdblkind=0
    ivtype='long'
    ivsize=8
    nvtype='double'
    nvsize=8
    Off_t='off_t'
    lseeksize=8
    alignbytes=8
    prototype=define
  Linker and Libraries:
    ld='cc'
    ldflags =' -fstack-protector-strong'
    libpth=/Applications/Xcode.app/Contents/Developer/Toolchains/XcodeDefault.xctoolchain/usr/lib/clang/17/lib /Applications/Xcode.app/Contents/Developer/Platforms/MacOSX.platform/Developer/SDKs/MacOSX.sdk/usr/lib /Applications/Xcode.app/Contents/Developer/Toolchains/XcodeDefault.xctoolchain/usr/lib /usr/lib
    libs= 
    perllibs=
    libc=
    so=dylib
    useshrplib=false
    libperl=libperl.a
    gnulibc_version=''
  Dynamic Linking:
    dlsrc=dl_dlopen.xs
    dlext=bundle
    d_dlsymun=undef
    ccdlflags=' '
    cccdlflags=' '
    lddlflags='-bundle -undefined dynamic_lookup -fstack-protector-strong'


Characteristics of this binary (from libperl): 
  Compile-time options:
    HAS_LONG_DOUBLE
    HAS_STRTOLD
    HAS_TIMES
    PERLIO_LAYERS
    PERL_COPY_ON_WRITE
    PERL_DONT_CREATE_GVSV
    PERL_HASH_FUNC_SIPHASH13
    PERL_HASH_USE_SBOX32
    PERL_MALLOC_WRAP
    PERL_OP_PARENT
    PERL_PRESERVE_IVUV
    PERL_USE_DEVEL
    PERL_USE_SAFE_PUTENV
    USE_64_BIT_ALL
    USE_64_BIT_INT
    USE_LARGE_FILES
    USE_LOCALE
    USE_LOCALE_CTYPE
    USE_LOCALE_NUMERIC
    USE_LOCALE_TIME
    USE_PERLIO
    USE_PERL_ATOF
  Built under darwin
  Compiled at Jul 22 2025 12:11:35
  %ENV:
    PERL_CPANM_OPT="--skip-installed --prompt"
  @INC:
    /opt/plenv/versions/5.43.1/lib/perl5/site_perl/5.43.1/darwin-2level
    /opt/plenv/versions/5.43.1/lib/perl5/site_perl/5.43.1
    /opt/plenv/versions/5.43.1/lib/perl5/5.43.1/darwin-2level
    /opt/plenv/versions/5.43.1/lib/perl5/5.43.1