Back
From: metabase:user:9820532a-708b-1014-9a05-b18a96298da1
Subject: PASS Class-Agreement-0.02 v5.15.5 GNU/Linux
Date: 2011-12-13T16:10:59Z
This distribution has been tested as part of the CPAN Testers
project, supporting the Perl programming language.  See
http://wiki.cpantesters.org/ for more information or email
questions to cpan-testers-discuss@perl.org
--
Dear Ian Langworth,
This is a computer-generated report for Class-Agreement-0.02
on perl 5.15.5, created by CPAN-Reporter-1.2003.
Thank you for uploading your work to CPAN.  Congratulations!
All tests were successful.
Sections of this report:
    * Tester comments
    * Program output
    * Prerequisites
    * Environment and other context
------------------------------
TESTER COMMENTS
------------------------------
Additional comments from tester:
this report is from an automated smoke testing program
and was not reviewed by a human for accuracy
------------------------------
PROGRAM OUTPUT
------------------------------
Output from '/usr/bin/make test':
PERL_DL_NONLAZY=1 /home/bri/perl5/perlbrew/perls/perl-5.15.5-th/bin/perl5.15.5 "-MExtUtils::Command::MM" "-e" "test_harness(0, 'blib/lib', 'blib/arch')" t/*.t
t/0-signature.t .............. ok
t/00-load.t .................. ok
t/context.t .................. ok
t/data-validate.t ............ ok
t/dependent-function.t ....... ok
t/dependent-method.t ......... ok
t/explicitpackage.t .......... ok
t/firstorder-blame.t ......... ok
t/generate-assertions.t ...... ok
t/generated-methods.t ........ ok
t/invariant.t ................ ok
t/overrides.t ................ ok
t/pod-coverage.t ............. ok
t/pod.t ...................... ok
t/postcondition-function.t ... ok
t/postcondition-method.t ..... ok
t/precondition-function.t .... ok
t/precondition-method.t ...... ok
t/propagate-to-subclasses.t .. ok
t/result-badusage.t .......... ok
Prototype mismatch: sub Antelope::inline_as (&) vs none at /home/bri/.cpan/build/Class-Agreement-0.02-VBghyc/blib/lib/Class/Agreement.pm line 243.
Prototype mismatch: sub Antelope::message (&) vs none at /home/bri/.cpan/build/Class-Agreement-0.02-VBghyc/blib/lib/Class/Agreement.pm line 243.
Prototype mismatch: sub Antelope::optimize_as (&) vs none at /home/bri/.cpan/build/Class-Agreement-0.02-VBghyc/blib/lib/Class/Agreement.pm line 243.
Prototype mismatch: sub Antelope::role_type ($;$) vs none at /home/bri/.cpan/build/Class-Agreement-0.02-VBghyc/blib/lib/Class/Agreement.pm line 243.
Prototype mismatch: sub Antelope::via (&) vs none at /home/bri/.cpan/build/Class-Agreement-0.02-VBghyc/blib/lib/Class/Agreement.pm line 243.
Prototype mismatch: sub Antelope::where (&) vs none at /home/bri/.cpan/build/Class-Agreement-0.02-VBghyc/blib/lib/Class/Agreement.pm line 243.
t/specify-constructors.t ..... ok
t/use-twice.t ................ ok
All tests successful.
Files=22, Tests=255,  3 wallclock secs ( 0.12 usr  0.02 sys +  2.23 cusr  0.14 csys =  2.51 CPU)
Result: PASS
------------------------------
PREREQUISITES
------------------------------
Prerequisite modules loaded:
requires:
    Module              Need Have   
    ------------------- ---- -------
    Class::Inspector    1.13 1.25   
    Scalar::Util        1.17 1.23   
    Test::Exception     0.20 0.31   
    Test::More          0.54 0.98   
build_requires:
    Module              Need Have   
    ------------------- ---- -------
    ExtUtils::MakeMaker 0    6.63_02
------------------------------
ENVIRONMENT AND OTHER CONTEXT
------------------------------
Environment variables:
    AUTOMATED_TESTING = 1
    LANG = C
    LANGUAGE = en_GB:en
    LC_ALL = C
    PATH = /home/bri/bin:/home/bri/perl5/perlbrew/bin:/home/bri/perl5/perlbrew/perls/perl-5.15.5-th/bin:~/bin:/usr/local/sbin:/usr/local/bin:/usr/sbin:/usr/bin:/sbin:/bin:/usr/games
    PATH_WITHOUT_PERLBREW = ~/bin:/usr/local/sbin:/usr/local/bin:/usr/sbin:/usr/bin:/sbin:/bin:/usr/games
    PERL5LIB = 
    PERL5OPT = 
    PERL5_CPANPLUS_IS_RUNNING = 30638
    PERL5_CPAN_IS_RUNNING = 30638
    PERL5_CPAN_IS_RUNNING_IN_RECURSION = 1978,30638
    PERLBREW_BASHRC_VERSION = 0.33
    PERLBREW_HOME = /home/bri/.perlbrew
    PERLBREW_PATH = /home/bri/perl5/perlbrew/bin:/home/bri/perl5/perlbrew/perls/perl-5.15.5-th/bin
    PERLBREW_PERL = perl-5.15.5-th
    PERLBREW_ROOT = /home/bri/perl5/perlbrew
    PERLBREW_VERSION = 0.33
    PERL_CPANM_OPT = --prompt --mirror http://172.16.1.3/cpan/
    PERL_CR_SMOKER_CURRENT = Class-Agreement-0.02
    PERL_EXTUTILS_AUTOINSTALL = --defaultdeps
    PERL_MM_USE_DEFAULT = 1
    SHELL = /bin/bash
    TERM = linux
Perl special variables (and OS-specific diagnostics, for MSWin32):
    $^X = /home/bri/perl5/perlbrew/perls/perl-5.15.5-th/bin/perl5.15.5
    $UID/$EUID = 1000 / 1000
    $GID = 1000 4 20 24 46 112 120 122 1000
    $EGID = 1000 4 20 24 46 112 120 122 1000
Perl module toolchain versions installed:
    Module              Have    
    ------------------- --------
    CPAN                1.9800  
    CPAN::Meta          2.112621
    Cwd                 3.33    
    ExtUtils::CBuilder  0.280202
    ExtUtils::Command   1.17    
    ExtUtils::Install   1.52    
    ExtUtils::MakeMaker 6.63_02 
    ExtUtils::Manifest  1.60    
    ExtUtils::ParseXS   3.07    
    File::Spec          3.33    
    JSON                2.53    
    JSON::PP            2.27200 
    Module::Build       0.3800  
    Module::Signature   n/a     
    Parse::CPAN::Meta   1.4401  
    Test::Harness       3.23    
    Test::More          0.98    
    YAML                0.77    
    YAML::Syck          1.19    
    version             0.95    
--
Summary of my perl5 (revision 5 version 15 subversion 5) configuration:
   
  Platform:
    osname=linux, osvers=2.6.38-11-generic, archname=i686-linux-thread-multi
    uname='linux lappy 2.6.38-11-generic #48-ubuntu smp fri jul 29 19:05:14 utc 2011 i686 i686 i386 gnulinux '
    config_args='-de -Dprefix=/home/bri/perl5/perlbrew/perls/perl-5.15.5-th -Dusethreads -Dusedevel'
    hint=recommended, useposix=true, d_sigaction=define
    useithreads=define, usemultiplicity=define
    useperlio=define, d_sfio=undef, uselargefiles=define, usesocks=undef
    use64bitint=undef, use64bitall=undef, uselongdouble=undef
    usemymalloc=n, bincompat5005=undef
  Compiler:
    cc='cc', ccflags ='-D_REENTRANT -D_GNU_SOURCE -fno-strict-aliasing -pipe -fstack-protector -I/usr/local/include -D_LARGEFILE_SOURCE -D_FILE_OFFSET_BITS=64',
    optimize='-O2',
    cppflags='-D_REENTRANT -D_GNU_SOURCE -fno-strict-aliasing -pipe -fstack-protector -I/usr/local/include'
    ccversion='', gccversion='4.5.2', gccosandvers=''
    intsize=4, longsize=4, ptrsize=4, doublesize=8, byteorder=1234
    d_longlong=define, longlongsize=8, d_longdbl=define, longdblsize=12
    ivtype='long', ivsize=4, nvtype='double', nvsize=8, Off_t='off_t', lseeksize=8
    alignbytes=4, prototype=define
  Linker and Libraries:
    ld='cc', ldflags =' -fstack-protector -L/usr/local/lib'
    libpth=/usr/local/lib /lib /usr/lib /usr/lib/i386-linux-gnu /usr/lib64
    libs=-lnsl -ldl -lm -lcrypt -lutil -lpthread -lc
    perllibs=-lnsl -ldl -lm -lcrypt -lutil -lpthread -lc
    libc=, so=so, useshrplib=false, libperl=libperl.a
    gnulibc_version='2.13'
  Dynamic Linking:
    dlsrc=dl_dlopen.xs, dlext=so, d_dlsymun=undef, ccdlflags='-Wl,-E'
    cccdlflags='-fPIC', lddlflags='-shared -O2 -L/usr/local/lib -fstack-protector'
Characteristics of this binary (from libperl): 
  Compile-time options: HAS_TIMES MULTIPLICITY PERLIO_LAYERS
                        PERL_DONT_CREATE_GVSV PERL_IMPLICIT_CONTEXT
                        PERL_MALLOC_WRAP PERL_PRESERVE_IVUV PERL_USE_DEVEL
                        USE_ITHREADS USE_LARGE_FILES USE_LOCALE
                        USE_LOCALE_COLLATE USE_LOCALE_CTYPE
                        USE_LOCALE_NUMERIC USE_PERLIO USE_PERL_ATOF
                        USE_REENTRANT_API
  Built under linux
  Compiled at Dec  5 2011 21:58:55
  %ENV:
    PERL5LIB=""
    PERL5OPT=""
    PERL5_CPANPLUS_IS_RUNNING="30638"
    PERL5_CPAN_IS_RUNNING="30638"
    PERL5_CPAN_IS_RUNNING_IN_RECURSION="1978,30638"
    PERLBREW_BASHRC_VERSION="0.33"
    PERLBREW_HOME="/home/bri/.perlbrew"
    PERLBREW_PATH="/home/bri/perl5/perlbrew/bin:/home/bri/perl5/perlbrew/perls/perl-5.15.5-th/bin"
    PERLBREW_PERL="perl-5.15.5-th"
    PERLBREW_ROOT="/home/bri/perl5/perlbrew"
    PERLBREW_VERSION="0.33"
    PERL_CPANM_OPT="--prompt --mirror http://172.16.1.3/cpan/"
    PERL_CR_SMOKER_CURRENT="Class-Agreement-0.02"
    PERL_EXTUTILS_AUTOINSTALL="--defaultdeps"
    PERL_MM_USE_DEFAULT="1"
  @INC:
    /home/bri/perl5/perlbrew/perls/perl-5.15.5-th/lib/site_perl/5.15.5/i686-linux-thread-multi
    /home/bri/perl5/perlbrew/perls/perl-5.15.5-th/lib/site_perl/5.15.5
    /home/bri/perl5/perlbrew/perls/perl-5.15.5-th/lib/5.15.5/i686-linux-thread-multi
    /home/bri/perl5/perlbrew/perls/perl-5.15.5-th/lib/5.15.5
    .