Report for Path-FindDev-0.4.0

Back
From: metabase:user:320bfe00-2aae-11df-837a-5e0a49663a4f
Subject: PASS Path-FindDev-0.4.0 v5.12.5 GNU/Linux
Date: 2013-10-11T18:07:52Z

This distribution has been tested as part of the CPAN Testers
project, supporting the Perl programming language.  See
http://wiki.cpantesters.org/ for more information or email
questions to cpan-testers-discuss@perl.org


--
Dear Kent Fredric,

This is a computer-generated report for Path-FindDev-0.4.0
on perl 5.12.5, created by CPAN-Reporter-1.2010.

Thank you for uploading your work to CPAN.  Congratulations!
All tests were successful.

Sections of this report:

    * Tester comments
    * Program output
    * Prerequisites
    * Environment and other context

------------------------------
TESTER COMMENTS
------------------------------

Additional comments from tester:

this report is from an automated smoke testing program
and was not reviewed by a human for accuracy

------------------------------
PROGRAM OUTPUT
------------------------------

Output from './Build test':

t/00-compile.t ................ ok
# 
# 
# Generated by Dist::Zilla::Plugin::ReportVersions::Tiny v1.09
# perl: 5.012005 (wanted v5.10.0) on linux from /home/sand/src/perl/repoperls/installed-perls/perl/v5.12.5/9980/bin/perl
# 
# Carp                                          => 1.32       (want any version)
# Class::Tiny                                   => 0.011      (want 0.010)  
# Dist::Zilla::PluginBundle::Author::KENTNL     => module not found. (want v1.9.0) 
# Dist::Zilla::PluginBundle::Author::KENTNL::Lite => module not found. (want v1.3.0) 
# File::Spec                                    => 3.40       (want any version)
# FindBin                                       => 1.50       (want any version)
# IO::Handle                                    => 1.28       (want any version)
# IPC::Open3                                    => 1.05       (want any version)
# Module::Build                                 => 0.4007     (want 0.4007) 
# Path::IsDev                                   => 0.6.0      (want v0.2.2) 
# Path::IsDev::Object                           => 0.6.0      (want any version)
# Path::Tiny                                    => 0.041      (want 0.038)  
# Pod::Coverage::TrustPod                       => module not found. (want any version)
# Scalar::Util                                  => 1.32       (want any version)
# Sub::Exporter                                 => 0.986      (want any version)
# Test::CPAN::Changes                           => module not found. (want 0.19)   
# Test::CPAN::Meta                              => module not found. (want any version)
# Test::Kwalitee                                => module not found. (want 1.08)   
# Test::More                                    => 0.98       (want 0.98)   
# Test::Pod                                     => 1.48       (want 1.41)   
# Test::Pod::Coverage                           => module not found. (want 1.08)   
# strict                                        => 1.04       (want any version)
# version                                       => 0.88       (want 0.9901) 
# warnings                                      => 1.09       (want any version)
# 
# Thanks for using my code.  I hope it works for you.
# If not, please try and include this output in the bug report.
# That will help me reproduce the issue and solve your problem.
# 
t/000-report-versions-tiny.t .. ok
# External search started at /tmp/loop_over_bdir-17161-Vob_r6
t/basic.t ..................... ok
All tests successful.
Files=3, Tests=6,  1 wallclock secs ( 0.02 usr  0.00 sys +  0.32 cusr  0.04 csys =  0.38 CPU)
Result: PASS

------------------------------
PREREQUISITES
------------------------------

Prerequisite modules loaded:

requires:

    Module              Need    Have    
    ------------------- ------- --------
    Carp                0       1.32    
    Class::Tiny         0.010   0.011   
    Path::IsDev         v0.2.2  0.6.0   
    Path::IsDev::Object 0       0.6.0   
    Path::Tiny          0.038   0.041   
    perl                v5.10.0 5.012005
    Scalar::Util        0       1.32    
    strict              0       1.04    
    Sub::Exporter       0       0.986   
    warnings            0       1.09    

build_requires:

    Module              Need    Have    
    ------------------- ------- --------
    File::Spec          0       3.40    
    FindBin             0       1.50    
    IO::Handle          0       1.28    
    IPC::Open3          0       1.05    
    Module::Build       0.4007  0.4007  
    Test::More          0.98    0.98    

configure_requires:

    Module              Need    Have    
    ------------------- ------- --------
    Module::Build       0.4007  0.4007  


------------------------------
ENVIRONMENT AND OTHER CONTEXT
------------------------------

Environment variables:

    AUTOMATED_TESTING = 1
    LANG = en_US.UTF-8
    LANGUAGE = en_US:en
    PATH = /usr/lib/ccache:/home/sand/bin:/usr/local/bin:/usr/bin:/bin:/usr/bin/X11:/usr/games:/usr/local/perl/bin:/usr/X11/bin:/sbin:/usr/sbin
    PERL5LIB = 
    PERL5OPT = 
    PERL5_CPANPLUS_IS_RUNNING = 17162
    PERL5_CPAN_IS_RUNNING = 17162
    PERL_MM_USE_DEFAULT = 1
    SHELL = /usr/bin/zsh
    TERM = screen

Perl special variables (and OS-specific diagnostics, for MSWin32):

    $^X = /home/sand/src/perl/repoperls/installed-perls/perl/v5.12.5/9980/bin/perl
    $UID/$EUID = 1005 / 1005
    $GID = 1005 1005
    $EGID = 1005 1005

Perl module toolchain versions installed:

    Module              Have    
    ------------------- --------
    CPAN                2.00    
    CPAN::Meta          2.132830
    Cwd                 3.40    
    ExtUtils::CBuilder  0.280212
    ExtUtils::Command   1.16    
    ExtUtils::Install   1.55    
    ExtUtils::MakeMaker 6.79_03 
    ExtUtils::Manifest  1.60    
    ExtUtils::ParseXS   2.21    
    File::Spec          3.40    
    JSON                2.59    
    JSON::PP            2.27200 
    Module::Build       0.4007  
    Module::Signature   0.73    
    Parse::CPAN::Meta   1.4409  
    Test::Harness       3.29    
    Test::More          0.98    
    YAML                0.84    
    YAML::Syck          1.27    
    version             0.88    


--

Summary of my perl5 (revision 5 version 12 subversion 5) configuration:
  Commit id: 9a9cbd715960a905dcbc9166349a73a64a007e4e
  Platform:
    osname=linux, osvers=3.10-3-amd64, archname=x86_64-linux-thread-multi
    uname='linux k83 3.10-3-amd64 #1 smp debian 3.10.11-1 (2013-09-10) x86_64 gnulinux '
    config_args='-Dprefix=/home/sand/src/perl/repoperls/installed-perls/perl/v5.12.5/9980 -Dmyhostname=k83 -Dinstallusrbinperl=n -Uversiononly -Dusedevel -des -Ui_db -Duseithreads -Uuselongdouble -DDEBUGGING=-g'
    hint=recommended, useposix=true, d_sigaction=define
    useithreads=define, usemultiplicity=define
    useperlio=define, d_sfio=undef, uselargefiles=define, usesocks=undef
    use64bitint=define, use64bitall=define, uselongdouble=undef
    usemymalloc=n, bincompat5005=undef
  Compiler:
    cc='cc', ccflags ='-D_REENTRANT -D_GNU_SOURCE -fno-strict-aliasing -pipe -fstack-protector -I/usr/local/include -D_LARGEFILE_SOURCE -D_FILE_OFFSET_BITS=64',
    optimize='-O2 -g',
    cppflags='-D_REENTRANT -D_GNU_SOURCE -fno-strict-aliasing -pipe -fstack-protector -I/usr/local/include'
    ccversion='', gccversion='4.8.1', gccosandvers=''
    intsize=4, longsize=8, ptrsize=8, doublesize=8, byteorder=12345678
    d_longlong=define, longlongsize=8, d_longdbl=define, longdblsize=16
    ivtype='long', ivsize=8, nvtype='double', nvsize=8, Off_t='off_t', lseeksize=8
    alignbytes=8, prototype=define
  Linker and Libraries:
    ld='cc', ldflags =' -fstack-protector -L/usr/local/lib'
    libpth=/usr/local/lib /lib/x86_64-linux-gnu /lib/../lib /usr/lib/x86_64-linux-gnu /usr/lib/../lib /lib /usr/lib
    libs=-lnsl -lgdbm -ldb -ldl -lm -lcrypt -lutil -lpthread -lc -lgdbm_compat
    perllibs=-lnsl -ldl -lm -lcrypt -lutil -lpthread -lc
    libc=, so=so, useshrplib=false, libperl=libperl.a
    gnulibc_version='2.17'
  Dynamic Linking:
    dlsrc=dl_dlopen.xs, dlext=so, d_dlsymun=undef, ccdlflags='-Wl,-E'
    cccdlflags='-fPIC', lddlflags='-shared -O2 -g -L/usr/local/lib -fstack-protector'


Characteristics of this binary (from libperl): 
  Compile-time options: MULTIPLICITY PERL_DONT_CREATE_GVSV
                        PERL_IMPLICIT_CONTEXT PERL_MALLOC_WRAP PERL_USE_DEVEL
                        USE_64_BIT_ALL USE_64_BIT_INT USE_ITHREADS
                        USE_LARGE_FILES USE_PERLIO USE_PERL_ATOF
                        USE_REENTRANT_API
  Built under linux
  Compiled at Oct 10 2013 23:35:27
  %ENV:
    PERL5LIB=""
    PERL5OPT=""
    PERL5_CPANPLUS_IS_RUNNING="17162"
    PERL5_CPAN_IS_RUNNING="17162"
    PERL_MM_USE_DEFAULT="1"
  @INC:
    /home/sand/src/perl/repoperls/installed-perls/perl/v5.12.5/9980/lib/site_perl/5.12.5/x86_64-linux-thread-multi
    /home/sand/src/perl/repoperls/installed-perls/perl/v5.12.5/9980/lib/site_perl/5.12.5
    /home/sand/src/perl/repoperls/installed-perls/perl/v5.12.5/9980/lib/5.12.5/x86_64-linux-thread-multi
    /home/sand/src/perl/repoperls/installed-perls/perl/v5.12.5/9980/lib/5.12.5
    .