SVK-Log-Filter-Mndrix v0.0.3 Perl 5 v5.26.2 OpenBSD.amd64-openbsd-thread-multi

Status
Pass
From
Alceu Rodrigues de Freitas Junior
Dist
SVK-Log-Filter-Mndrix v0.0.3
Platform
Perl 5 v5.26.2 OpenBSD.amd64-openbsd-thread-multi
Date
2018-07-26T20:04:04
ID
0ba1b7d4-910f-11e8-954f-9accd57b0c6c
This distribution has been tested as part of the CPAN Testers
project, supporting the Perl programming language.  See
http://wiki.cpantesters.org/ for more information or email
questions to cpan-testers-discuss@perl.org


--
Dear Michael Hendricks,

This is a computer-generated report for SVK-Log-Filter-Mndrix-0.0.3
on perl 5.26.2, created by CPAN-Reporter-1.2018.

Thank you for uploading your work to CPAN.  Congratulations!
All tests were successful.

Sections of this report:

    * Tester comments
    * Program output
    * Prerequisites
    * Environment and other context

------------------------------
TESTER COMMENTS
------------------------------

Additional comments from tester:

this report is from an automated smoke testing program
and was not reviewed by a human for accuracy

------------------------------
PROGRAM OUTPUT
------------------------------

Output from './Build test':

t/0-signature.t .. ok
# Testing SVK::Log::Filter::Mndrix 0.0.3
t/00-load.t ...... ok
t/pod.t .......... ok
All tests successful.
Files=3, Tests=3,  0 wallclock secs ( 0.01 usr  0.06 sys +  0.43 cusr  0.18 csys =  0.68 CPU)
Result: PASS

------------------------------
PREREQUISITES
------------------------------

Prerequisite modules loaded:

requires:

    Module           Need Have    
    ---------------- ---- --------
    Perl6::Form      0    0.06    
    POSIX            0    1.76    
  ! SVK              1.99 broken  
    Term::ReadKey    0    2.37    
    Text::Autoformat 0    1.74    
    Time::Local      0    1.28    

build_requires:

    Module           Need Have    
    ---------------- ---- --------
    Test::More       0    1.302139


------------------------------
ENVIRONMENT AND OTHER CONTEXT
------------------------------

Environment variables:

    AUTOMATED_TESTING = 1
    DBD_MYSQL_TESTDB = test
    DBD_MYSQL_TESTHOST = localhost
    DBD_MYSQL_TESTPASSWORD = 
    DBD_MYSQL_TESTPORT = 3306
    DBD_MYSQL_TESTUSER = goku
    EXTENDED_TESTING = 1
    PATH = /home/goku/perl5/perlbrew/bin:/home/goku/perl5/perlbrew/perls/perl-5.26.2/bin:/home/goku/bin:/usr/bin:/bin:/usr/sbin:/sbin:/usr/X11R6/bin:/usr/local/bin:/usr/local/sbin
    PERL5LIB = 
    PERL5OPT = 
    PERL5_CPANPLUS_IS_RUNNING = 9933
    PERL5_CPAN_IS_RUNNING = 9933
    PERL5_CPAN_IS_RUNNING_IN_RECURSION = 92057,9933
    PERLBREW_HOME = /home/goku/.perlbrew
    PERLBREW_MANPATH = /home/goku/perl5/perlbrew/perls/perl-5.26.2/man
    PERLBREW_PATH = /home/goku/perl5/perlbrew/bin:/home/goku/perl5/perlbrew/perls/perl-5.26.2/bin
    PERLBREW_PERL = perl-5.26.2
    PERLBREW_ROOT = /home/goku/perl5/perlbrew
    PERLBREW_SHELLRC_VERSION = 0.84
    PERLBREW_VERSION = 0.84
    PERL_CR_SMOKER_CURRENT = SVK-Log-Filter-Mndrix-0.0.3
    PERL_EXTUTILS_AUTOINSTALL = --defaultdeps
    PERL_MM_USE_DEFAULT = 1
    SHELL = /usr/local/bin/bash
    TERM = xterm

Perl special variables (and OS-specific diagnostics, for MSWin32):

    $^X = /home/goku/perl5/perlbrew/perls/perl-5.26.2/bin/perl
    $UID/$EUID = 1002 / 1002
    $GID = 1002 1002 1001
    $EGID = 1002 1002 1001

Perl module toolchain versions installed:

    Module              Have    
    ------------------- --------
    CPAN                2.16    
    CPAN::Meta          2.150010
    Cwd                 3.74    
    ExtUtils::CBuilder  0.280230
    ExtUtils::Command   7.35_06 
    ExtUtils::Install   2.14    
    ExtUtils::MakeMaker 7.35_06 
    ExtUtils::Manifest  1.71    
    ExtUtils::ParseXS   3.35    
    File::Spec          3.74    
    JSON                2.90    
    JSON::PP            2.97001 
    Module::Build       0.4224  
    Module::Signature   0.81    
    Parse::CPAN::Meta   2.150010
    Test::Harness       3.42    
    Test::More          1.302139
    YAML                1.26    
    YAML::Syck          1.30    
    version             0.9924  


--

Summary of my perl5 (revision 5 version 26 subversion 2) configuration:
   
  Platform:
    osname=openbsd
    osvers=6.3
    archname=OpenBSD.amd64-openbsd-thread-multi
    uname='openbsd cpan-smoker-openbsd 6.3 generic.mp#107 amd64 '
    config_args='-de -Dprefix=/home/goku/perl5/perlbrew/perls/perl-5.26.2 -Dman1dir=none -Dman3dir=none -Duse64bitall -Dusethreads -Dusemultiplicity -Duse64bitint -Aeval:scriptdir=/home/goku/perl5/perlbrew/perls/perl-5.26.2/bin'
    hint=recommended
    useposix=true
    d_sigaction=define
    useithreads=define
    usemultiplicity=define
    use64bitint=define
    use64bitall=define
    uselongdouble=undef
    usemymalloc=n
    default_inc_excludes_dot=define
    bincompat5005=undef
  Compiler:
    cc='cc'
    ccflags ='-pthread -fno-strict-aliasing -pipe -fstack-protector-strong -I/usr/local/include -D_FORTIFY_SOURCE=2'
    optimize='-O2'
    cppflags='-pthread -fno-strict-aliasing -pipe -fstack-protector-strong -I/usr/local/include'
    ccversion=''
    gccversion='4.2.1 Compatible OpenBSD Clang 5.0.1 (tags/RELEASE_501/final)'
    gccosandvers=''
    intsize=4
    longsize=8
    ptrsize=8
    doublesize=8
    byteorder=12345678
    doublekind=3
    d_longlong=define
    longlongsize=8
    d_longdbl=define
    longdblsize=16
    longdblkind=3
    ivtype='long'
    ivsize=8
    nvtype='double'
    nvsize=8
    Off_t='off_t'
    lseeksize=8
    alignbytes=8
    prototype=define
  Linker and Libraries:
    ld='cc'
    ldflags ='-pthread -Wl,-E  -fstack-protector-strong -L/usr/local/lib'
    libpth=/usr/lib /usr/local/lib
    libs=-lpthread -lm -lutil -lc
    perllibs=-lpthread -lm -lutil -lc
    libc=/usr/lib/libc.so.92.3
    so=so
    useshrplib=false
    libperl=libperl.a
    gnulibc_version=''
  Dynamic Linking:
    dlsrc=dl_dlopen.xs
    dlext=so
    d_dlsymun=undef
    ccdlflags=' '
    cccdlflags='-DPIC -fPIC '
    lddlflags='-shared -fPIC  -L/usr/local/lib -fstack-protector-strong'


Characteristics of this binary (from libperl): 
  Compile-time options:
    HAS_TIMES
    MULTIPLICITY
    PERLIO_LAYERS
    PERL_COPY_ON_WRITE
    PERL_DONT_CREATE_GVSV
    PERL_IMPLICIT_CONTEXT
    PERL_MALLOC_WRAP
    PERL_OP_PARENT
    PERL_PRESERVE_IVUV
    USE_64_BIT_ALL
    USE_64_BIT_INT
    USE_ITHREADS
    USE_LARGE_FILES
    USE_LOCALE
    USE_LOCALE_COLLATE
    USE_LOCALE_CTYPE
    USE_LOCALE_NUMERIC
    USE_LOCALE_TIME
    USE_PERLIO
    USE_PERL_ATOF
    USE_REENTRANT_API
  Locally applied patches:
    Devel::PatchPerl 1.48
  Built under openbsd
  Compiled at Jun 10 2018 14:27:37
  %ENV:
    PERL5LIB=""
    PERL5OPT=""
    PERL5_CPANPLUS_IS_RUNNING="9933"
    PERL5_CPAN_IS_RUNNING="9933"
    PERL5_CPAN_IS_RUNNING_IN_RECURSION="92057,9933"
    PERLBREW_HOME="/home/goku/.perlbrew"
    PERLBREW_MANPATH="/home/goku/perl5/perlbrew/perls/perl-5.26.2/man"
    PERLBREW_PATH="/home/goku/perl5/perlbrew/bin:/home/goku/perl5/perlbrew/perls/perl-5.26.2/bin"
    PERLBREW_PERL="perl-5.26.2"
    PERLBREW_ROOT="/home/goku/perl5/perlbrew"
    PERLBREW_SHELLRC_VERSION="0.84"
    PERLBREW_VERSION="0.84"
    PERL_CR_SMOKER_CURRENT="SVK-Log-Filter-Mndrix-0.0.3"
    PERL_EXTUTILS_AUTOINSTALL="--defaultdeps"
    PERL_MM_USE_DEFAULT="1"
  @INC:
    /home/goku/perl5/perlbrew/perls/perl-5.26.2/lib/site_perl/5.26.2/OpenBSD.amd64-openbsd-thread-multi
    /home/goku/perl5/perlbrew/perls/perl-5.26.2/lib/site_perl/5.26.2
    /home/goku/perl5/perlbrew/perls/perl-5.26.2/lib/5.26.2/OpenBSD.amd64-openbsd-thread-multi
    /home/goku/perl5/perlbrew/perls/perl-5.26.2/lib/5.26.2