Report for DateTime-Event-Recurrence-0.16

Back
From: metabase:user:e3434da8-b236-11df-85ca-0247c6d74bde
Subject: PASS DateTime-Event-Recurrence-0.16 v5.19.6 GNU/Linux
Date: 2014-01-27T12:10:43Z

This distribution has been tested as part of the CPAN Testers
project, supporting the Perl programming language.  See
http://wiki.cpantesters.org/ for more information or email
questions to cpan-testers-discuss@perl.org


--
Dear Flavio Soibelmann Glock,

This is a computer-generated report for DateTime-Event-Recurrence-0.16
on perl 5.19.6, created by CPAN-Reporter-1.2010.

Thank you for uploading your work to CPAN.  Congratulations!
All tests were successful.

Sections of this report:

    * Tester comments
    * Program output
    * Prerequisites
    * Environment and other context

------------------------------
TESTER COMMENTS
------------------------------

Additional comments from tester:

none provided

------------------------------
PROGRAM OUTPUT
------------------------------

Output from '/usr/bin/make test':

PERL_DL_NONLAZY=1 /home/ack/perl5/perlbrew/perls/perl-5.19.6/bin/perl5.19.6 "-MExtUtils::Command::MM" "-MTest::Harness" "-e" "undef *Test::Harness::Switches; test_harness(0, 'blib/lib', 'blib/arch')" t/*.t
t/00load.t ............ ok
t/01sanity.t .......... ok
t/02next.t ............ ok
t/03offset.t .......... ok
t/04neg_offset.t ...... ok
t/05set.t ............. ok
t/06overflow.t ........ ok
t/07set-2.t ........... ok
t/08stress.t .......... ok
t/09yearly_weekly.t ... ok
t/10weekly_more.t ..... ok
t/11mixed_offset.t .... ok
t/12monthly_weekly.t .. ok
t/13yearly_by_day.t ... ok
All tests successful.
Files=14, Tests=195,  5 wallclock secs ( 0.10 usr  0.02 sys +  4.51 cusr  0.18 csys =  4.81 CPU)
Result: PASS

------------------------------
PREREQUISITES
------------------------------

Prerequisite modules loaded:

requires:

    Module              Need Have
    ------------------- ---- ----
    DateTime            0.27 1.06
    DateTime::Set       0.17 0.33

build_requires:

    Module              Need Have
    ------------------- ---- ----
    ExtUtils::MakeMaker 0    6.86


------------------------------
ENVIRONMENT AND OTHER CONTEXT
------------------------------

Environment variables:

    LANG = en_GB.UTF-8
    LC_ADDRESS = nl_NL.utf8
    LC_COLLATE = C
    LC_IDENTIFICATION = nl_NL.utf8
    LC_MEASUREMENT = nl_NL.utf8
    LC_MONETARY = nl_NL.utf8
    LC_NAME = nl_NL.utf8
    LC_NUMERIC = nl_NL.utf8
    LC_PAPER = nl_NL.utf8
    LC_TELEPHONE = nl_NL.utf8
    LC_TIME = nl_NL.utf8
    PATH = /home/ack/perl5/perlbrew/bin:/home/ack/perl5/perlbrew/perls/perl-5.19.6/bin:/home/ack/.cabal/bin:/home/ack/bin:/home/ack/racket/bin:/home/ack/lisp/plt/bin:/usr/bin/mh:/home/ack/.cabal/bin:/home/ack/bin:/home/ack/racket/bin:/home/ack/lisp/plt/bin:/usr/bin/mh:/home/ack/.cabal/bin:/home/ack/bin:/home/ack/racket/bin:/home/ack/lisp/plt/bin:/usr/bin/mh:/usr/lib64/qt-3.3/bin:/usr/local/heroku/bin:/usr/libexec/lightdm:/usr/local/bin:/usr/bin:/bin:/usr/local/sbin:/usr/sbin:/home/ack/.cabal/bin:/usr/games:/usr/lib/surfraw:/home/ack/lisp/racket/bin:/home/ack/src/go/bin:/home/ack/.local/bin:/home/ack/bin:/usr/games:/usr/lib/surfraw:/home/ack/lisp/racket/bin:/home/ack/src/go/bin:/usr/games:/usr/lib/surfraw:/home/ack/lisp/racket/bin:/home/ack/src/go/bin:/home/ack/.local/bin:/home/ack/bin
    PERL5LIB = 
    PERL5OPT = 
    PERL5_CPANPLUS_IS_RUNNING = 26714
    PERL5_CPAN_IS_RUNNING = 26714
    PERLBREW_BASHRC_VERSION = 0.67
    PERLBREW_HOME = /home/ack/.perlbrew
    PERLBREW_MANPATH = /home/ack/perl5/perlbrew/perls/perl-5.19.6/man
    PERLBREW_PATH = /home/ack/perl5/perlbrew/bin:/home/ack/perl5/perlbrew/perls/perl-5.19.6/bin
    PERLBREW_PERL = perl-5.19.6
    PERLBREW_ROOT = /home/ack/perl5/perlbrew
    PERLBREW_VERSION = 0.67
    SHELL = /bin/bash
    TERM = screen-256color

Perl special variables (and OS-specific diagnostics, for MSWin32):

    $^X = /home/ack/perl5/perlbrew/perls/perl-5.19.6/bin/perl5.19.6
    $UID/$EUID = 1000 / 1000
    $GID = 1000 10 18 1000
    $EGID = 1000 10 18 1000

Perl module toolchain versions installed:

    Module              Have    
    ------------------- --------
    CPAN                2.03    
    CPAN::Meta          2.133380
    Cwd                 3.45    
    ExtUtils::CBuilder  0.280212
    ExtUtils::Command   1.18    
    ExtUtils::Install   1.61    
    ExtUtils::MakeMaker 6.86    
    ExtUtils::Manifest  1.63    
    ExtUtils::ParseXS   3.23    
    File::Spec          3.45    
    JSON                2.61    
    JSON::PP            2.27203 
    Module::Build       0.4204  
    Module::Signature   n/a     
    Parse::CPAN::Meta   1.4409  
    Test::Harness       3.30    
    Test::More          1.001002
    YAML                0.88    
    YAML::Syck          1.27    
    version             0.9907  


--

Summary of my perl5 (revision 5 version 19 subversion 6) configuration:
   
  Platform:
    osname=linux, osvers=3.12.7-200.fc19.x86_64, archname=x86_64-linux
    uname='linux localhost.localdomain 3.12.7-200.fc19.x86_64 #1 smp fri jan 10 15:32:06 utc 2014 x86_64 x86_64 x86_64 gnulinux '
    config_args='-de -Dprefix=/home/ack/perl5/perlbrew/perls/perl-5.19.6 -Dusedevel -Aeval:scriptdir=/home/ack/perl5/perlbrew/perls/perl-5.19.6/bin'
    hint=recommended, useposix=true, d_sigaction=define
    useithreads=undef, usemultiplicity=undef
    useperlio=define, d_sfio=undef, uselargefiles=define, usesocks=undef
    use64bitint=define, use64bitall=define, uselongdouble=undef
    usemymalloc=n, bincompat5005=undef
  Compiler:
    cc='cc', ccflags ='-fno-strict-aliasing -pipe -fstack-protector -I/usr/local/include -D_LARGEFILE_SOURCE -D_FILE_OFFSET_BITS=64',
    optimize='-O2',
    cppflags='-fno-strict-aliasing -pipe -fstack-protector -I/usr/local/include'
    ccversion='', gccversion='4.8.2 20131212 (Red Hat 4.8.2-7)', gccosandvers=''
    intsize=4, longsize=8, ptrsize=8, doublesize=8, byteorder=12345678
    d_longlong=define, longlongsize=8, d_longdbl=define, longdblsize=16
    ivtype='long', ivsize=8, nvtype='double', nvsize=8, Off_t='off_t', lseeksize=8
    alignbytes=8, prototype=define
  Linker and Libraries:
    ld='cc', ldflags =' -fstack-protector -L/usr/local/lib'
    libpth=/usr/local/lib /lib/../lib64 /usr/lib/../lib64 /lib /usr/lib /lib64 /usr/lib64 /usr/local/lib64
    libs=-lnsl -ldl -lm -lcrypt -lutil -lc
    perllibs=-lnsl -ldl -lm -lcrypt -lutil -lc
    libc=/lib/libc-2.17.so, so=so, useshrplib=false, libperl=libperl.a
    gnulibc_version='2.17'
  Dynamic Linking:
    dlsrc=dl_dlopen.xs, dlext=so, d_dlsymun=undef, ccdlflags='-Wl,-E'
    cccdlflags='-fPIC', lddlflags='-shared -O2 -L/usr/local/lib -fstack-protector'


Characteristics of this binary (from libperl): 
  Compile-time options: HAS_TIMES PERLIO_LAYERS PERL_DONT_CREATE_GVSV
                        PERL_HASH_FUNC_ONE_AT_A_TIME_HARD PERL_MALLOC_WRAP
                        PERL_NEW_COPY_ON_WRITE PERL_PRESERVE_IVUV
                        PERL_USE_DEVEL USE_64_BIT_ALL USE_64_BIT_INT
                        USE_LARGE_FILES USE_LOCALE USE_LOCALE_COLLATE
                        USE_LOCALE_CTYPE USE_LOCALE_NUMERIC USE_PERLIO
                        USE_PERL_ATOF
  Built under linux
  Compiled at Jan 15 2014 08:08:47
  %ENV:
    PERL5LIB=""
    PERL5OPT=""
    PERL5_CPANPLUS_IS_RUNNING="26714"
    PERL5_CPAN_IS_RUNNING="26714"
    PERLBREW_BASHRC_VERSION="0.67"
    PERLBREW_HOME="/home/ack/.perlbrew"
    PERLBREW_MANPATH="/home/ack/perl5/perlbrew/perls/perl-5.19.6/man"
    PERLBREW_PATH="/home/ack/perl5/perlbrew/bin:/home/ack/perl5/perlbrew/perls/perl-5.19.6/bin"
    PERLBREW_PERL="perl-5.19.6"
    PERLBREW_ROOT="/home/ack/perl5/perlbrew"
    PERLBREW_VERSION="0.67"
  @INC:
    /home/ack/perl5/perlbrew/perls/perl-5.19.6/lib/site_perl/5.19.6/x86_64-linux
    /home/ack/perl5/perlbrew/perls/perl-5.19.6/lib/site_perl/5.19.6
    /home/ack/perl5/perlbrew/perls/perl-5.19.6/lib/5.19.6/x86_64-linux
    /home/ack/perl5/perlbrew/perls/perl-5.19.6/lib/5.19.6
    .