Back
From: metabase:user:31d414ea-2aae-11df-837a-5e0a49663a4f
Subject: PASS Path-FindDev-0.4.1 v5.16.2 GNU/Linux
Date: 2013-10-24T15:36:26Z
This distribution has been tested as part of the CPAN Testers
project, supporting the Perl programming language. See
http://wiki.cpantesters.org/ for more information or email
questions to cpan-testers-discuss@perl.org
--
Dear Kent Fredric,
This is a computer-generated report for Path-FindDev-0.4.1
on perl 5.16.2, created by CPAN-Reporter-1.2006.
Thank you for uploading your work to CPAN. Congratulations!
All tests were successful.
Sections of this report:
* Tester comments
* Program output
* Prerequisites
* Environment and other context
------------------------------
TESTER COMMENTS
------------------------------
Additional comments from tester:
this report is from an automated smoke testing program
and was not reviewed by a human for accuracy
------------------------------
PROGRAM OUTPUT
------------------------------
Output from './Build test':
t/00-compile.t ................ ok
#
#
# Generated by Dist::Zilla::Plugin::ReportVersions::Tiny v1.10
# perl: 5.016002 (wanted v5.10.0) on linux from /home/david/cpantesting/perl-5.16.2/bin/perl
#
# Carp => 1.26 (want any version)
# Class::Tiny => 0.011 (want 0.010)
# File::Spec => 3.40 (want any version)
# FindBin => 1.51 (want any version)
# IO::Handle => 1.33 (want any version)
# IPC::Open3 => 1.12 (want any version)
# Module::Build => 0.4007 (want 0.4007)
# Path::IsDev => 1.000000 (want v0.2.2)
# Path::IsDev::Object => 1.000000 (want any version)
# Path::Tiny => 0.044 (want 0.038)
# Scalar::Util => 1.35 (want any version)
# Sub::Exporter => 0.984 (want any version)
# Test::More => 0.99 (want 0.99)
# strict => 1.07 (want any version)
# warnings => 1.13 (want any version)
#
# Thanks for using my code. I hope it works for you.
# If not, please try and include this output in the bug report.
# That will help me reproduce the issue and solve your problem.
#
t/000-report-versions-tiny.t .. ok
# System path sanity check skipped due to potential security risks, set ENV{SYSTEM_PATH_TEST} if you wish to run this test
t/basic.t ..................... ok
All tests successful.
Files=3, Tests=5, 0 wallclock secs ( 0.01 usr 0.03 sys + 0.21 cusr 0.04 csys = 0.29 CPU)
Result: PASS
------------------------------
PREREQUISITES
------------------------------
Prerequisite modules loaded:
requires:
Module Need Have
------------------- ------- --------
Carp 0 1.26
Class::Tiny 0.010 0.011
Path::IsDev v0.2.2 1.000000
Path::IsDev::Object 0 1.000000
Path::Tiny 0.038 0.044
perl v5.10.0 5.016002
Scalar::Util 0 1.35
strict 0 1.07
Sub::Exporter 0 0.984
warnings 0 1.13
build_requires:
Module Need Have
------------------- ------- --------
File::Spec 0 3.40
FindBin 0 1.51
IO::Handle 0 1.33
IPC::Open3 0 1.12
Module::Build 0.4007 0.4007
Test::More 0.99 0.99
configure_requires:
Module Need Have
------------------- ------- --------
Module::Build 0.4007 0.4007
------------------------------
ENVIRONMENT AND OTHER CONTEXT
------------------------------
Environment variables:
AUTOMATED_TESTING = 1
PATH = /usr/local/bin:/usr/bin:/bin:/usr/games
PERL = 5.16.2
PERL5LIB =
PERL5OPT =
PERL5_CPANPLUS_IS_RUNNING = 1327
PERL5_CPAN_IS_RUNNING = 1327
PERLVER = 5.16.2
PERL_INLINE_DIRECTORY = /home/david/.Inline-5.16.2
PERL_MM_USE_DEFAULT = 1
SHELL = /bin/bash
TERM = screen
Perl special variables (and OS-specific diagnostics, for MSWin32):
$^X = /home/david/cpantesting/perl-5.16.2/bin/perl
$UID/$EUID = 1000 / 1000
$GID = 1000 1000
$EGID = 1000 1000
Perl module toolchain versions installed:
Module Have
------------------- --------
CPAN 1.9800
CPAN::Meta 2.132830
Cwd 3.40
ExtUtils::CBuilder 0.280206
ExtUtils::Command 1.17
ExtUtils::Install 1.58
ExtUtils::MakeMaker 6.63_02
ExtUtils::Manifest 1.61
ExtUtils::ParseXS 3.16
File::Spec 3.40
JSON 2.53
JSON::PP 2.27200
Module::Build 0.4007
Module::Signature n/a
Parse::CPAN::Meta 1.4409
Test::Harness 3.29
Test::More 0.99
YAML 0.84
YAML::Syck 1.27
version 0.9904
--
Summary of my perl5 (revision 5 version 16 subversion 2) configuration:
Platform:
osname=linux, osvers=2.6.32-5-xen-amd64, archname=x86_64-linux-thread-multi
uname='linux pigsty.barnyard.co.uk 2.6.32-5-xen-amd64 #1 smp sun may 6 08:57:29 utc 2012 x86_64 gnulinux '
config_args='-de -Dprefix=/home/david/cpantesting/perl-5.16.2 -Dusethreads -Duse64bitall'
hint=recommended, useposix=true, d_sigaction=define
useithreads=define, usemultiplicity=define
useperlio=define, d_sfio=undef, uselargefiles=define, usesocks=undef
use64bitint=define, use64bitall=define, uselongdouble=undef
usemymalloc=n, bincompat5005=undef
Compiler:
cc='cc', ccflags ='-D_REENTRANT -D_GNU_SOURCE -fno-strict-aliasing -pipe -fstack-protector -I/usr/local/include -D_LARGEFILE_SOURCE -D_FILE_OFFSET_BITS=64',
optimize='-O2',
cppflags='-D_REENTRANT -D_GNU_SOURCE -fno-strict-aliasing -pipe -fstack-protector -I/usr/local/include'
ccversion='', gccversion='4.1.2 20061115 (prerelease) (Debian 4.1.1-21)', gccosandvers=''
intsize=4, longsize=8, ptrsize=8, doublesize=8, byteorder=12345678
d_longlong=define, longlongsize=8, d_longdbl=define, longdblsize=16
ivtype='long', ivsize=8, nvtype='double', nvsize=8, Off_t='off_t', lseeksize=8
alignbytes=8, prototype=define
Linker and Libraries:
ld='cc', ldflags =' -fstack-protector -L/usr/local/lib'
libpth=/usr/local/lib /lib /usr/lib /lib64 /usr/lib64
libs=-lnsl -lgdbm -ldb -ldl -lm -lcrypt -lutil -lpthread -lc -lgdbm_compat
perllibs=-lnsl -ldl -lm -lcrypt -lutil -lpthread -lc
libc=/lib/libc-2.3.6.so, so=so, useshrplib=false, libperl=libperl.a
gnulibc_version='2.3.6'
Dynamic Linking:
dlsrc=dl_dlopen.xs, dlext=so, d_dlsymun=undef, ccdlflags='-Wl,-E'
cccdlflags='-fPIC', lddlflags='-shared -O2 -L/usr/local/lib -fstack-protector'
Characteristics of this binary (from libperl):
Compile-time options: HAS_TIMES MULTIPLICITY PERLIO_LAYERS
PERL_DONT_CREATE_GVSV PERL_IMPLICIT_CONTEXT
PERL_MALLOC_WRAP PERL_PRESERVE_IVUV USE_64_BIT_ALL
USE_64_BIT_INT USE_ITHREADS USE_LARGE_FILES
USE_LOCALE USE_LOCALE_COLLATE USE_LOCALE_CTYPE
USE_LOCALE_NUMERIC USE_PERLIO USE_PERL_ATOF
USE_REENTRANT_API
Built under linux
Compiled at Nov 5 2012 17:46:30
%ENV:
PERL="5.16.2"
PERL5LIB=""
PERL5OPT=""
PERL5_CPANPLUS_IS_RUNNING="1327"
PERL5_CPAN_IS_RUNNING="1327"
PERLVER="5.16.2"
PERL_INLINE_DIRECTORY="/home/david/.Inline-5.16.2"
PERL_MM_USE_DEFAULT="1"
@INC:
/home/david/cpantesting/perl-5.16.2/lib/site_perl/5.16.2/x86_64-linux-thread-multi
/home/david/cpantesting/perl-5.16.2/lib/site_perl/5.16.2
/home/david/cpantesting/perl-5.16.2/lib/5.16.2/x86_64-linux-thread-multi
/home/david/cpantesting/perl-5.16.2/lib/5.16.2
.