Text-Amuse-Preprocessor v0.67 Perl 5 v5.34.0 amd64-freebsd

Status
Pass
From
Slaven Rezić
Dist
Text-Amuse-Preprocessor v0.67
Platform
Perl 5 v5.34.0 amd64-freebsd
Date
2023-07-11 06:49:12
ID
0b80e4dc-1fb7-11ee-a732-e53c6e8775ea
This distribution has been tested as part of the CPAN Testers
project, supporting the Perl programming language.  See
http://wiki.cpantesters.org/ for more information or email
questions to cpan-testers-discuss@perl.org


--
Dear Marco Pessotto,

This is a computer-generated report for Text-Amuse-Preprocessor-0.67
on perl 5.34.0, created by CPAN-Reporter-1.2018.

Thank you for uploading your work to CPAN.  Congratulations!
All tests were successful.

Sections of this report:

    * Tester comments
    * Program output
    * Prerequisites
    * Environment and other context

------------------------------
TESTER COMMENTS
------------------------------

Additional comments from tester:

none provided

------------------------------
PROGRAM OUTPUT
------------------------------

Output from '/usr/bin/make test':

PERL_DL_NONLAZY=1 "/usr/perl5.34.0p/bin/perl5.34.0" "-MExtUtils::Command::MM" "-MTest::Harness" "-e" "undef *Test::Harness::Switches; test_harness(0, 'blib/lib', 'blib/arch')" t/*.t
# Testing Text::Amuse::Preprocessor 0.67, Perl 5.034000, /usr/perl5.34.0p/bin/perl5.34.0
t/00-load.t ........... ok
t/changes.t ........... skipped: Changes testing not required (or Test::CPAN::Changes not found)
t/chars.t ............. ok
t/chinese.t ........... ok
# Using /var/tmp/cpansmoker-1023/2023071106/IV895Hng7Y for ligatures
# Using /var/tmp/cpansmoker-1023/2023071106/koCJHXKHVG for missing_nl
# Using /var/tmp/cpansmoker-1023/2023071106/xmGEW_mkun for garbage
# Using /var/tmp/cpansmoker-1023/2023071106/xhPo4b0g4G for ellipsis_no_fix
# Using /var/tmp/cpansmoker-1023/2023071106/bvFGZmk9Zp for ellipsis
# Using /var/tmp/cpansmoker-1023/2023071106/Tei1hyfJNH for links
# Using /var/tmp/cpansmoker-1023/2023071106/IKDMAGy2dS for en
# Using /var/tmp/cpansmoker-1023/2023071106/79tf4pd2VZ for fi
# Using /var/tmp/cpansmoker-1023/2023071106/6HyCBivtTa for es
# Using /var/tmp/cpansmoker-1023/2023071106/dkLcgdrFtA for sr
# Using /var/tmp/cpansmoker-1023/2023071106/MapTlO6EGX for hr
# Using /var/tmp/cpansmoker-1023/2023071106/BBcak2p1rX for ru
# Using /var/tmp/cpansmoker-1023/2023071106/TcPehQu0MJ for it
# Using /var/tmp/cpansmoker-1023/2023071106/uX4adaY8Ge for mk
# Using /var/tmp/cpansmoker-1023/2023071106/VwuLShL1yl for sv
# Using /var/tmp/cpansmoker-1023/2023071106/NIAhvr6Gpr for de
# Using /var/tmp/cpansmoker-1023/2023071106/qIPCTG6aV6 for pl
# Using /var/tmp/cpansmoker-1023/2023071106/TpfdSi8Wm4 for bg
# Using /var/tmp/cpansmoker-1023/2023071106/vekzoW6Sr2 for eo
# Using /var/tmp/cpansmoker-1023/2023071106/B2eRaG7hpP for fr
# Using /var/tmp/cpansmoker-1023/2023071106/uMpoE8GlBk for pt
# Using /var/tmp/cpansmoker-1023/2023071106/ldHSYeTRQ9 for sq
# Using /var/tmp/cpansmoker-1023/2023071106/vJ6xYMs9pd for da
# Using /var/tmp/cpansmoker-1023/2023071106/2VBqcrgtWP for nl
# Using /var/tmp/cpansmoker-1023/2023071106/oNngOZfigc for id
# Using /var/tmp/cpansmoker-1023/2023071106/yAP0XSCEF5 for Full example
# Using /var/tmp/cpansmoker-1023/2023071106/MTirx4zgGz for Quote
# Using /var/tmp/cpansmoker-1023/2023071106/Lm3vktx565 for Quote
# Using /var/tmp/cpansmoker-1023/2023071106/2FyYnxixjW for Nl quotation
t/common.t ............ ok
t/crash-on-verb.t ..... ok
# $VAR1 = "#title Test
# #lang en
# 
# 0
# 
# \x{201c}0\x{201d}
# 
# 0
# ";
# $VAR1 = "#title Test
# #lang en
# 
# 0
# 
# \x{201c}0\x{201d}
# 
# 0
# ";
t/crash_on_loop.t ..... ok
# /var/tmp/cpansmoker-1023/2023071106/K4rBBKjf4l/verbatim-in.muse
# /var/tmp/cpansmoker-1023/2023071106/K4rBBKjf4l
t/exclude-verbatim.t .. ok
tagpile mismatch: meta, head
tagpile mismatch: head, html
tagpile mismatch: link, head
tagpile mismatch: hr, div
tagpile mismatch: br, body
tagpile mismatch: div, html
# 
# 
# <right>
# سلام من هیچکسی نیستم.[1]
# </right>
# 
# <br>
# 
# [1] https://amusewiki.org
# 
tagpile mismatch: link, head
tagpile mismatch: hr, div
tagpile mismatch: br, body
tagpile mismatch: div, html
# 
# 
# سلام من هیچکسی نیستم.[1]
# 
# <br>
# 
# [1] https://amusewiki.org
# 
t/farsi.t ............. ok
# Testing t/footnotes/good.in => t/footnotes/good.out
# Testing t/footnotes/good2.in => t/footnotes/good2.out
# Testing t/footnotes/good3.in => t/footnotes/good3.out
# Testing t/footnotes/mixed.in => t/footnotes/mixed.out
# Testing t/footnotes/indentation.in => t/footnotes/indentation.out
# Testing t/footnotes/sec-good.in => t/footnotes/sec-good.out
# Testing t/footnotes/sec-good2.in => t/footnotes/sec-good2.out
# Testing t/footnotes/sec-good3.in => t/footnotes/sec-good3.out
# Testing t/footnotes/sec-bad.in => t/footnotes/sec-bad.out
# @@ -1 +1,2 @@
# -{4}
# +{3}
# +{3}
# Testing t/footnotes/sec-bad2.in => t/footnotes/sec-bad2.out
# @@ -1,3 +1,2 @@
# -{4}
# +{3}
# -{5}
# +{3}
# -{6}
# Testing t/footnotes/bad.in => t/footnotes/bad.out
# @@ -1,2 +1,3 @@
#  [1]
# -[1]
# +[2]
# +[4]
# Testing t/footnotes/bad2.in => t/footnotes/bad2.out
# @@ -1,4 +1,3 @@
#  [1]
# -[1]
# +[2]
#  [4]
# -[5]
t/footnotes.t ......... ok
tagpile mismatch: root, p
t/html-2.t ............ ok
# Using /var/tmp/cpansmoker-1023/2023071106/oTmrwfp3_U.html
# Using /var/tmp/cpansmoker-1023/2023071106/RNDrcN2zpm.html
# Using /var/tmp/cpansmoker-1023/2023071106/jjUJINcty3.html
# Using /var/tmp/cpansmoker-1023/2023071106/5fGJTCuTCI.html
# Using /var/tmp/cpansmoker-1023/2023071106/sfO34m9U9d.html
# Using /var/tmp/cpansmoker-1023/2023071106/_DarEsjtzY.html
# Using /var/tmp/cpansmoker-1023/2023071106/mFxIndJGOB.html
# Using /var/tmp/cpansmoker-1023/2023071106/rIgw37yDs3.html
# Using /var/tmp/cpansmoker-1023/2023071106/rkNfO8AOWx.html
# Using /var/tmp/cpansmoker-1023/2023071106/88zdgrP0Z6.html
# Using /var/tmp/cpansmoker-1023/2023071106/aqPrqgypO1.html
# Using /var/tmp/cpansmoker-1023/2023071106/aBy7_j_3L3.html
# Using /var/tmp/cpansmoker-1023/2023071106/eaYxQodd52.html
# Using /var/tmp/cpansmoker-1023/2023071106/h_St54Z8Ly.html
# Using /var/tmp/cpansmoker-1023/2023071106/ih5RASFNMu.html
# Using /var/tmp/cpansmoker-1023/2023071106/EZJA8Tg3bH.html
# Using /var/tmp/cpansmoker-1023/2023071106/WawPoYC8UU.html
t/html.t .............. ok
# Retrieved on February 2, 2011 from http://j12.org/spunk/library/writers/meltzer/sp001500.html
# Retrieved on February 2, 2011 from [[http://j12.org/spunk/library/writers/meltzer/sp001500.html][j12.org]]
# Retrieved on December 22, 2011 from http://libertarian-labyrinth.org/archive/The_Great_Debacle
# Retrieved on December 22, 2011 from [[http://libertarian-labyrinth.org/archive/The_Great_Debacle][libertarian-labyrinth.org]]
# <br>http://www.nancho.net/advisors/anaes.html<br>
# <br>[[http://www.nancho.net/advisors/anaes.html][www.nancho.net]]<br>
# http://www.nancho.net/advisors/anaes.html<br>http://www.nancho.net/advisors/anaes.html<br>
# [[http://www.nancho.net/advisors/anaes.html][www.nancho.net]]<br>[[http://www.nancho.net/advisors/anaes.html][www.nancho.net]]<br>
#  https://web.archive.org/web/20220504202253/https://amusewiki.org/special/index 
#  [[https://web.archive.org/web/20220504202253/https://amusewiki.org/special/index][web.archive.org]] 
#  [[https://web.archive.org/web/20220504202253/https://amusewiki.org/special/index][web.archive.org]] 
#  [[https://web.archive.org/web/20220504202253/https://amusewiki.org/special/index][web.archive.org]] 
# http://test.org/xx and http://test.org/xx
# [[http://test.org/xx][test.org]] and [[http://test.org/xx][test.org]]
# [[http://test.org/xx][test.org]] and [[http://test.org/xx][test.org]]
# [[http://test.org/xx][test.org]] and [[http://test.org/xx][test.org]]
# http://test.org/xx and [[http://test.org/xx][test.org]]
# [[http://test.org/xx][test.org]] and [[http://test.org/xx][test.org]]
# http://test.org/xx and http://test.org/xx][test.org]] 
# [[http://test.org/xx][test.org]] and http://test.org/xx][test.org]] 
# <http://test.org/xx> and >http://test.org/xx<
# <[[http://test.org/xx][test.org]]> and >[[http://test.org/xx][test.org]]<
# <http://test.org/xx> and https://test.org:80/>http://test.org/xx< and https://test.org/ and [[https://test.org/][test.org]]
# <[[http://test.org/xx][test.org]]> and [[https://test.org:80/][test.org]]>[[http://test.org/xx][test.org]]< and [[https://test.org/][test.org]] and [[https://test.org/][test.org]]
# https://example.com/@test and https://example.com/@test
# [[https://example.com/@test][example.com]] and [[https://example.com/@test][example.com]]
# (http://en.wikipedia.org/wiki/Pi_%28instrument%29)
# ([[http://en.wikipedia.org/wiki/Pi_%28instrument%29][en.wikipedia.org]])
# (http://en.wikipedia.org?test=1)
# ([[http://en.wikipedia.org?test=1][en.wikipedia.org]])
# (http://en.wikipedia.org?test=1&test=2) (http://en.wikipedia.org/test?test=1)
# ([[http://en.wikipedia.org?test=1&test=2][en.wikipedia.org]]) ([[http://en.wikipedia.org/test?test=1][en.wikipedia.org]])
t/links.t ............. ok
t/manifest.t .......... skipped: Author tests not required for installation
t/memory-cycles.t ..... ok
t/nbsp.t .............. ok
# Infile is /var/tmp/cpansmoker-1023/2023071106/Vr9UXTVhd5/input.txt
# Using /var/tmp/cpansmoker-1023/2023071106/jQjJl1ITCg as temporary dir
t/object.t ............ ok
t/pod-coverage.t ...... skipped: Pod coverage not required for installation
t/pod.t ............... skipped: Pod test not required for installation
t/russian.t ........... ok
t/subs.t .............. ok
t/typography.t ........ ok
All tests successful.
Files=22, Tests=481,  4 wallclock secs ( 0.14 usr  0.07 sys +  2.42 cusr  0.46 csys =  3.09 CPU)
Result: PASS

------------------------------
PREREQUISITES
------------------------------

Prerequisite modules loaded:

requires:

    Module              Need Have    
    ------------------- ---- --------
    HTML::PullParser    0    3.80    
    IO::HTML            1    1.004   
    Pod::Simple::Wiki   0.19 0.20    
    Text::Amuse         0.95 1.81    
    Text::Diff          0    1.45    

build_requires:

    Module              Need Have    
    ------------------- ---- --------
    Test::More          0    1.302195

configure_requires:

    Module              Need Have    
    ------------------- ---- --------
    ExtUtils::MakeMaker 0    7.70    


------------------------------
ENVIRONMENT AND OTHER CONTEXT
------------------------------

Environment variables:

    PATH = /usr/local/bin:/usr/bin:/bin:/usr/local/sbin:/usr/sbin:/sbin:/home/cpansand/bin/sh:/home/cpansand/bin:/usr/games:/home/cpansand/devel:/usr/home/eserte/src/srezic-misc/scripts
    PERL5LIB = 
    PERL5OPT = 
    PERL5_CPANPLUS_IS_RUNNING = 69476
    PERL5_CPAN_IS_RUNNING = 69476
    PERL5_CPAN_IS_RUNNING_IN_RECURSION = 69032,69476
    PERL_BATCH = yes
    PERL_CANARY_STABILITY_NOPROMPT = 1
    PERL_CPAN_REPORTER_CONFIG = /var/tmp/cpansmoker-1023/2023071106/cpanreporter_000_config.ini
    PERL_EXTUTILS_AUTOINSTALL = --defaultdeps
    PERL_USE_UNSAFE_INC = 1
    SHELL = /bin/sh
    TMPDIR = /var/tmp/cpansmoker-1023/2023071106

Perl special variables (and OS-specific diagnostics, for MSWin32):

    $^X = /usr/perl5.34.0p/bin/perl5.34.0
    $UID/$EUID = 1023 / 1023
    $GID = 1023 1023
    $EGID = 1023 1023

Perl module toolchain versions installed:

    Module              Have    
    ------------------- --------
    CPAN                2.36    
    CPAN::Meta          2.150010
    Cwd                 3.80    
    ExtUtils::CBuilder  0.280236
    ExtUtils::Command   7.70    
    ExtUtils::Install   2.20    
    ExtUtils::MakeMaker 7.70    
    ExtUtils::Manifest  1.75    
    ExtUtils::ParseXS   3.43    
    File::Spec          3.80    
    JSON                4.10    
    JSON::PP            4.15    
    Module::Build       0.4232  
    Module::Signature   0.88    
    Parse::CPAN::Meta   2.150010
    Test::Harness       3.43    
    Test::More          1.302195
    YAML                1.30    
    YAML::Syck          1.34    
    version             0.9929  


--

Summary of my perl5 (revision 5 version 34 subversion 0) configuration:
   
  Platform:
    osname=freebsd
    osvers=12.2-stable
    archname=amd64-freebsd
    uname='freebsd cloud1.bbbike.org 12.2-stable freebsd 12.2-stable stable12-n233163-8ab4e1b9512 generic amd64 '
    config_args='-ds -e -Dprefix=/usr/perl5.34.0p -Dcf_email=srezic@cpan.org -Doptimize=-O2 -pipe'
    hint=recommended
    useposix=true
    d_sigaction=define
    useithreads=undef
    usemultiplicity=undef
    use64bitint=define
    use64bitall=define
    uselongdouble=undef
    usemymalloc=n
    default_inc_excludes_dot=define
  Compiler:
    cc='cc'
    ccflags ='-DHAS_FPSETMASK -DHAS_FLOATINGPOINT_H -fno-strict-aliasing -pipe -fstack-protector-strong -I/usr/local/include'
    optimize='-O2 -pipe'
    cppflags='-DHAS_FPSETMASK -DHAS_FLOATINGPOINT_H -fno-strict-aliasing -pipe -fstack-protector-strong -I/usr/local/include'
    ccversion=''
    gccversion='FreeBSD Clang 10.0.1 (git@github.com:llvm/llvm-project.git llvmorg-10.0.1-0-gef32c611aa2)'
    gccosandvers=''
    intsize=4
    longsize=8
    ptrsize=8
    doublesize=8
    byteorder=12345678
    doublekind=3
    d_longlong=define
    longlongsize=8
    d_longdbl=define
    longdblsize=16
    longdblkind=3
    ivtype='long'
    ivsize=8
    nvtype='double'
    nvsize=8
    Off_t='off_t'
    lseeksize=8
    alignbytes=8
    prototype=define
  Linker and Libraries:
    ld='cc'
    ldflags ='-pthread -Wl,-E  -fstack-protector-strong -L/usr/local/lib'
    libpth=/usr/lib /usr/local/lib /usr/lib/clang/10.0.1/lib
    libs=-lpthread -lgdbm -ldl -lm -lcrypt -lutil -lc
    perllibs=-lpthread -ldl -lm -lcrypt -lutil -lc
    libc=
    so=so
    useshrplib=false
    libperl=libperl.a
    gnulibc_version=''
  Dynamic Linking:
    dlsrc=dl_dlopen.xs
    dlext=so
    d_dlsymun=undef
    ccdlflags=' '
    cccdlflags='-DPIC -fPIC'
    lddlflags='-shared  -L/usr/local/lib -fstack-protector-strong'


Characteristics of this binary (from libperl): 
  Compile-time options:
    HAS_TIMES
    PERLIO_LAYERS
    PERL_COPY_ON_WRITE
    PERL_DONT_CREATE_GVSV
    PERL_MALLOC_WRAP
    PERL_OP_PARENT
    PERL_PRESERVE_IVUV
    USE_64_BIT_ALL
    USE_64_BIT_INT
    USE_LARGE_FILES
    USE_LOCALE
    USE_LOCALE_COLLATE
    USE_LOCALE_CTYPE
    USE_LOCALE_NUMERIC
    USE_LOCALE_TIME
    USE_PERLIO
    USE_PERL_ATOF
  Built under freebsd
  Compiled at May 25 2021 16:34:52
  %ENV:
    PERL5LIB=""
    PERL5OPT=""
    PERL5_CPANPLUS_IS_RUNNING="69476"
    PERL5_CPAN_IS_RUNNING="69476"
    PERL5_CPAN_IS_RUNNING_IN_RECURSION="69032,69476"
    PERL_BATCH="yes"
    PERL_CANARY_STABILITY_NOPROMPT="1"
    PERL_CPAN_REPORTER_CONFIG="/var/tmp/cpansmoker-1023/2023071106/cpanreporter_000_config.ini"
    PERL_EXTUTILS_AUTOINSTALL="--defaultdeps"
    PERL_USE_UNSAFE_INC="1"
  @INC:
    /usr/perl5.34.0p/lib/site_perl/5.34.0/amd64-freebsd
    /usr/perl5.34.0p/lib/site_perl/5.34.0
    /usr/perl5.34.0p/lib/5.34.0/amd64-freebsd
    /usr/perl5.34.0p/lib/5.34.0
    .