Report for Reaction-0.002005

Back
From: metabase:user:314402c4-2aae-11df-837a-5e0a49663a4f
Subject: PASS Reaction-0.002005 v5.12.0 FreeBSD
Date: 2011-03-08T20:17:08Z

This distribution has been tested as part of the CPAN Testers
project, supporting the Perl programming language.  See
http://wiki.cpantesters.org/ for more information or email
questions to cpan-testers-discuss@perl.org


--
Dear Justin Hunter,

This is a computer-generated report for Reaction-0.002005
on perl 5.12.0, created by CPAN-Reporter-1.1902.

Thank you for uploading your work to CPAN.  Congratulations!
All tests were successful.

Sections of this report:

    * Tester comments
    * Program output
    * Prerequisites
    * Environment and other context

------------------------------
TESTER COMMENTS
------------------------------

Additional comments from tester:

none provided

------------------------------
PROGRAM OUTPUT
------------------------------

Output from '/usr/bin/make test':

PERL_DL_NONLAZY=1 /usr/perl5.12.0/bin/perl5.12.0 "-MExtUtils::Command::MM" "-e" "test_harness(0, 'inc', 'blib/lib', 'blib/arch')" t/00componentui_compiles.t t/01app.t t/04load_all.t t/05reflect_attr_from.t t/im_dbic.t t/ui_focus_stack.t t/ui_view.t t/ui_viewport.t t/uncheck_bool_field.t
t/00componentui_compiles.t .. ok
Name "Win32::Locale::Lexicon" used only once: possible typo at /usr/perl5.12.0/lib/5.12.0/I18N/LangTags/Detect.pm line 140.
Name "ComponentUI::I18N::en::Lexicon" used only once: possible typo at /usr/perl5.12.0/lib/5.12.0/Locale/Maketext.pm line 443.
[debug] remote
t/01app.t ................... ok
t/04load_all.t .............. ok
t/05reflect_attr_from.t ..... ok
t/im_dbic.t ................. ok
t/ui_focus_stack.t .......... ok
t/ui_view.t ................. ok
t/ui_viewport.t ............. ok
Name "Win32::Locale::Lexicon" used only once: possible typo at /usr/perl5.12.0/lib/5.12.0/I18N/LangTags/Detect.pm line 140.
Name "ComponentUI::I18N::en::Lexicon" used only once: possible typo at /usr/perl5.12.0/lib/5.12.0/Locale/Maketext.pm line 443.
t/uncheck_bool_field.t ...... ok
All tests successful.
Files=9, Tests=604, 22 wallclock secs ( 0.10 usr  0.05 sys + 19.20 cusr  0.89 csys = 20.24 CPU)
Result: PASS

------------------------------
PREREQUISITES
------------------------------

Prerequisite modules loaded:

requires:

    Module                                  Need      Have     
    --------------------------------------- --------- ---------
    aliased                                 0.22      0.30     
    Catalyst                                5.80002   5.80032  
    Catalyst::Component::ACCEPT_CONTEXT     0.05      0.07     
    Catalyst::Component::InstancePerContext 0.001001  0.001001 
    Catalyst::Model::DBIC::Schema           0.23      0.47     
    Catalyst::Plugin::ConfigLoader          0.23      0.30     
    Catalyst::Plugin::I18N                  0.09      0.09     
    Catalyst::Plugin::Static::Simple        0.21      0.29     
    Catalyst::View::TT                      0.29      0.35     
    Class::MOP                              0.81      1.9904   
    Config::General                         2.42      2.49     
    Crypt::Eksblowfish::Bcrypt              0.005     0.008    
    DateTime                                0.47      0.66     
    DateTime::Event::Recurrence             0.16      0.16     
    DateTime::Span                          0         0        
    DBIx::Class                             0.08100   0.08127  
    DBIx::Class::IntrospectableM2M          0.001001  0.001001 
    Devel::Declare                          0.005000  0.006000 
    Email::Valid                            0.181     0.184    
    ExtUtils::MakeMaker                     6.42      6.56     
    File::ShareDir                          1.00      1.03     
    File::Spec                              3.29      3.33     
    JSON                                    0         2.50     
    metaclass                               0.81      1.9904   
    Method::Signatures::Simple              0.03      0.06     
    Moose                                   0.74      1.9904   
    MooseX::MethodAttributes                0.18      0.24     
    MooseX::Role::Parameterized             0.24      0.24     
    MooseX::Types                           0.10      0.24     
    MooseX::Types::Common                   0.001000  0.001002 
    MooseX::Types::DateTime                 0.03      0.05     
    MooseX::Types::URI                      0.02      0.02     
    namespace::clean                        0.11      0.20     
    Path::Class::Dir                        0         0.23     
    Path::Class::File                       0         0.23     
    Scalar::Util                            1.19      1.23     
    signatures                              0.05      0.06     
    SQL::Translator                         0.11002   0.11007  
    Sub::Exporter                           0.982     0.982    
    Sub::Name                               0.04      0.05     
    Template                                2.20      2.22     
    Test::Class                             0.31      0.36     
    Test::Memory::Cycle                     1.04      1.04     
    Test::WWW::Mechanize::Catalyst          0.51      0.52     
    Time::ParseDate                         2006.0814 2006.0814
    URI                                     1.37      1.58     

configure_requires:

    Module                                  Need      Have     
    --------------------------------------- --------- ---------
    ExtUtils::MakeMaker                     6.42      6.56     


------------------------------
ENVIRONMENT AND OTHER CONTEXT
------------------------------

Environment variables:

    DBIC_NO_WARN_BAD_PERL = 1
    PATH = /usr/local/bin:/usr/X11R6/bin:/usr/X11/bin:/usr/perl5.8.0/bin:/usr/bin:/bin:/usr/local/sbin:/usr/sbin:/sbin:/usr/local/pilot/bin:/home/cpansand/bin/freebsd8.0:/home/cpansand/bin/sh:/home/cpansand/bin:/usr/X386/bin:/usr/games:/home/cpansand/devel:/usr/home/e/eserte/work/srezic-misc/scripts
    PERL5LIB = 
    PERL5OPT = 
    PERL5_CPANPLUS_IS_RUNNING = 33925
    PERL5_CPAN_IS_RUNNING = 33925
    PERL5_CPAN_IS_RUNNING_IN_RECURSION = 33742,33925
    PERL_BATCH = yes
    PERL_CPAN_REPORTER_CONFIG = /tmp/cpansmoker-1023/PUIvz8Waw8_config.ini
    PERL_EXTUTILS_AUTOINSTALL = --defaultdeps
    PERL_HTML_DISPLAY_CLASS = HTML::Display::Mozilla
    SHELL = /usr/local/bin/zsh
    TERM = screen
    TMPDIR = /tmp/cpansmoker-1023

Perl special variables (and OS-specific diagnostics, for MSWin32):

    $^X = /usr/perl5.12.0/bin/perl5.12.0
    $UID/$EUID = 1023 / 1023
    $GID = 1023 1023
    $EGID = 1023 1023

Perl module toolchain versions installed:

    Module              Have    
    ------------------- --------
    CPAN                1.94_62 
    Cwd                 3.33    
    ExtUtils::CBuilder  0.280201
    ExtUtils::Command   1.17    
    ExtUtils::Install   1.55    
    ExtUtils::MakeMaker 6.56    
    ExtUtils::Manifest  1.57    
    ExtUtils::ParseXS   2.2206  
    File::Spec          3.33    
    Module::Build       0.3800  
    Module::Signature   0.66    
    Test::Harness       3.22    
    Test::More          0.98    
    YAML                0.72    
    YAML::Syck          1.17    
    version             0.88    


--

Summary of my perl5 (revision 5 version 12 subversion 0) configuration:
   
  Platform:
    osname=freebsd, osvers=8.0-release, archname=i386-freebsd
    uname='freebsd biokovo.herceg.de 8.0-release freebsd 8.0-release #0: sat nov 21 15:48:17 utc 2009 root@almeida.cse.buffalo.edu:usrobjusrsrcsysgeneric i386 '
    config_args='-Dprefix=/usr/perl5.12.0 -Dusemymalloc=n -D cc=ccache cc -Dgccansipedantic -Duse64bit -de -D hintfile=myfreebsd'
    hint=recommended, useposix=true, d_sigaction=define
    useithreads=undef, usemultiplicity=undef
    useperlio=define, d_sfio=undef, uselargefiles=define, usesocks=undef
    use64bitint=undef, use64bitall=undef, uselongdouble=undef
    usemymalloc=n, bincompat5005=undef
  Compiler:
    cc='ccache cc', ccflags ='-DHAS_FPSETMASK -DHAS_FLOATINGPOINT_H -fno-strict-aliasing -pipe -fstack-protector -I/usr/local/include',
    optimize='-O2 -mtune=athlon64 -pipe',
    cppflags='-DHAS_FPSETMASK -DHAS_FLOATINGPOINT_H -fno-strict-aliasing -pipe -fstack-protector -I/usr/local/include'
    ccversion='', gccversion='4.2.1 20070719  [FreeBSD]', gccosandvers=''
    intsize=4, longsize=4, ptrsize=4, doublesize=8, byteorder=1234
    d_longlong=define, longlongsize=8, d_longdbl=define, longdblsize=12
    ivtype='long', ivsize=4, nvtype='double', nvsize=8, Off_t='off_t', lseeksize=8
    alignbytes=4, prototype=define
  Linker and Libraries:
    ld='ccache cc', ldflags ='-Wl,-E  -fstack-protector -L/usr/local/lib'
    libpth=/usr/lib /usr/local/lib
    libs=-lgdbm -lm -lcrypt -lutil -lc
    perllibs=-lm -lcrypt -lutil -lc
    libc=, so=so, useshrplib=false, libperl=libperl.a
    gnulibc_version=''
  Dynamic Linking:
    dlsrc=dl_dlopen.xs, dlext=so, d_dlsymun=undef, ccdlflags=' '
    cccdlflags='-DPIC -fPIC', lddlflags='-shared  -L/usr/local/lib -fstack-protector'


Characteristics of this binary (from libperl): 
  Compile-time options: PERL_DONT_CREATE_GVSV PERL_MALLOC_WRAP PERL_USE_DEVEL
                        USE_LARGE_FILES USE_PERLIO USE_PERL_ATOF
  Built under freebsd
  Compiled at Apr 13 2010 08:15:11
  %ENV:
    PERL5LIB=""
    PERL5OPT=""
    PERL5_CPANPLUS_IS_RUNNING="33925"
    PERL5_CPAN_IS_RUNNING="33925"
    PERL5_CPAN_IS_RUNNING_IN_RECURSION="33742,33925"
    PERL_BATCH="yes"
    PERL_CPAN_REPORTER_CONFIG="/tmp/cpansmoker-1023/PUIvz8Waw8_config.ini"
    PERL_EXTUTILS_AUTOINSTALL="--defaultdeps"
    PERL_HTML_DISPLAY_CLASS="HTML::Display::Mozilla"
  @INC:
    /usr/perl5.12.0/lib/site_perl/5.12.0/i386-freebsd
    /usr/perl5.12.0/lib/site_perl/5.12.0
    /usr/perl5.12.0/lib/5.12.0/i386-freebsd
    /usr/perl5.12.0/lib/5.12.0
    .