Report for Bb-Collaborate-V3-0.10

Back
From: metabase:user:30977d10-2aae-11df-837a-5e0a49663a4f
Subject: PASS Bb-Collaborate-V3-0.10 v5.14.4 GNU/Linux
Date: 2015-12-10T15:45:31Z

This distribution has been tested as part of the CPAN Testers
project, supporting the Perl programming language.  See
http://wiki.cpantesters.org/ for more information or email
questions to cpan-testers-discuss@perl.org


--
Dear David Warring,

This is a computer-generated report for Bb-Collaborate-V3-0.10
on perl 5.14.4, created by CPAN-Reporter-1.2015.

Thank you for uploading your work to CPAN.  Congratulations!
All tests were successful.

Sections of this report:

    * Tester comments
    * Program output
    * Prerequisites
    * Environment and other context

------------------------------
TESTER COMMENTS
------------------------------

Additional comments from tester:

this report is from an automated smoke testing program
and was not reviewed by a human for accuracy

------------------------------
PROGRAM OUTPUT
------------------------------

Output from '/usr/bin/make test':

PERL_DL_NONLAZY=1 "/home/stro/perl/5.14.4t/bin/perl" "-MExtUtils::Command::MM" "-MTest::Harness" "-e" "undef *Test::Harness::Switches; test_harness(0, 'inc', 'blib/lib', 'blib/arch')" t/*.t
# Testing Bb::Collaborate::V3 0.10, Elive::DAO 1.37, Perl 5.014004, /home/stro/perl/5.14.4t/bin/perl
t/00load.t .................. ok
t/critic.t .................. skipped: Author test.  Set $ENV{AUTHOR_TESTING} to a true value to run.
t/pod-coverage.t ............ skipped: Author test.  Set $ENV{AUTHOR_TESTING} to a true value to run.
t/pod.t ..................... skipped: Author test.  Set $ENV{AUTHOR_TESTING} to a true value to run.
t/soap-connect-lwp.t ........ ok
t/soap-connect.t ............ ok
t/soap-errors.t ............. ok
t/soap-multimedia.t ......... ok
t/soap-presentation.t ....... ok
t/soap-recording.t .......... ok
t/soap-session-recurring.t .. ok
t/soap-session-telephony.t .. ok
t/soap-session.t ............ ok
t/soap-taint-mode.t ......... ok
All tests successful.
Files=14, Tests=162,  2 wallclock secs ( 0.04 usr  0.01 sys +  0.94 cusr  0.06 csys =  1.05 CPU)
Result: PASS

------------------------------
PREREQUISITES
------------------------------

Prerequisite modules loaded:

requires:

    Module                   Need     Have    
    ------------------------ -------- --------
    Carp                     0        1.38    
    Class::Accessor          0        0.34    
    Class::Data::Inheritable 0        0.08    
    Date::Parse              0        2.30    
    Elive::Connection        1.37     1.37    
    Elive::DAO               1.37     1.37    
    Elive::Util              1.37     1.37    
    File::Basename           0        2.82    
    File::Spec               0        3.60    
    MIME::Base64             0        3.15    
    Mouse                    0.56     v2.4.5  
    perl                     5.008003 5.014004
    SOAP::Lite               0.712    1.19    
    Try::Tiny                0        0.22    
    URI                      0        1.69    
    XML::Simple              0        2.22    
    YAML::Syck               0        1.29    

build_requires:

    Module                   Need     Have    
    ------------------------ -------- --------
    ExtUtils::MakeMaker      6.59     7.10    
    Test::Builder            0        1.001014
    Test::Fatal              0        0.014   
    Test::More               0        1.001014
    Test::Warn               0        0.30    
    version                  0        0.9912  

configure_requires:

    Module                   Need     Have    
    ------------------------ -------- --------
    ExtUtils::MakeMaker      6.59     7.10    


------------------------------
ENVIRONMENT AND OTHER CONTEXT
------------------------------

Environment variables:

    AUTOMATED_TESTING = 1
    LANG = en_US.UTF-8
    PATH = /usr/local/bin:/usr/bin:/bin:/usr/local/games:/usr/games
    PERL5LIB = 
    PERL5OPT = 
    PERL5_CPANPLUS_IS_RUNNING = 28499
    PERL5_CPAN_IS_RUNNING = 28499
    PERL5_CPAN_IS_RUNNING_IN_RECURSION = 13602,28499
    PERL_CR_SMOKER_CURRENT = Bb-Collaborate-V3-0.10
    PERL_EXTUTILS_AUTOINSTALL = --defaultdeps
    PERL_MM_USE_DEFAULT = 1
    SHELL = /bin/bash
    TERM = xterm

Perl special variables (and OS-specific diagnostics, for MSWin32):

    $^X = /home/stro/perl/5.14.4t/bin/perl
    $UID/$EUID = 1000 / 1000
    $GID = 1000 24 25 29 30 44 46 108 114 1000
    $EGID = 1000 24 25 29 30 44 46 108 114 1000

Perl module toolchain versions installed:

    Module              Have     
    ------------------- ---------
    CPAN                1.9600_01
    CPAN::Meta          2.150005 
    Cwd                 3.60     
    ExtUtils::CBuilder  0.280224 
    ExtUtils::Command   7.10     
    ExtUtils::Install   1.56     
    ExtUtils::MakeMaker 7.10     
    ExtUtils::Manifest  1.70     
    ExtUtils::ParseXS   3.30     
    File::Spec          3.60     
    JSON                2.90     
    JSON::PP            2.27203  
    Module::Build       0.4214   
    Module::Signature   n/a      
    Parse::CPAN::Meta   1.4417   
    Test::Harness       3.35     
    Test::More          1.001014 
    YAML                1.15     
    YAML::Syck          1.29     
    version             0.9912   


--

Summary of my perl5 (revision 5 version 14 subversion 4) configuration:
   
  Platform:
    osname=linux, osvers=3.16.0-4-amd64, archname=x86_64-linux-thread-multi
    uname='linux vm-debian-001 3.16.0-4-amd64 #1 smp debian 3.16.7-ckt11-1 (2015-05-24) x86_64 gnulinux '
    config_args=''
    hint=recommended, useposix=true, d_sigaction=define
    useithreads=define, usemultiplicity=define
    useperlio=define, d_sfio=undef, uselargefiles=define, usesocks=undef
    use64bitint=define, use64bitall=define, uselongdouble=undef
    usemymalloc=n, bincompat5005=undef
  Compiler:
    cc='cc', ccflags ='-D_REENTRANT -D_GNU_SOURCE -fno-strict-aliasing -pipe -fstack-protector -I/usr/local/include -D_LARGEFILE_SOURCE -D_FILE_OFFSET_BITS=64',
    optimize='-O2',
    cppflags='-D_REENTRANT -D_GNU_SOURCE -fno-strict-aliasing -pipe -fstack-protector -I/usr/local/include'
    ccversion='', gccversion='4.9.2', gccosandvers=''
    intsize=4, longsize=8, ptrsize=8, doublesize=8, byteorder=12345678
    d_longlong=define, longlongsize=8, d_longdbl=define, longdblsize=16
    ivtype='long', ivsize=8, nvtype='double', nvsize=8, Off_t='off_t', lseeksize=8
    alignbytes=8, prototype=define
  Linker and Libraries:
    ld='cc', ldflags =' -fstack-protector -L/usr/local/lib'
    libpth=/usr/local/lib /lib/x86_64-linux-gnu /lib/../lib /usr/lib/x86_64-linux-gnu /usr/lib/../lib /lib /usr/lib
    libs=-lnsl -ldl -lm -lcrypt -lutil -lpthread -lc
    perllibs=-lnsl -ldl -lm -lcrypt -lutil -lpthread -lc
    libc=, so=so, useshrplib=false, libperl=libperl.a
    gnulibc_version='2.19'
  Dynamic Linking:
    dlsrc=dl_dlopen.xs, dlext=so, d_dlsymun=undef, ccdlflags='-Wl,-E'
    cccdlflags='-fPIC', lddlflags='-shared -O2 -L/usr/local/lib -fstack-protector'


Characteristics of this binary (from libperl): 
  Compile-time options: MULTIPLICITY PERL_DONT_CREATE_GVSV
                        PERL_IMPLICIT_CONTEXT PERL_MALLOC_WRAP
                        PERL_PRESERVE_IVUV USE_64_BIT_ALL USE_64_BIT_INT
                        USE_ITHREADS USE_LARGE_FILES USE_PERLIO USE_PERL_ATOF
                        USE_REENTRANT_API
  Built under linux
  Compiled at Jul 11 2015 14:58:02
  %ENV:
    PERL5LIB=""
    PERL5OPT=""
    PERL5_CPANPLUS_IS_RUNNING="28499"
    PERL5_CPAN_IS_RUNNING="28499"
    PERL5_CPAN_IS_RUNNING_IN_RECURSION="13602,28499"
    PERL_CR_SMOKER_CURRENT="Bb-Collaborate-V3-0.10"
    PERL_EXTUTILS_AUTOINSTALL="--defaultdeps"
    PERL_MM_USE_DEFAULT="1"
  @INC:
    /home/stro/perl/5.14.4t/lib/site_perl/5.14.4/x86_64-linux-thread-multi
    /home/stro/perl/5.14.4t/lib/site_perl/5.14.4
    /home/stro/perl/5.14.4t/lib/5.14.4/x86_64-linux-thread-multi
    /home/stro/perl/5.14.4t/lib/5.14.4
    .