Test-HasVersion v0.014 Perl 5 v5.28.1 MSWin32-x86-multi-thread-64int

Status
Pass
From
Pete Armstrong
Dist
Test-HasVersion v0.014
Platform
Perl 5 v5.28.1 MSWin32-x86-multi-thread-64int
Date
2019-02-08 03:56:57
ID
0b0f1175-6bf8-1014-978b-8f1c97da7025
This distribution has been tested as part of the CPAN Testers
project, supporting the Perl programming language.  See
http://wiki.cpantesters.org/ for more information or email
questions to cpan-testers-discuss@perl.org


--
Dear Adriano Ferreira,

This is a computer-generated report for Test-HasVersion-0.014
on perl 5.28.1, created by CPAN-Reporter-1.2018.

Thank you for uploading your work to CPAN.  Congratulations!
All tests were successful.

Sections of this report:

    * Tester comments
    * Program output
    * Prerequisites
    * Environment and other context

------------------------------
TESTER COMMENTS
------------------------------

Additional comments from tester:

none provided

------------------------------
PROGRAM OUTPUT
------------------------------

Output from 'E:\usr\mingw32\bin\gmake.exe test':

"E:\usr\bin\perl.exe" "-MExtUtils::Command::MM" "-MTest::Harness" "-e" "undef *Test::Harness::Switches; test_harness(0, 'blib\lib', 'blib\arch')" t/*.t
# Testing Test::HasVersion 0.014, Perl 5.028001, E:\usr\bin\perl.exe
t/01_use.t ........... ok
t/02_basic.t ......... ok
t/03_all_pm_files.t .. ok
t/04_all_ok.t ........ ok
t/09_self_test.t ..... ok
t/97_has_version.t ... ok
t/98_pod-coverage.t .. ok
t/99_pod.t ........... ok
All tests successful.
Files=8, Tests=22,  9 wallclock secs ( 0.17 usr +  0.03 sys =  0.20 CPU)
Result: PASS

------------------------------
PREREQUISITES
------------------------------

Prerequisite modules loaded:

requires:

    Module                Need Have    
    --------------------- ---- --------
    ExtUtils::MakeMaker   0    7.34    
    File::Find            0    1.34    
    File::Spec            0    3.75    
    Test::Builder         0    1.302160
    Test::Builder::Tester 1.04 1.302160
    Test::More            0    1.302160

build_requires:

    Module                Need Have    
    --------------------- ---- --------
    ExtUtils::MakeMaker   0    7.34    

configure_requires:

    Module                Need Have    
    --------------------- ---- --------
    ExtUtils::MakeMaker   0    7.34    


------------------------------
ENVIRONMENT AND OTHER CONTEXT
------------------------------

Environment variables:

    COMSPEC = C:\WINDOWS\system32\cmd.exe
    NONINTERACTIVE_TESTING = 1
    NUMBER_OF_PROCESSORS = 1
    PATH = E:\usr\mingw32\bin;E:\usr\site\bin;E:\usr\bin;E:\Home\GnuPG;E:\Home\lynx;E:\etc\editors\vim\vim74;E:\Home\scripts;C:\WINDOWS\system32;C:\WINDOWS;C:\WINDOWS\System32\Wbem
    PERL5LIB = 
    PERL5OPT = 
    PERL5_CPANPLUS_IS_RUNNING = 1984
    PERL5_CPAN_IS_RUNNING = 1984
    PERL_CPAN_REPORTER_DIR = E:\PerlDev\5.28.1\gcc4\.reporter
    PERL_LWP_SSL_VERIFY_HOSTNAME = 0
    PERL_MM_USE_DEFAULT = 1
    PERL_READLINE_NOWARN = 1
    PERL_USE_UNSAFE_INC = 1
    PROCESSOR_IDENTIFIER = x86 Family 15 Model 2 Stepping 7, GenuineIntel
    SHELL = C:\WINDOWS\system32\cmd.exe
    TEMP = E:\PerlDev\tmp
    TERM = dumb

Perl special variables (and OS-specific diagnostics, for MSWin32):

    $^X = E:\usr\bin\perl.exe
    $UID/$EUID = 0 / 0
    $GID = 0
    $EGID = 0
    Win32::GetOSName = WinXP/.Net
    Win32::GetOSVersion = Service Pack 3, 5, 1, 2600, 2, 3, 0, 256, 1
    Win32::FsType = NTFS
    Win32::IsAdminUser = 1

Perl module toolchain versions installed:

    Module              Have    
    ------------------- --------
    CPAN                2.22    
    CPAN::Meta          2.150010
    Cwd                 3.75    
    ExtUtils::CBuilder  0.280230
    ExtUtils::Command   7.34    
    ExtUtils::Install   2.14    
    ExtUtils::MakeMaker 7.34    
    ExtUtils::Manifest  1.71    
    ExtUtils::ParseXS   3.39    
    File::Spec          3.75    
    JSON                4.01    
    JSON::PP            4.00    
    Module::Build       0.4224  
    Module::Signature   0.83    
    Parse::CPAN::Meta   2.150010
    Test::Harness       3.42    
    Test::More          1.302160
    YAML                1.27    
    YAML::Syck          1.31    
    version             0.9924  


--

Summary of my perl5 (revision 5 version 28 subversion 1) configuration:
   
  Platform:
    osname=MSWin32
    osvers=5.1.2600
    archname=MSWin32-x86-multi-thread-64int
    uname='Win32 Perl 5.28.1 Sat Feb 2 21:47:21 2019 i386'
    config_args='undef'
    hint=recommended
    useposix=true
    d_sigaction=undef
    useithreads=define
    usemultiplicity=define
    use64bitint=define
    use64bitall=undef
    uselongdouble=undef
    usemymalloc=n
    default_inc_excludes_dot=undef
    bincompat5005=undef
  Compiler:
    cc='gcc'
    ccflags =' -s -O2 -DWIN32 -D__USE_MINGW_ANSI_STDIO -DPERL_TEXTMODE_SCRIPTS -DUSE_SITECUSTOMIZE -DPERL_IMPLICIT_CONTEXT -DPERL_IMPLICIT_SYS -DWIN32_NO_REGISTRY -DUSE_PERLIO -fwrapv -fno-strict-aliasing -mms-bitfields'
    optimize='-s -O2'
    cppflags='-DWIN32'
    ccversion=''
    gccversion='7.1.0'
    gccosandvers=''
    intsize=4
    longsize=4
    ptrsize=4
    doublesize=8
    byteorder=12345678
    doublekind=3
    d_longlong=define
    longlongsize=8
    d_longdbl=define
    longdblsize=12
    longdblkind=3
    ivtype='long long'
    ivsize=8
    nvtype='double'
    nvsize=8
    Off_t='long long'
    lseeksize=8
    alignbytes=8
    prototype=define
  Linker and Libraries:
    ld='g++'
    ldflags ='-s -L"e:\usr\lib\CORE" -L"e:\usr\mingw32\lib"'
    libpth=e:\usr\mingw32\lib e:\usr\mingw32\i686-w64-mingw32\lib e:\usr\mingw32\lib\gcc\i686-w64-mingw32\7.1.0
    libs= -lmoldname -lkernel32 -luser32 -lgdi32 -lwinspool -lcomdlg32 -ladvapi32 -lshell32 -lole32 -loleaut32 -lnetapi32 -luuid -lws2_32 -lmpr -lwinmm -lversion -lodbc32 -lodbccp32 -lcomctl32
    perllibs= -lmoldname -lkernel32 -luser32 -lgdi32 -lwinspool -lcomdlg32 -ladvapi32 -lshell32 -lole32 -loleaut32 -lnetapi32 -luuid -lws2_32 -lmpr -lwinmm -lversion -lodbc32 -lodbccp32 -lcomctl32
    libc=
    so=dll
    useshrplib=true
    libperl=libperl528.a
    gnulibc_version=''
  Dynamic Linking:
    dlsrc=dl_win32.xs
    dlext=dll
    d_dlsymun=undef
    ccdlflags=' '
    cccdlflags=' '
    lddlflags='-mdll -s -L"e:\usr\lib\CORE" -L"e:\usr\mingw32\lib"'


Characteristics of this binary (from libperl): 
  Compile-time options:
    HAS_TIMES
    HAVE_INTERP_INTERN
    MULTIPLICITY
    PERLIO_LAYERS
    PERL_COPY_ON_WRITE
    PERL_DONT_CREATE_GVSV
    PERL_IMPLICIT_CONTEXT
    PERL_IMPLICIT_SYS
    PERL_MALLOC_WRAP
    PERL_OP_PARENT
    PERL_PRESERVE_IVUV
    USE_64_BIT_INT
    USE_ITHREADS
    USE_LARGE_FILES
    USE_LOCALE
    USE_LOCALE_COLLATE
    USE_LOCALE_CTYPE
    USE_LOCALE_NUMERIC
    USE_LOCALE_TIME
    USE_NO_REGISTRY
    USE_PERLIO
    USE_PERL_ATOF
    USE_SITECUSTOMIZE
  Built under MSWin32
  Compiled at Feb  2 2019 22:00:38
  %ENV:
    PERL5_CPANPLUS_IS_RUNNING="1984"
    PERL5_CPAN_IS_RUNNING="1984"
    PERL_CPAN_REPORTER_DIR="E:\PerlDev\5.28.1\gcc4\.reporter"
    PERL_LWP_SSL_VERIFY_HOSTNAME="0"
    PERL_MM_USE_DEFAULT="1"
    PERL_READLINE_NOWARN="1"
    PERL_USE_UNSAFE_INC="1"
  @INC:
    E:/usr/site/lib
    E:/usr/vendor/lib
    E:/usr/lib
    .