Crypt-PKCS10 v2.005 Perl 5 v5.38.3 x86_64-linux-thread-multi
- Status
- Pass
- From
- Andreas J. König (ANDK)
- Dist
-
Crypt-PKCS10 v2.005
- Platform
- Perl 5 v5.38.3 x86_64-linux-thread-multi
- Date
- 2025-01-24 19:33:09
- ID
- 0ae17980-da8a-11ef-8ea8-862f51ba51a0
This distribution has been tested as part of the CPAN Testers
project, supporting the Perl programming language. See
http://wiki.cpantesters.org/ for more information or email
questions to cpan-testers-discuss@perl.org
--
Dear Scott T. Hardin,
This is a computer-generated report for Crypt-PKCS10-2.005
on perl 5.38.3, created by CPAN-Reporter-1.2020.
Thank you for uploading your work to CPAN. Congratulations!
All tests were successful.
Sections of this report:
* Tester comments
* Program output
* Prerequisites
* Environment and other context
------------------------------
TESTER COMMENTS
------------------------------
Additional comments from tester:
this report is from an automated smoke testing program
and was not reviewed by a human for accuracy
------------------------------
PROGRAM OUTPUT
------------------------------
Output from './Build test':
t/0-signature.t ..... skipped: Set the environment variable TEST_SIGNATURE to enable this test.
# Perl /tmp/basesmoker-reloperl-aFHk/bin/perl version 5.38.3
# OpenSSL 1.1.1f 31 Mar 2020
# built on: Tue Jul 30 16:36:54 2024 UTC
# platform: debian-amd64
# options: bn(64,64) rc4(16x,int) des(int) blowfish(ptr)
# compiler: gcc -fPIC -pthread -m64 -Wa,--noexecstack -Wall -Wa,--noexecstack -g -O2
# -fdebug-prefix-map=/build/openssl-lxGbY1/openssl-1.1.1f
# =. -fstack-protector-strong -Wformat
# -Werror=format-security -DOPENSSL_TLS_SECURITY_LEVEL=2
# -DOPENSSL_USE_NODELETE -DL_ENDIAN -DOPENSSL_PIC
# -DOPENSSL_CPUID_OBJ -DOPENSSL_IA32_SSE2
# -DOPENSSL_BN_ASM_MONT -DOPENSSL_BN_ASM_MONT5
# -DOPENSSL_BN_ASM_GF2m -DSHA1_ASM -DSHA256_ASM
# -DSHA512_ASM -DKECCAK1600_ASM -DRC4_ASM -DMD5_ASM
# -DAESNI_ASM -DVPAES_ASM -DGHASH_ASM -DECP_NISTZ256_ASM
# -DX25519_ASM -DPOLY1305_ASM -DNDEBUG -Wdate-time
# -D_FORTIFY_SOURCE=2
# OPENSSLDIR: "/usr/lib/ssl"
# ENGINESDIR: "/usr/lib/x86_64-linux-gnu/engines-1.1"
# Seeding source: os-specific
# ciphers: AES128-GCM-SHA256 AES128-SHA AES128-SHA256 AES256-GCM-SHA384 AES256-SHA
# AES256-SHA256 DHE-PSK-AES128-CBC-SHA
# DHE-PSK-AES128-CBC-SHA256 DHE-PSK-AES128-GCM-SHA256
# DHE-PSK-AES256-CBC-SHA DHE-PSK-AES256-CBC-SHA384
# DHE-PSK-AES256-GCM-SHA384 DHE-PSK-CHACHA20-POLY1305
# DHE-RSA-AES128-GCM-SHA256 DHE-RSA-AES128-SHA
# DHE-RSA-AES128-SHA256 DHE-RSA-AES256-GCM-SHA384
# DHE-RSA-AES256-SHA DHE-RSA-AES256-SHA256
# DHE-RSA-CHACHA20-POLY1305 ECDHE-ECDSA-AES128-GCM-SHA256
# ECDHE-ECDSA-AES128-SHA ECDHE-ECDSA-AES128-SHA256
# ECDHE-ECDSA-AES256-GCM-SHA384 ECDHE-ECDSA-AES256-SHA
# ECDHE-ECDSA-AES256-SHA384 ECDHE-ECDSA-CHACHA20-POLY1305
# ECDHE-PSK-AES128-CBC-SHA ECDHE-PSK-AES128-CBC-SHA256
# ECDHE-PSK-AES256-CBC-SHA ECDHE-PSK-AES256-CBC-SHA384
# ECDHE-PSK-CHACHA20-POLY1305 ECDHE-RSA-AES128-GCM-SHA256
# ECDHE-RSA-AES128-SHA ECDHE-RSA-AES128-SHA256
# ECDHE-RSA-AES256-GCM-SHA384 ECDHE-RSA-AES256-SHA
# ECDHE-RSA-AES256-SHA384 ECDHE-RSA-CHACHA20-POLY1305
# PSK-AES128-CBC-SHA PSK-AES128-CBC-SHA256
# PSK-AES128-GCM-SHA256 PSK-AES256-CBC-SHA
# PSK-AES256-CBC-SHA384 PSK-AES256-GCM-SHA384
# PSK-CHACHA20-POLY1305 RSA-PSK-AES128-CBC-SHA
# RSA-PSK-AES128-CBC-SHA256 RSA-PSK-AES128-GCM-SHA256
# RSA-PSK-AES256-CBC-SHA RSA-PSK-AES256-CBC-SHA384
# RSA-PSK-AES256-GCM-SHA384 RSA-PSK-CHACHA20-POLY1305
# SRP-AES-128-CBC-SHA SRP-AES-256-CBC-SHA
# SRP-RSA-AES-128-CBC-SHA SRP-RSA-AES-256-CBC-SHA
# TLS_AES_128_GCM_SHA256 TLS_AES_256_GCM_SHA384
# TLS_CHACHA20_POLY1305_SHA256
t/02_base.t ......... ok
# Perl /tmp/basesmoker-reloperl-aFHk/bin/perl version 5.38.3
t/03_ecc.t .......... ok
t/04_complex_rdn.t .. ok
All tests successful.
Files=4, Tests=38, 1 wallclock secs ( 0.03 usr 0.03 sys + 1.03 cusr 0.07 csys = 1.16 CPU)
Result: PASS
------------------------------
PREREQUISITES
------------------------------
Prerequisite modules loaded:
requires:
Module Need Have
------------------- -------- --------
Convert::ASN1 0 0.34
Encode 0 3.21
MIME::Base64 0 3.16_01
perl 5.008001 5.038003
Scalar::Util 0 1.68
build_requires:
Module Need Have
------------------- -------- --------
Test::More 0.98 1.302207
configure_requires:
Module Need Have
------------------- -------- --------
Module::Build::Tiny 0.035 0.051
------------------------------
ENVIRONMENT AND OTHER CONTEXT
------------------------------
Environment variables:
AUTOMATED_TESTING = 1
LANG = en_US.UTF-8
PATH = /home/sand/bin:/usr/local/bin:/usr/local/sbin:/usr/sbin:/usr/bin:/sbin:/bin:/usr/games:/usr/local/games:/snap/bin:/usr/local/perl/bin:/usr/X11/bin
PERL = /tmp/basesmoker-reloperl-aFHk/bin/perl
PERL5LIB = /tmp/loop_over_bdir-641295-BGeEVH/LiquidWeb-Storm-CLI-1.03-0/blib/arch:/tmp/loop_over_bdir-641295-BGeEVH/LiquidWeb-Storm-CLI-1.03-0/blib/lib:/tmp/loop_over_bdir-641295-BGeEVH/Lemonldap-NG-Cli-0.2-0/blib/arch:/tmp/loop_over_bdir-641295-BGeEVH/Lemonldap-NG-Cli-0.2-0/blib/lib:/tmp/loop_over_bdir-641295-BGeEVH/Module-ScanDeps-Static-1.7.2-0/blib/arch:/tmp/loop_over_bdir-641295-BGeEVH/Module-ScanDeps-Static-1.7.2-0/blib/lib:/tmp/loop_over_bdir-641295-BGeEVH/dta-tokwrap-0.98-0/blib/arch:/tmp/loop_over_bdir-641295-BGeEVH/dta-tokwrap-0.98-0/blib/lib:/tmp/loop_over_bdir-641295-BGeEVH/Devel-Required-0.16-0/blib/arch:/tmp/loop_over_bdir-641295-BGeEVH/Devel-Required-0.16-0/blib/lib:/tmp/loop_over_bdir-641295-BGeEVH/LCFG-Build-Tools-0.9.30-0/blib/arch:/tmp/loop_over_bdir-641295-BGeEVH/LCFG-Build-Tools-0.9.30-0/blib/lib:/tmp/loop_over_bdir-641295-BGeEVH/DBIx-Migration-Directories-0.12-0/blib/arch:/tmp/loop_over_bdir-641295-BGeEVH/DBIx-Migration-Directories-0.12-0/blib/lib:/tmp/loop_over_bdir-641295-BGeEVH/Net-OpenVPN-DDNS-0.1-0/blib/arch:/tmp/loop_over_bdir-641295-BGeEVH/Net-OpenVPN-DDNS-0.1-0/blib/lib:/tmp/loop_over_bdir-641295-BGeEVH/RDF-NLP-SPARQLQuery-0.1-0/blib/arch:/tmp/loop_over_bdir-641295-BGeEVH/RDF-NLP-SPARQLQuery-0.1-0/blib/lib
PERL5OPT =
PERL5_CPANPLUS_IS_RUNNING = 641303
PERL5_CPAN_IS_RUNNING = 641303
PERL_CANARY_STABILITY_NOPROMPT = 1
PERL_MM_USE_DEFAULT = 1
PERL_USE_UNSAFE_INC = 1
SHELL = /usr/bin/zsh
TERM = screen
Perl special variables (and OS-specific diagnostics, for MSWin32):
$^X = /tmp/basesmoker-reloperl-aFHk/bin/perl
$UID/$EUID = 1005 / 1005
$GID = 1005 1005
$EGID = 1005 1005
Perl module toolchain versions installed:
Module Have
------------------- --------
CPAN 2.38
CPAN::Meta 2.150010
Cwd 3.89
ExtUtils::CBuilder 0.280238
ExtUtils::Command 7.70
ExtUtils::Install 2.22
ExtUtils::MakeMaker 7.70
ExtUtils::Manifest 1.73
ExtUtils::ParseXS 3.51
File::Spec 3.88
JSON 4.10
JSON::PP 4.16
Module::Build 0.4234
Module::Signature 0.89
Parse::CPAN::Meta 2.150010
Test2 1.302207
Test::Harness 3.50
Test::More 1.302207
YAML 1.31
YAML::Syck 1.34
version 0.9933
--
Summary of my perl5 (revision 5 version 38 subversion 3) configuration:
Commit id: 06697759559c52236e296a256776b1222f228163
Platform:
osname=linux
osvers=5.4.0-204-generic
archname=x86_64-linux-thread-multi
uname='linux k93focal 5.4.0-204-generic #224-ubuntu smp thu dec 5 13:38:28 utc 2024 x86_64 x86_64 x86_64 gnulinux '
config_args='-Dprefix=/home/sand/src/perl/repoperls/installed-perls/host/k93focal/v5.38.3/d119 -Dmyhostname=k93focal -Dinstallusrbinperl=n -Uversiononly -Dusedevel -des -Ui_db -Dlibswanted=cl pthread socket inet nsl gdbm dbm malloc dl ld sun m crypt sec util c cposix posix ucb BSD gdbm_compat -Duseithreads -Uuselongdouble -DEBUGGING=both'
hint=recommended
useposix=true
d_sigaction=define
useithreads=define
usemultiplicity=define
use64bitint=define
use64bitall=define
uselongdouble=undef
usemymalloc=n
default_inc_excludes_dot=define
Compiler:
cc='cc'
ccflags ='-D_REENTRANT -D_GNU_SOURCE -fwrapv -DDEBUGGING -fno-strict-aliasing -pipe -fstack-protector-strong -I/usr/local/include -D_LARGEFILE_SOURCE -D_FILE_OFFSET_BITS=64'
optimize='-O2 -g'
cppflags='-D_REENTRANT -D_GNU_SOURCE -fwrapv -DDEBUGGING -fno-strict-aliasing -pipe -fstack-protector-strong -I/usr/local/include'
ccversion=''
gccversion='9.4.0'
gccosandvers=''
intsize=4
longsize=8
ptrsize=8
doublesize=8
byteorder=12345678
doublekind=3
d_longlong=define
longlongsize=8
d_longdbl=define
longdblsize=16
longdblkind=3
ivtype='long'
ivsize=8
nvtype='double'
nvsize=8
Off_t='off_t'
lseeksize=8
alignbytes=8
prototype=define
Linker and Libraries:
ld='cc'
ldflags =' -fstack-protector-strong -L/usr/local/lib'
libpth=/usr/local/lib /usr/lib/x86_64-linux-gnu /usr/lib /usr/lib64
libs=-lpthread -lnsl -ldl -lm -lcrypt -lutil -lc
perllibs=-lpthread -lnsl -ldl -lm -lcrypt -lutil -lc
libc=libc-2.31.so
so=so
useshrplib=false
libperl=libperl.a
gnulibc_version='2.31'
Dynamic Linking:
dlsrc=dl_dlopen.xs
dlext=so
d_dlsymun=undef
ccdlflags='-Wl,-E'
cccdlflags='-fPIC'
lddlflags='-shared -O2 -g -L/usr/local/lib -fstack-protector-strong'
Characteristics of this binary (from libperl):
Compile-time options:
DEBUGGING
HAS_LONG_DOUBLE
HAS_STRTOLD
HAS_TIMES
MULTIPLICITY
PERLIO_LAYERS
PERL_COPY_ON_WRITE
PERL_DONT_CREATE_GVSV
PERL_HASH_FUNC_SIPHASH13
PERL_HASH_USE_SBOX32
PERL_MALLOC_WRAP
PERL_OP_PARENT
PERL_PRESERVE_IVUV
PERL_TRACK_MEMPOOL
PERL_USE_DEVEL
PERL_USE_SAFE_PUTENV
USE_64_BIT_ALL
USE_64_BIT_INT
USE_ITHREADS
USE_LARGE_FILES
USE_LOCALE
USE_LOCALE_COLLATE
USE_LOCALE_CTYPE
USE_LOCALE_NUMERIC
USE_LOCALE_TIME
USE_PERLIO
USE_PERL_ATOF
USE_REENTRANT_API
USE_THREAD_SAFE_LOCALE
Built under linux
Compiled at Jan 20 2025 16:12:56
%ENV:
PERL="/tmp/basesmoker-reloperl-aFHk/bin/perl"
PERL5LIB="/tmp/loop_over_bdir-641295-BGeEVH/LiquidWeb-Storm-CLI-1.03-0/blib/arch:/tmp/loop_over_bdir-641295-BGeEVH/LiquidWeb-Storm-CLI-1.03-0/blib/lib:/tmp/loop_over_bdir-641295-BGeEVH/Lemonldap-NG-Cli-0.2-0/blib/arch:/tmp/loop_over_bdir-641295-BGeEVH/Lemonldap-NG-Cli-0.2-0/blib/lib:/tmp/loop_over_bdir-641295-BGeEVH/Module-ScanDeps-Static-1.7.2-0/blib/arch:/tmp/loop_over_bdir-641295-BGeEVH/Module-ScanDeps-Static-1.7.2-0/blib/lib:/tmp/loop_over_bdir-641295-BGeEVH/dta-tokwrap-0.98-0/blib/arch:/tmp/loop_over_bdir-641295-BGeEVH/dta-tokwrap-0.98-0/blib/lib:/tmp/loop_over_bdir-641295-BGeEVH/Devel-Required-0.16-0/blib/arch:/tmp/loop_over_bdir-641295-BGeEVH/Devel-Required-0.16-0/blib/lib:/tmp/loop_over_bdir-641295-BGeEVH/LCFG-Build-Tools-0.9.30-0/blib/arch:/tmp/loop_over_bdir-641295-BGeEVH/LCFG-Build-Tools-0.9.30-0/blib/lib:/tmp/loop_over_bdir-641295-BGeEVH/DBIx-Migration-Directories-0.12-0/blib/arch:/tmp/loop_over_bdir-641295-BGeEVH/DBIx-Migration-Directories-0.12-0/blib/lib:/tmp/loop_over_bdir-641295-BGeEVH/Net-OpenVPN-DDNS-0.1-0/blib/arch:/tmp/loop_over_bdir-641295-BGeEVH/Net-OpenVPN-DDNS-0.1-0/blib/lib:/tmp/loop_over_bdir-641295-BGeEVH/RDF-NLP-SPARQLQuery-0.1-0/blib/arch:/tmp/loop_over_bdir-641295-BGeEVH/RDF-NLP-SPARQLQuery-0.1-0/blib/lib"
PERL5OPT=""
PERL5_CPANPLUS_IS_RUNNING="641303"
PERL5_CPAN_IS_RUNNING="641303"
PERL_CANARY_STABILITY_NOPROMPT="1"
PERL_MM_USE_DEFAULT="1"
PERL_USE_UNSAFE_INC="1"
@INC:
/tmp/loop_over_bdir-641295-BGeEVH/LiquidWeb-Storm-CLI-1.03-0/blib/arch
/tmp/loop_over_bdir-641295-BGeEVH/LiquidWeb-Storm-CLI-1.03-0/blib/lib
/tmp/loop_over_bdir-641295-BGeEVH/Lemonldap-NG-Cli-0.2-0/blib/arch
/tmp/loop_over_bdir-641295-BGeEVH/Lemonldap-NG-Cli-0.2-0/blib/lib
/tmp/loop_over_bdir-641295-BGeEVH/Module-ScanDeps-Static-1.7.2-0/blib/arch
/tmp/loop_over_bdir-641295-BGeEVH/Module-ScanDeps-Static-1.7.2-0/blib/lib
/tmp/loop_over_bdir-641295-BGeEVH/dta-tokwrap-0.98-0/blib/arch
/tmp/loop_over_bdir-641295-BGeEVH/dta-tokwrap-0.98-0/blib/lib
/tmp/loop_over_bdir-641295-BGeEVH/Devel-Required-0.16-0/blib/arch
/tmp/loop_over_bdir-641295-BGeEVH/Devel-Required-0.16-0/blib/lib
/tmp/loop_over_bdir-641295-BGeEVH/LCFG-Build-Tools-0.9.30-0/blib/arch
/tmp/loop_over_bdir-641295-BGeEVH/LCFG-Build-Tools-0.9.30-0/blib/lib
/tmp/loop_over_bdir-641295-BGeEVH/DBIx-Migration-Directories-0.12-0/blib/arch
/tmp/loop_over_bdir-641295-BGeEVH/DBIx-Migration-Directories-0.12-0/blib/lib
/tmp/loop_over_bdir-641295-BGeEVH/Net-OpenVPN-DDNS-0.1-0/blib/arch
/tmp/loop_over_bdir-641295-BGeEVH/Net-OpenVPN-DDNS-0.1-0/blib/lib
/tmp/loop_over_bdir-641295-BGeEVH/RDF-NLP-SPARQLQuery-0.1-0/blib/arch
/tmp/loop_over_bdir-641295-BGeEVH/RDF-NLP-SPARQLQuery-0.1-0/blib/lib
/home/sand/src/perl/repoperls/installed-perls/host/k93focal/v5.38.3/d119/lib/site_perl/5.38.3/x86_64-linux-thread-multi
/home/sand/src/perl/repoperls/installed-perls/host/k93focal/v5.38.3/d119/lib/site_perl/5.38.3
/home/sand/src/perl/repoperls/installed-perls/host/k93focal/v5.38.3/d119/lib/5.38.3/x86_64-linux-thread-multi
/home/sand/src/perl/repoperls/installed-perls/host/k93focal/v5.38.3/d119/lib/5.38.3
.