Report for String-Palindrome-2.000001

Back
From: metabase:user:0b91ce32-3676-11e1-a1bc-bfed0df65b4f
Subject: PASS String-Palindrome-2.000001 v5.12.4 GNU/Linux
Date: 2012-05-04T20:09:23Z

This distribution has been tested as part of the CPAN Testers
project, supporting the Perl programming language.  See
http://wiki.cpantesters.org/ for more information or email
questions to cpan-testers-discuss@perl.org


--
Dear Adam Lesperance,

This is a computer-generated report for String-Palindrome-2.000001
on perl 5.12.4, created by CPAN-Reporter-1.2005.

Thank you for uploading your work to CPAN.  Congratulations!
All tests were successful.

Sections of this report:

    * Tester comments
    * Program output
    * Prerequisites
    * Environment and other context

------------------------------
TESTER COMMENTS
------------------------------

Additional comments from tester:

none provided

------------------------------
PROGRAM OUTPUT
------------------------------

Output from '/usr/bin/make test':

PERL_DL_NONLAZY=1 /opt/perl-5.12.4/bin/perl "-MExtUtils::Command::MM" "-e" "test_harness(0, 'blib/lib', 'blib/arch')" t/*.t
t/00-compile.t .................. ok
# 
# 
# perl: v5.12.4 (wanted 5.008) on linux from /opt/perl-5.12.4/bin/perl
# 
# Data::Dumper                                  => 2.131      (want any version)
# English                                       => 1.04       (want any version)
# Exporter                                      => 5.66       (want any version)
# File::Find                                    => 1.15       (want any version)
# File::Temp                                    => 0.22       (want any version)
# Module::Build                                 => 0.4        (want 0.3601) 
# Test::More                                    => 0.98       (want 0.88)   
# utf8                                          => 1.08       (want any version)
# vars                                          => 1.01       (want any version)
# 
# Thanks for using my code.  I hope it works for you.
# If not, please try and include this output in the bug report.
# That will help me reproduce the issue and solve you problem.
# 
t/000-report-versions-tiny.t .... ok
t/01-func_test.t ................ ok
t/author-critic.t ............... skipped: these tests are for testing by the author
t/release-common_spelling.t ..... skipped: these tests are for release candidate testing
t/release-consistent-version.t .. skipped: these tests are for release candidate testing
t/release-cpan-changes.t ........ skipped: these tests are for release candidate testing
t/release-dist-manifest.t ....... skipped: these tests are for release candidate testing
t/release-distmeta.t ............ skipped: these tests are for release candidate testing
t/release-eol.t ................. skipped: these tests are for release candidate testing
t/release-has-version.t ......... skipped: these tests are for release candidate testing
t/release-kwalitee.t ............ skipped: these tests are for release candidate testing
t/release-minimum-version.t ..... skipped: these tests are for release candidate testing
t/release-no-tabs.t ............. skipped: these tests are for release candidate testing
t/release-pod-coverage.t ........ skipped: these tests are for release candidate testing
t/release-pod-syntax.t .......... skipped: these tests are for release candidate testing
t/release-portability.t ......... skipped: these tests are for release candidate testing
t/release-synopsis.t ............ skipped: these tests are for release candidate testing
t/release-unused-vars.t ......... skipped: these tests are for release candidate testing
All tests successful.
Files=19, Tests=81,  5 wallclock secs ( 0.24 usr  0.07 sys +  1.74 cusr  0.32 csys =  2.37 CPU)
Result: PASS

------------------------------
PREREQUISITES
------------------------------

Prerequisite modules loaded:

requires:

    Module              Need   Have 
    ------------------- ------ -----
    Exporter            0      5.66 
    utf8                0      1.08 
    vars                0      1.01 

build_requires:

    Module              Need   Have 
    ------------------- ------ -----
    Data::Dumper        0      2.131
    English             0      1.04 
    ExtUtils::MakeMaker 6.30   6.62 
    File::Find          0      1.15 
    File::Temp          0      0.22 
    Test::More          0.88   0.98 

configure_requires:

    Module              Need   Have 
    ------------------- ------ -----
    Module::Build       0.3601 0.40 


------------------------------
ENVIRONMENT AND OTHER CONTEXT
------------------------------

Environment variables:

    LANG = en_US.UTF-8
    PATH = /usr/kerberos/sbin:/usr/kerberos/bin:/usr/local/sbin:/usr/local/bin:/sbin:/bin:/usr/sbin:/usr/bin:/opt/real/RealPlayer:/root/bin:/opt/real/RealPlayer
    PERL5LIB = 
    PERL5OPT = 
    PERL5_CPANPLUS_IS_RUNNING = 31964
    PERL5_CPAN_IS_RUNNING = 31964
    SHELL = /bin/bash
    TERM = xterm

Perl special variables (and OS-specific diagnostics, for MSWin32):

    $^X = /opt/perl-5.12.4/bin/perl
    $UID/$EUID = 0 / 0
    $GID = 0 0 1 2 3 4 6 10
    $EGID = 0 0 1 2 3 4 6 10

Perl module toolchain versions installed:

    Module              Have    
    ------------------- --------
    CPAN                1.9800  
    CPAN::Meta          2.120921
    Cwd                 3.33    
    ExtUtils::CBuilder  0.280205
    ExtUtils::Command   1.17    
    ExtUtils::Install   1.54    
    ExtUtils::MakeMaker 6.62    
    ExtUtils::Manifest  1.60    
    ExtUtils::ParseXS   3.15    
    File::Spec          3.33    
    JSON                2.53    
    JSON::PP            2.27200 
    Module::Build       0.40    
    Module::Signature   0.68    
    Parse::CPAN::Meta   1.4404  
    Test::Harness       3.23    
    Test::More          0.98    
    YAML                0.81    
    YAML::Syck          1.20    
    version             0.98    


--

Summary of my perl5 (revision 5 version 12 subversion 4) configuration:
   
  Platform:
    osname=linux, osvers=2.6.18-1.2798.fc6, archname=i686-linux-thread-multi-64int-ld
    uname='linux localhost.localdomain 2.6.18-1.2798.fc6 #1 smp mon oct 16 14:37:32 edt 2006 i686 i686 i386 gnulinux '
    config_args='-Dcc=gcc -Dprefix=/opt/perl-5.12.4 -DDEBUGGING'
    hint=recommended, useposix=true, d_sigaction=define
    useithreads=define, usemultiplicity=define
    useperlio=define, d_sfio=undef, uselargefiles=define, usesocks=undef
    use64bitint=define, use64bitall=undef, uselongdouble=define
    usemymalloc=n, bincompat5005=undef
  Compiler:
    cc='gcc', ccflags ='-D_REENTRANT -D_GNU_SOURCE -DDEBUGGING -fno-strict-aliasing -pipe -fstack-protector -I/usr/local/include -D_LARGEFILE_SOURCE -D_FILE_OFFSET_BITS=64',
    optimize='-O2 -g',
    cppflags='-D_REENTRANT -D_GNU_SOURCE -DDEBUGGING -fno-strict-aliasing -pipe -fstack-protector -I/usr/local/include'
    ccversion='', gccversion='4.1.1 20061011 (Red Hat 4.1.1-30)', gccosandvers=''
    intsize=4, longsize=4, ptrsize=4, doublesize=8, byteorder=12345678
    d_longlong=define, longlongsize=8, d_longdbl=define, longdblsize=12
    ivtype='long long', ivsize=8, nvtype='long double', nvsize=12, Off_t='off_t', lseeksize=8
    alignbytes=4, prototype=define
  Linker and Libraries:
    ld='gcc', ldflags =' -fstack-protector -L/usr/local/lib'
    libpth=/usr/local/lib /lib /usr/lib
    libs=-lnsl -lgdbm -ldb -ldl -lm -lcrypt -lutil -lpthread -lc
    perllibs=-lnsl -ldl -lm -lcrypt -lutil -lpthread -lc
    libc=/lib/libc-2.5.so, so=so, useshrplib=true, libperl=libperl.so
    gnulibc_version='2.5'
  Dynamic Linking:
    dlsrc=dl_dlopen.xs, dlext=so, d_dlsymun=undef, ccdlflags='-Wl,-E -Wl,-rpath,/opt/perl-5.12.4/lib/5.12.4/i686-linux-thread-multi-64int-ld/CORE'
    cccdlflags='-fPIC', lddlflags='-shared -O2 -g -L/usr/local/lib -fstack-protector'


Characteristics of this binary (from libperl): 
  Compile-time options: DEBUGGING MULTIPLICITY PERL_DONT_CREATE_GVSV
                        PERL_IMPLICIT_CONTEXT PERL_MALLOC_WRAP
                        PERL_TRACK_MEMPOOL USE_64_BIT_INT USE_FAST_STDIO
                        USE_ITHREADS USE_LARGE_FILES USE_LONG_DOUBLE
                        USE_PERLIO USE_PERL_ATOF USE_REENTRANT_API
  Built under linux
  Compiled at Mar 18 2012 17:19:45
  %ENV:
    PERL5LIB=""
    PERL5OPT=""
    PERL5_CPANPLUS_IS_RUNNING="31964"
    PERL5_CPAN_IS_RUNNING="31964"
  @INC:
    /opt/perl-5.12.4/lib/site_perl/5.12.4/i686-linux-thread-multi-64int-ld
    /opt/perl-5.12.4/lib/site_perl/5.12.4
    /opt/perl-5.12.4/lib/5.12.4/i686-linux-thread-multi-64int-ld
    /opt/perl-5.12.4/lib/5.12.4
    .