Data-Serializer v0.65 Perl 5 v5.16.1 i686-linux-ld

Status
Pass
From
Chris Williams (BINGOS)
Dist
Data-Serializer v0.65
Platform
Perl 5 v5.16.1 i686-linux-ld
Date
2023-01-28 07:19:02
ID
0aae4ff6-9edc-11ed-aba6-9a79f339625c
This distribution has been tested as part of the CPAN Testers
project, supporting the Perl programming language.  See
http://wiki.cpantesters.org/ for more information or email
questions to cpan-testers-discuss@perl.org


--

Dear Neil A. Neely,

This is a computer-generated error report created automatically by
CPANPLUS, version 0.9914. Testers personal comments may appear
at the end of this report.


Thank you for uploading your work to CPAN.  Congratulations!
All tests were successful.

TEST RESULTS:

Below is the error stack from stage 'make test':

t/00-01-Signature.t ........... skipped: (no reason given)
t/00-02-Kwalitee.t ............ skipped: Test::Kwalitee not installed; skipping
t/01-01-Data-Dumper.t ......... ok
t/01-02-Data-Denter.t ......... skipped: Data::Denter not installed
t/01-03-Storable.t ............ ok
t/01-04-FreezeThaw.t .......... skipped: FreezeThaw not installed
t/01-05-Config-General.t ...... skipped: Config::General not installed
t/01-06-YAML.t ................ skipped: YAML not installed
t/01-07-XML-Dumper.t .......... skipped: XML::Dumper not installed
t/01-08-PHP-Serialization.t ... skipped: PHP::Serialization not installed
t/01-09-XML-Simple.t .......... skipped: XML::Simple not installed
t/01-10-Data-Taxi.t ........... skipped: Data::Taxi not installed
t/01-11-YAML-Syck.t ........... skipped: YAML::Syck not installed
t/01-12-JSON.t ................ skipped: JSON not installed
t/01-13-JSON-Syck.t ........... skipped: JSON::Syck not installed
t/01-14-Bencode.t ............. skipped: Bencode not installed
t/01-15-Convert-Bencode.t ..... skipped: Convert::Bencode not installed
t/01-16-Convert-Bencode_XS.t .. skipped: Convert::Bencode_XS not installed
t/02-01-Orig-Raw.t ............ ok
t/02-02-Fast-Raw.t ............ ok
t/03-Non-Portable.t ........... ok
t/04-01-Compress-Zlib.t ....... ok
t/04-02-Compress-PPMd.t ....... skipped: compressppmd not installed
t/05-Encryption.t ............. skipped: encryption not installed
t/06-B64-Encoding.t ........... ok
t/07-01-MD5-Digest.t .......... skipped: md5 not installed
t/07-02-SHA1-Digest.t ......... skipped: sha1 not installed
t/07-03-SHA-256-Digest.t ...... skipped: sha-256 not installed
t/08-Store-Retrieve.t ......... ok
t/09-Feature-Combos.t ......... ok
t/10-01-Pod.t ................. skipped: Test::Pod 1.00 required for testing POD
t/10-02-Pod-Coverage.t ........ skipped: Test::Pod::Coverage 1.00 required for testing POD coverage
All tests successful.
Files=32, Tests=390,  1 wallclock secs ( 0.07 usr  0.01 sys +  0.95 cusr  0.12 csys =  1.15 CPU)
Result: PASS


PREREQUISITES:

Here is a list of prerequisites you specified and versions we
managed to load:

	  Module Name                        Have     Want
	  AutoLoader                         5.72        0
	  Data::Dumper                   2.135_06     2.08
	  Digest::SHA                        6.03        0
	  Exporter                           5.66        0
	  File::Spec                         3.75        0
	  IO::File                           1.16        0
	  Test::More                     1.302191        0

Perl module toolchain versions installed:
	Module Name                        Have
	CPANPLUS                         0.9914
	CPANPLUS::Dist::Build              0.90
	Cwd                                3.75
	ExtUtils::CBuilder             0.280236
	ExtUtils::Command                  7.64
	ExtUtils::Install                  2.20
	ExtUtils::MakeMaker                7.64
	ExtUtils::Manifest                 1.73
	ExtUtils::ParseXS                  3.44
	File::Spec                         3.75
	Module::Build                    0.4231
	Pod::Parser                        1.51
	Pod::Simple                        3.20
	Test2                          1.302191
	Test::Harness                      3.44
	Test::More                     1.302191
	version                          0.9929

******************************** NOTE ********************************
The comments above are created mechanically, possibly without manual
checking by the sender.  As there are many people performing automatic
tests on each upload to CPAN, it is likely that you will receive
identical messages about the same problem.

If you believe that the message is mistaken, please reply to the first
one with correction and/or additional informations, and do not take
it personally.  We appreciate your patience. :)
**********************************************************************

Additional comments:


This report was machine-generated by CPANPLUS::Dist::YACSmoke 1.08.
Powered by minismokebox version 0.68

CPANPLUS is prefering Build.PL

------------------------------
ENVIRONMENT AND OTHER CONTEXT
------------------------------

Environment variables:

    AUTOMATED_TESTING = 1
    LANG = en_GB.UTF-8
    LANGUAGE = en_GB:en
    NONINTERACTIVE_TESTING = 1
    PATH = /usr/local/bin:/usr/bin:/bin:/usr/local/games:/usr/games
    PERL5LIB = /home/cpan/pit/jail/Zg7gdWBsGz/lib/perl5:/home/cpan/pit/bare-ld/conf/perl-5.16.1/.cpanplus/5.16.1/build/C2IG2FdNa6/Data-Serializer-0.65/blib/lib:/home/cpan/pit/bare-ld/conf/perl-5.16.1/.cpanplus/5.16.1/build/C2IG2FdNa6/Data-Serializer-0.65/blib/arch
    PERL5_CPANPLUS_IS_RUNNING = 1288
    PERL5_CPANPLUS_IS_VERSION = 0.9914
    PERL5_MINISMOKEBOX = 0.68
    PERL5_YACSMOKE_BASE = /home/cpan/pit/bare-ld/conf/perl-5.16.1
    PERL_EXTUTILS_AUTOINSTALL = --defaultdeps
    PERL_LOCAL_LIB_ROOT = /home/cpan/pit/jail/Zg7gdWBsGz
    PERL_MB_OPT = --install_base "/home/cpan/pit/jail/Zg7gdWBsGz"
    PERL_MM_OPT = INSTALL_BASE=/home/cpan/pit/jail/Zg7gdWBsGz
    PERL_MM_USE_DEFAULT = 1
    PERL_USE_UNSAFE_INC = 1
    SHELL = /bin/bash
    TERM = screen.xterm-256color

Perl special variables (and OS-specific diagnostics, for MSWin32):

    Perl: $^X = /home/cpan/pit/bare-ld/perl-5.16.1/bin/perl
    UID:  $<  = 1001
    EUID: $>  = 1001
    GID:  $(  = 1001 1001
    EGID: $)  = 1001 1001


-------------------------------


--

Summary of my perl5 (revision 5 version 16 subversion 1) configuration:
   
  Platform:
    osname=linux, osvers=5.10.0-12-686, archname=i686-linux-ld
    uname='linux dagobah 5.10.0-12-686 #1 smp debian 5.10.103-1 (2022-03-07) i686 gnulinux '
    config_args='-des -Dprefix=/home/cpan/pit/bare-ld/perl-5.16.1 -Duselongdouble'
    hint=recommended, useposix=true, d_sigaction=define
    useithreads=undef, usemultiplicity=undef
    useperlio=define, d_sfio=undef, uselargefiles=define, usesocks=undef
    use64bitint=undef, use64bitall=undef, uselongdouble=define
    usemymalloc=n, bincompat5005=undef
  Compiler:
    cc='cc', ccflags ='-fwrapv -fno-strict-aliasing -pipe -fstack-protector -I/usr/local/include -D_LARGEFILE_SOURCE -D_FILE_OFFSET_BITS=64',
    optimize='-O2',
    cppflags='-fwrapv -fno-strict-aliasing -pipe -fstack-protector -I/usr/local/include'
    ccversion='', gccversion='10.2.1 20210110', gccosandvers=''
    intsize=4, longsize=4, ptrsize=4, doublesize=8, byteorder=1234
    d_longlong=define, longlongsize=8, d_longdbl=define, longdblsize=12
    ivtype='long', ivsize=4, nvtype='long double', nvsize=12, Off_t='off_t', lseeksize=8
    alignbytes=4, prototype=define
  Linker and Libraries:
    ld='cc', ldflags =' -fstack-protector -L/usr/local/lib'
    libpth=/usr/local/lib /lib/i386-linux-gnu /lib/../lib /usr/lib/i386-linux-gnu /usr/lib/../lib /lib /usr/lib /lib64 /usr/lib64
    libs=-lnsl -lgdbm -ldl -lm -lcrypt -lutil -lc
    perllibs=-lnsl -ldl -lm -lcrypt -lutil -lc
    libc=libc-2.31.so, so=so, useshrplib=false, libperl=libperl.a
    gnulibc_version='2.31'
  Dynamic Linking:
    dlsrc=dl_dlopen.xs, dlext=so, d_dlsymun=undef, ccdlflags='-Wl,-E'
    cccdlflags='-fPIC', lddlflags='-shared -O2 -L/usr/local/lib -fstack-protector'


Characteristics of this binary (from libperl): 
  Compile-time options: HAS_TIMES PERLIO_LAYERS PERL_DONT_CREATE_GVSV
                        PERL_MALLOC_WRAP PERL_PRESERVE_IVUV USE_LARGE_FILES
                        USE_LOCALE USE_LOCALE_COLLATE USE_LOCALE_CTYPE
                        USE_LOCALE_NUMERIC USE_LONG_DOUBLE USE_PERLIO
                        USE_PERL_ATOF
  Locally applied patches:
	Devel::PatchPerl 2.08
  Built under linux
  Compiled at Mar 19 2022 04:10:58
  %ENV:
    PERL5LIB="/home/cpan/pit/jail/Zg7gdWBsGz/lib/perl5:/home/cpan/pit/bare-ld/conf/perl-5.16.1/.cpanplus/5.16.1/build/C2IG2FdNa6/Data-Serializer-0.65/blib/lib:/home/cpan/pit/bare-ld/conf/perl-5.16.1/.cpanplus/5.16.1/build/C2IG2FdNa6/Data-Serializer-0.65/blib/arch"
    PERL5_CPANPLUS_IS_RUNNING="1288"
    PERL5_CPANPLUS_IS_VERSION="0.9914"
    PERL5_MINISMOKEBOX="0.68"
    PERL5_YACSMOKE_BASE="/home/cpan/pit/bare-ld/conf/perl-5.16.1"
    PERL_EXTUTILS_AUTOINSTALL="--defaultdeps"
    PERL_LOCAL_LIB_ROOT="/home/cpan/pit/jail/Zg7gdWBsGz"
    PERL_MB_OPT="--install_base "/home/cpan/pit/jail/Zg7gdWBsGz""
    PERL_MM_OPT="INSTALL_BASE=/home/cpan/pit/jail/Zg7gdWBsGz"
    PERL_MM_USE_DEFAULT="1"
    PERL_USE_UNSAFE_INC="1"
  @INC:
    /home/cpan/pit/jail/Zg7gdWBsGz/lib/perl5/5.16.1/i686-linux-ld
    /home/cpan/pit/jail/Zg7gdWBsGz/lib/perl5/5.16.1
    /home/cpan/pit/jail/Zg7gdWBsGz/lib/perl5/i686-linux-ld
    /home/cpan/pit/jail/Zg7gdWBsGz/lib/perl5
    /home/cpan/pit/bare-ld/conf/perl-5.16.1/.cpanplus/5.16.1/build/C2IG2FdNa6/Data-Serializer-0.65/blib/lib
    /home/cpan/pit/bare-ld/conf/perl-5.16.1/.cpanplus/5.16.1/build/C2IG2FdNa6/Data-Serializer-0.65/blib/arch
    /home/cpan/pit/bare-ld/perl-5.16.1/lib/site_perl/5.16.1/i686-linux-ld
    /home/cpan/pit/bare-ld/perl-5.16.1/lib/site_perl/5.16.1
    /home/cpan/pit/bare-ld/perl-5.16.1/lib/5.16.1/i686-linux-ld
    /home/cpan/pit/bare-ld/perl-5.16.1/lib/5.16.1
    .