Future-HTTP v0.14 Perl 5 v5.14.4 x86_64-linux-thread-multi

Status
Pass
From
David Cantrell (DCANTRELL)
Dist
Future-HTTP v0.14
Platform
Perl 5 v5.14.4 x86_64-linux-thread-multi
Date
2021-07-11 08:43:19
ID
0aa2d6e2-e224-11eb-bc3f-9754bb8d1a8c
This distribution has been tested as part of the CPAN Testers
project, supporting the Perl programming language.  See
http://wiki.cpantesters.org/ for more information or email
questions to cpan-testers-discuss@perl.org


--
Dear Max Maischein,

This is a computer-generated report for Future-HTTP-0.14
on perl 5.14.4, created by CPAN-Reporter-1.2018.

Thank you for uploading your work to CPAN.  Congratulations!
All tests were successful.

Sections of this report:

    * Tester comments
    * Program output
    * Prerequisites
    * Environment and other context

------------------------------
TESTER COMMENTS
------------------------------

Additional comments from tester:

this report is from an automated smoke testing program
and was not reviewed by a human for accuracy

------------------------------
PROGRAM OUTPUT
------------------------------

Output from '/usr/bin/make test':

PERL_DL_NONLAZY=1 "/home/david/cpantesting/perl-5.14.4/bin/perl" "-MExtUtils::Command::MM" "-MTest::Harness" "-e" "undef *Test::Harness::Switches; test_harness(0, 'blib/lib', 'blib/arch')" t/00-load.t t/01-anyevent-http.t t/01-backend-selection.t t/01-backends-anyevent.t t/01-backends-default.t t/01-backends-mojolicious.t t/01-backends-netasync.t t/01-backends-tiny-paranoid.t t/01-http-tiny-paranoid.t t/01-http-tiny.t t/01-mojo.t t/01-netasync.t t/02-changedefault1.t t/02-changedefault2.t
# Testing Future::HTTP 0.14, Perl 5.014004
# AutoLoader 5.71
# Carp 1.50
# Config <unknown>
# Cwd 3.36
# DynaLoader 1.13
# Encode 3.10
# Encode::Alias 2.24
# Encode::Config 2.05
# Encode::Encoding 2.08
# Encode::MIME::Name 1.03
# Exporter 5.64_03
# Exporter::Heavy 5.64_03
# ExtUtils::Liblist 7.34
# ExtUtils::Liblist::Kid 7.34
# ExtUtils::MM 7.34
# ExtUtils::MM_Any 7.34
# ExtUtils::MM_Unix 7.34
# ExtUtils::MY 7.34
# ExtUtils::MakeMaker 7.34
# ExtUtils::MakeMaker::Config 7.34
# ExtUtils::MakeMaker::Locale 7.34
# ExtUtils::MakeMaker::version 7.34
# Fcntl 1.11
# File::Basename 2.82
# File::Glob 1.13
# File::Path 2.08_01
# File::Spec 3.33
# File::Spec::Unix 3.33
# Filter::Simple 0.94
# Filter::Util::Call 1.08
# Filter::signatures 0.17
# Future::HTTP 0.14
# I18N::Langinfo 0.08
# IO 1.25_04
# IO::Handle 1.31
# List::Util 1.56
# POSIX 1.24
# PerlIO 1.07
# Scalar::Util 1.56
# SelectSaver 1.02
# SelfLoader 1.18
# Storable 2.27
# Symbol 1.07
# Test::Builder 1.302185
# Test::Builder::Formatter 1.302185
# Test::Builder::Module 1.302185
# Test::Builder::TodoDiag 1.302185
# Test::More 1.302185
# Test2::API 1.302185
# Test2::API::Context 1.302185
# Test2::API::Instance 1.302185
# Test2::API::Stack 1.302185
# Test2::Event 1.302185
# Test2::Event::Bail 1.302185
# Test2::Event::Diag 1.302185
# Test2::Event::Exception 1.302185
# Test2::Event::Fail 1.302185
# Test2::Event::Note 1.302185
# Test2::Event::Ok 1.302185
# Test2::Event::Pass 1.302185
# Test2::Event::Plan 1.302185
# Test2::Event::Skip 1.302185
# Test2::Event::Subtest 1.302185
# Test2::Event::V2 1.302185
# Test2::Event::Waiting 1.302185
# Test2::EventFacet 1.302185
# Test2::EventFacet::About 1.302185
# Test2::EventFacet::Amnesty 1.302185
# Test2::EventFacet::Assert 1.302185
# Test2::EventFacet::Control 1.302185
# Test2::EventFacet::Error 1.302185
# Test2::EventFacet::Hub 1.302185
# Test2::EventFacet::Info 1.302185
# Test2::EventFacet::Meta 1.302185
# Test2::EventFacet::Parent 1.302185
# Test2::EventFacet::Plan 1.302185
# Test2::EventFacet::Trace 1.302185
# Test2::Formatter 1.302185
# Test2::Formatter::TAP 1.302185
# Test2::Hub 1.302185
# Test2::Hub::Interceptor 1.302185
# Test2::Hub::Interceptor::Terminator 1.302185
# Test2::Hub::Subtest 1.302185
# Test2::Util 1.302185
# Test2::Util::ExternalMeta 1.302185
# Test2::Util::Facets2Legacy 1.302185
# Test2::Util::HashBase 1.302185
# Test2::Util::Trace 1.302185
# Text::Balanced 2.02
# Tie::Hash 1.04
# XSLoader 0.13
# base 2.16
# bytes 1.04
# constant 1.21
# feature 1.20
# mro 1.07
# overload 1.13
# overloading 0.01
# parent 0.225
# re 0.18
# strict 1.04
# vars 1.02
# version 0.88
# warnings 1.12
# warnings::register 1.02
t/00-load.t .................... ok
t/01-anyevent-http.t ........... skipped: Couldn't load Future::HTTP::AnyEvent: Can't locate AnyEvent/HTTP.pm in @INC (@INC contains: /home/david/cpantesting/perl-5.14.4/.cpan/build/Future-HTTP-0.14-kgiRTR/blib/lib /home/david/cpantesting/perl-5.14.4/.cpan/build/Future-HTTP-0.14-kgiRTR/blib/arch /home/david/cpantesting/perl-5.14.4/lib/site_perl/5.14.4/x86_64-linux-thread-multi /home/david/cpantesting/perl-5.14.4/lib/site_perl/5.14.4 /home/david/cpantesting/perl-5.14.4/lib/5.14.4/x86_64-linux-thread-multi /home/david/cpantesting/perl-5.14.4/lib/5.14.4 .) at /home/david/cpantesting/perl-5.14.4/.cpan/build/Future-HTTP-0.14-kgiRTR/blib/lib/Future/HTTP/AnyEvent.pm line 4.
t/01-backend-selection.t ....... skipped: No backend other than IO::Async available
# Skipped check for Future::HTTP::AnyEvent backend: Can't locate AnyEvent.pm in @INC (@INC contains: /home/david/cpantesting/perl-5.14.4/.cpan/build/Future-HTTP-0.14-kgiRTR/blib/lib /home/david/cpantesting/perl-5.14.4/.cpan/build/Future-HTTP-0.14-kgiRTR/blib/arch /home/david/cpantesting/perl-5.14.4/lib/site_perl/5.14.4/x86_64-linux-thread-multi /home/david/cpantesting/perl-5.14.4/lib/site_perl/5.14.4 /home/david/cpantesting/perl-5.14.4/lib/5.14.4/x86_64-linux-thread-multi /home/david/cpantesting/perl-5.14.4/lib/5.14.4 .) at t/01-backends-anyevent.t line 13.
t/01-backends-anyevent.t ....... ok
t/01-backends-default.t ........ ok
# Skipped check for Future::HTTP::Mojo backend: Can't locate Mojo/IOLoop.pm in @INC (@INC contains: /home/david/cpantesting/perl-5.14.4/.cpan/build/Future-HTTP-0.14-kgiRTR/blib/lib /home/david/cpantesting/perl-5.14.4/.cpan/build/Future-HTTP-0.14-kgiRTR/blib/arch /home/david/cpantesting/perl-5.14.4/lib/site_perl/5.14.4/x86_64-linux-thread-multi /home/david/cpantesting/perl-5.14.4/lib/site_perl/5.14.4 /home/david/cpantesting/perl-5.14.4/lib/5.14.4/x86_64-linux-thread-multi /home/david/cpantesting/perl-5.14.4/lib/5.14.4 .) at t/01-backends-mojolicious.t line 13.
t/01-backends-mojolicious.t .... ok
# Skipped check for Future::HTTP::NetAsync backend: Can't locate Net/Async/HTTP.pm in @INC (@INC contains: /home/david/cpantesting/perl-5.14.4/.cpan/build/Future-HTTP-0.14-kgiRTR/blib/lib /home/david/cpantesting/perl-5.14.4/.cpan/build/Future-HTTP-0.14-kgiRTR/blib/arch /home/david/cpantesting/perl-5.14.4/lib/site_perl/5.14.4/x86_64-linux-thread-multi /home/david/cpantesting/perl-5.14.4/lib/site_perl/5.14.4 /home/david/cpantesting/perl-5.14.4/lib/5.14.4/x86_64-linux-thread-multi /home/david/cpantesting/perl-5.14.4/lib/5.14.4 .) at /home/david/cpantesting/perl-5.14.4/.cpan/build/Future-HTTP-0.14-kgiRTR/blib/lib/Future/HTTP/NetAsync.pm line 3.
# BEGIN failed--compilation aborted at /home/david/cpantesting/perl-5.14.4/.cpan/build/Future-HTTP-0.14-kgiRTR/blib/lib/Future/HTTP/NetAsync.pm line 3.
# Compilation failed in require at (eval 26) line 1.
t/01-backends-netasync.t ....... ok
# Skipped check for Future::HTTP::Tiny::Paranoid backend: Can't locate HTTP/Tiny/Paranoid.pm in @INC (@INC contains: /home/david/cpantesting/perl-5.14.4/.cpan/build/Future-HTTP-0.14-kgiRTR/blib/lib /home/david/cpantesting/perl-5.14.4/.cpan/build/Future-HTTP-0.14-kgiRTR/blib/arch /home/david/cpantesting/perl-5.14.4/lib/site_perl/5.14.4/x86_64-linux-thread-multi /home/david/cpantesting/perl-5.14.4/lib/site_perl/5.14.4 /home/david/cpantesting/perl-5.14.4/lib/5.14.4/x86_64-linux-thread-multi /home/david/cpantesting/perl-5.14.4/lib/5.14.4 .) at t/01-backends-tiny-paranoid.t line 13.
t/01-backends-tiny-paranoid.t .. ok
t/01-http-tiny-paranoid.t ...... skipped: Couldn't load Future::HTTP::Tiny::Paranoid: Can't locate HTTP/Tiny/Paranoid.pm in @INC (@INC contains: /home/david/cpantesting/perl-5.14.4/.cpan/build/Future-HTTP-0.14-kgiRTR/blib/lib /home/david/cpantesting/perl-5.14.4/.cpan/build/Future-HTTP-0.14-kgiRTR/blib/arch /home/david/cpantesting/perl-5.14.4/lib/site_perl/5.14.4/x86_64-linux-thread-multi /home/david/cpantesting/perl-5.14.4/lib/site_perl/5.14.4 /home/david/cpantesting/perl-5.14.4/lib/5.14.4/x86_64-linux-thread-multi /home/david/cpantesting/perl-5.14.4/lib/5.14.4 .) at t/01-http-tiny-paranoid.t line 10.
# Version of HTTP::Tiny: 0.076
t/01-http-tiny.t ............... ok
t/01-mojo.t .................... skipped: Couldn't load Future::HTTP::Mojo: Can't locate Mojolicious.pm in @INC (@INC contains: /home/david/cpantesting/perl-5.14.4/.cpan/build/Future-HTTP-0.14-kgiRTR/blib/lib /home/david/cpantesting/perl-5.14.4/.cpan/build/Future-HTTP-0.14-kgiRTR/blib/arch /home/david/cpantesting/perl-5.14.4/lib/site_perl/5.14.4/x86_64-linux-thread-multi /home/david/cpantesting/perl-5.14.4/lib/site_perl/5.14.4 /home/david/cpantesting/perl-5.14.4/lib/5.14.4/x86_64-linux-thread-multi /home/david/cpantesting/perl-5.14.4/lib/5.14.4 .) at t/01-mojo.t line 10.
t/01-netasync.t ................ skipped: Couldn't load Net::Async::HTTP: Can't locate Net/Async/HTTP.pm in @INC (@INC contains: /home/david/cpantesting/perl-5.14.4/.cpan/build/Future-HTTP-0.14-kgiRTR/blib/lib /home/david/cpantesting/perl-5.14.4/.cpan/build/Future-HTTP-0.14-kgiRTR/blib/arch /home/david/cpantesting/perl-5.14.4/lib/site_perl/5.14.4/x86_64-linux-thread-multi /home/david/cpantesting/perl-5.14.4/lib/site_perl/5.14.4 /home/david/cpantesting/perl-5.14.4/lib/5.14.4/x86_64-linux-thread-multi /home/david/cpantesting/perl-5.14.4/lib/5.14.4 .) at t/01-netasync.t line 10.
t/02-changedefault1.t .......... ok
t/02-changedefault2.t .......... ok
All tests successful.
Files=14, Tests=19, 63 wallclock secs ( 0.15 usr  0.06 sys + 12.59 cusr  0.93 csys = 13.73 CPU)
Result: PASS

------------------------------
PREREQUISITES
------------------------------

Prerequisite modules loaded:

requires:

    Module                  Need  Have    
    ----------------------- ----- --------
    Filter::signatures      0.13  0.17    
    Future                  0.31  0.47    
    HTTP::Headers           6.07  6.33    
    HTTP::Tiny              0     0.076   
    Moo                     2     2.005004
    perl                    5.006 5.014004

build_requires:

    Module                  Need  Have    
    ----------------------- ----- --------
    Data::Dumper            0     2.130_02
    ExtUtils::MakeMaker     0     7.34    
    Test::HTTP::LocalServer 0     0.71    
    Test::More              0     1.302185

configure_requires:

    Module                  Need  Have    
    ----------------------- ----- --------
    ExtUtils::MakeMaker     0     7.34    


------------------------------
ENVIRONMENT AND OTHER CONTEXT
------------------------------

Environment variables:

    AUTOMATED_TESTING = 1
    LANG = en_GB.UTF-8
    LANGUAGE = en_GB:en
    LC_TERMINAL = iTerm2
    LC_TERMINAL_VERSION = 3.4.8
    NONINTERACTIVE_TESTING = 1
    PATH = /home/david/perl5/perlbrew/bin:/home/david/perl5/perlbrew/perls/perl-5.30.2/bin:/home/david/bin:/usr/local/bin:/usr/bin:/bin:/usr/local/games:/usr/games
    PERL = 5.14.4
    PERL5LIB = 
    PERL5OPT = 
    PERL5_CPANPLUS_IS_RUNNING = 2315
    PERL5_CPAN_IS_RUNNING = 2315
    PERLBREW_HOME = /home/david/.perlbrew
    PERLBREW_MANPATH = /home/david/perl5/perlbrew/perls/perl-5.30.2/man
    PERLBREW_PATH = /home/david/perl5/perlbrew/bin:/home/david/perl5/perlbrew/perls/perl-5.30.2/bin
    PERLBREW_PERL = perl-5.30.2
    PERLBREW_ROOT = /home/david/perl5/perlbrew
    PERLBREW_SHELLRC_VERSION = 0.89
    PERLBREW_VERSION = 0.89
    PERLVER = 5.14.4
    PERL_INLINE_DIRECTORY = /home/david/.Inline-5.14.4
    PERL_MM_USE_DEFAULT = 1
    PERL_USE_UNSAFE_INC = 0
    SHELL = /bin/bash
    TERM = screen

Perl special variables (and OS-specific diagnostics, for MSWin32):

    $^X = /home/david/cpantesting/perl-5.14.4/bin/perl
    $UID/$EUID = 1000 / 1000
    $GID = 1000 24 25 27 29 30 44 46 109 1000
    $EGID = 1000 24 25 27 29 30 44 46 109 1000

Perl module toolchain versions installed:

    Module              Have     
    ------------------- ---------
    CPAN                1.9600_01
    CPAN::Meta          2.150010 
    Cwd                 3.36     
    ExtUtils::CBuilder  0.280203 
    ExtUtils::Command   7.34     
    ExtUtils::Install   2.06     
    ExtUtils::MakeMaker 7.34     
    ExtUtils::Manifest  1.70     
    ExtUtils::ParseXS   3.35     
    File::Spec          3.33     
    JSON                4.03     
    JSON::PP            4.02     
    Module::Build       0.4231   
    Module::Signature   n/a      
    Parse::CPAN::Meta   2.150010 
    Test::Harness       3.42     
    Test::More          1.302185 
    YAML                1.30     
    YAML::Syck          n/a      
    version             0.88     


--

Summary of my perl5 (revision 5 version 14 subversion 4) configuration:
   
  Platform:
    osname=linux, osvers=4.9.0-8-amd64, archname=x86_64-linux-thread-multi
    uname='linux pigsty 4.9.0-8-amd64 #1 smp debian 4.9.144-3 (2019-02-02) x86_64 gnulinux '
    config_args='-de -Duse64bitall -Dusethreads -Dprefix=/home/david/cpantesting/perl-5.14.4 -A ccflags=-fwrapv'
    hint=previous, useposix=true, d_sigaction=define
    useithreads=define, usemultiplicity=define
    useperlio=define, d_sfio=undef, uselargefiles=define, usesocks=undef
    use64bitint=define, use64bitall=define, uselongdouble=undef
    usemymalloc=n, bincompat5005=undef
  Compiler:
    cc='cc', ccflags ='-D_REENTRANT -D_GNU_SOURCE -fwrapv -fno-strict-aliasing -pipe -fstack-protector -I/usr/local/include -D_LARGEFILE_SOURCE -D_FILE_OFFSET_BITS=64 -fwrapv -fwrapv',
    optimize='-O2',
    cppflags='-D_REENTRANT -D_GNU_SOURCE -fwrapv -fno-strict-aliasing -pipe -fstack-protector -I/usr/local/include -D_REENTRANT -D_GNU_SOURCE -fwrapv -fno-strict-aliasing -pipe -fstack-protector -I/usr/local/include -D_LARGEFILE_SOURCE -D_FILE_OFFSET_BITS=64 -fwrapv -D_REENTRANT -D_GNU_SOURCE -fwrapv -fno-strict-aliasing -pipe -fstack-protector -I/usr/local/include -D_LARGEFILE_SOURCE -D_FILE_OFFSET_BITS=64 -fwrapv -fwrapv'
    ccversion='', gccversion='6.3.0 20170516', gccosandvers=''
    intsize=4, longsize=8, ptrsize=8, doublesize=8, byteorder=12345678
    d_longlong=define, longlongsize=8, d_longdbl=define, longdblsize=16
    ivtype='long', ivsize=8, nvtype='double', nvsize=8, Off_t='off_t', lseeksize=8
    alignbytes=8, prototype=define
  Linker and Libraries:
    ld='cc', ldflags =' -fstack-protector -L/usr/local/lib'
    libpth=/usr/local/lib /lib/x86_64-linux-gnu /lib/../lib /usr/lib/x86_64-linux-gnu /usr/lib/../lib /lib /usr/lib
    libs=-lnsl -ldb -ldl -lm -lcrypt -lutil -lpthread -lc
    perllibs=-lnsl -ldl -lm -lcrypt -lutil -lpthread -lc
    libc=libc-2.24.so, so=so, useshrplib=false, libperl=libperl.a
    gnulibc_version='2.24'
  Dynamic Linking:
    dlsrc=dl_dlopen.xs, dlext=so, d_dlsymun=undef, ccdlflags='-Wl,-E'
    cccdlflags='-fPIC', lddlflags='-shared -O2 -L/usr/local/lib -fstack-protector'


Characteristics of this binary (from libperl): 
  Compile-time options: MULTIPLICITY PERL_DONT_CREATE_GVSV
                        PERL_IMPLICIT_CONTEXT PERL_MALLOC_WRAP
                        PERL_PRESERVE_IVUV USE_64_BIT_ALL USE_64_BIT_INT
                        USE_ITHREADS USE_LARGE_FILES USE_PERLIO USE_PERL_ATOF
                        USE_REENTRANT_API
  Locally applied patches:
	Devel::PatchPerl 1.56
  Built under linux
  Compiled at Apr 25 2019 22:16:53
  %ENV:
    PERL="5.14.4"
    PERL5LIB=""
    PERL5OPT=""
    PERL5_CPANPLUS_IS_RUNNING="2315"
    PERL5_CPAN_IS_RUNNING="2315"
    PERLBREW_HOME="/home/david/.perlbrew"
    PERLBREW_MANPATH="/home/david/perl5/perlbrew/perls/perl-5.30.2/man"
    PERLBREW_PATH="/home/david/perl5/perlbrew/bin:/home/david/perl5/perlbrew/perls/perl-5.30.2/bin"
    PERLBREW_PERL="perl-5.30.2"
    PERLBREW_ROOT="/home/david/perl5/perlbrew"
    PERLBREW_SHELLRC_VERSION="0.89"
    PERLBREW_VERSION="0.89"
    PERLVER="5.14.4"
    PERL_INLINE_DIRECTORY="/home/david/.Inline-5.14.4"
    PERL_MM_USE_DEFAULT="1"
    PERL_USE_UNSAFE_INC="0"
  @INC:
    /home/david/cpantesting/perl-5.14.4/lib/site_perl/5.14.4/x86_64-linux-thread-multi
    /home/david/cpantesting/perl-5.14.4/lib/site_perl/5.14.4
    /home/david/cpantesting/perl-5.14.4/lib/5.14.4/x86_64-linux-thread-multi
    /home/david/cpantesting/perl-5.14.4/lib/5.14.4
    .