Tapper-PRC v5.0.5 Perl 5 v5.12.5 x86_64-linux-ld

Status
Pass
From
Andreas J. König (ANDK)
Dist
Tapper-PRC v5.0.5
Platform
Perl 5 v5.12.5 x86_64-linux-ld
Date
2024-12-07 16:05:13
ID
0a90b040-b4b5-11ef-b9fd-dbbcc56fd8f9
This distribution has been tested as part of the CPAN Testers
project, supporting the Perl programming language.  See
http://wiki.cpantesters.org/ for more information or email
questions to cpan-testers-discuss@perl.org


--
Dear Tapper Team,

This is a computer-generated report for Tapper-PRC-5.0.5
on perl 5.12.5, created by CPAN-Reporter-1.2020.

Thank you for uploading your work to CPAN.  Congratulations!
All tests were successful.

Sections of this report:

    * Tester comments
    * Program output
    * Prerequisites
    * Environment and other context

------------------------------
TESTER COMMENTS
------------------------------

Additional comments from tester:

this report is from an automated smoke testing program
and was not reviewed by a human for accuracy

------------------------------
PROGRAM OUTPUT
------------------------------

Output from '/usr/bin/make test':

PERL_DL_NONLAZY=1 "/home/sand/src/perl/repoperls/installed-perls/host/k93msid/v5.12.5/fc43f/bin/perl" "-MExtUtils::Command::MM" "-MTest::Harness" "-e" "undef *Test::Harness::Switches; test_harness(0, 'blib/lib', 'blib/arch')" t/*.t
t/00-compile.t ......................... ok
t/00-load.t ............................ ok
t/01-tapper-prc.t ...................... ok
# Sleep a bit to prevent timout race conditions...
# Sleep a bit to prevent timout race conditions...
t/02-tapper-prc-testcontrol.t .......... ok
t/author-eol.t ......................... skipped: these tests are for testing by the author
t/author-pod-syntax.t .................. skipped: these tests are for testing by the author
# Sleep a bit to prevent timout race conditions...
# Sleep a bit to prevent timout race conditions...
t/tapper-prc-sendtap.t ................. ok
t/tapper-prc-testcontrol-env.t ......... ok
t/tapper-prc-testcontrol-filenames.t ... ok
t/tapper-prc-testcontrol-gueststart.t .. ok
t/tapper-prc-testcontrol-sync.t ........ ok
t/tapper-prc-testcontrol-timeouts.t .... ok
t/tapper-prc-testcontrol-upload.t ...... ok
All tests successful.
Files=13, Tests=61, 63 wallclock secs ( 0.05 usr  0.04 sys +  5.34 cusr  1.41 csys =  6.84 CPU)
Result: PASS

------------------------------
PREREQUISITES
------------------------------

Prerequisite modules loaded:

requires:

    Module                  Need  Have      
    ----------------------- ----- ----------
    constant                0     1.33      
    Data::Dumper            0     2.183     
    English                 0     1.04      
    File::Basename          0     2.78      
    File::Copy              0     2.18      
    File::Temp              0     0.2311    
    IO::Handle              0     1.55      
    IO::Socket::INET        0     1.55      
    IPC::Open3              0     1.05      
    IPC::Run                0     20231003.0
    Log::Log4perl           0     1.57      
    LWP::UserAgent          0     6.72      
  ! Minion                  9.06  n/a       
    Moose                   0     2.2206    
    MooseX::Log::Log4perl   0     0.47      
    perl                    5.010 5.012005  
    Proc::Killfam           0     1.0       
    Proc::ProcessTable      0.53  0.636     
    strict                  0     1.04      
    Sys::Hostname           0     1.11      
    Tapper::Base            0     5.0.1     
    Tapper::Config          0     5.0.4     
    Tapper::Installer::Base 0     5.0.3     
    Tapper::Remote::Config  0     5.0.0     
    Tapper::Remote::Net     0     5.0.0     
    URI::Escape             0     5.31      
    warnings                0     1.09      
    YAML                    0     1.30      
    YAML::Syck              0     1.34      

build_requires:

    Module                  Need  Have      
    ----------------------- ----- ----------
    Cwd                     0     3.75      
    ExtUtils::MakeMaker     0     7.70      
    File::Spec              0     3.75      
    IO::Handle              0     1.55      
    IPC::Open3              0     1.05      
    Test::Deep              0     1.204     
    Test::MockModule        0     0.177.0   
    Test::More              0     1.302204  
    Try::Tiny               0     0.31      

configure_requires:

    Module                  Need  Have      
    ----------------------- ----- ----------
    ExtUtils::MakeMaker     0     7.70      


------------------------------
ENVIRONMENT AND OTHER CONTEXT
------------------------------

Environment variables:

    AUTOMATED_TESTING = 1
    LANG = en_US.UTF-8
    LANGUAGE = en_US:en
    PATH = /home/sand/bin:/usr/local/bin:/usr/bin:/bin:/usr/games:/usr/local/perl/bin:/usr/X11/bin:/sbin:/usr/sbin
    PERL5LIB = 
    PERL5OPT = 
    PERL5_CPANPLUS_IS_RUNNING = 437966
    PERL5_CPAN_IS_RUNNING = 437966
    PERL_CANARY_STABILITY_NOPROMPT = 1
    PERL_MM_USE_DEFAULT = 1
    PERL_USE_UNSAFE_INC = 1
    SHELL = /usr/bin/zsh
    TERM = screen

Perl special variables (and OS-specific diagnostics, for MSWin32):

    $^X = /home/sand/src/perl/repoperls/installed-perls/host/k93msid/v5.12.5/fc43f/bin/perl
    $UID/$EUID = 1005 / 1005
    $GID = 1005 1005
    $EGID = 1005 1005

Perl module toolchain versions installed:

    Module              Have    
    ------------------- --------
    CPAN                2.36    
    CPAN::Meta          2.150010
    Cwd                 3.75    
    ExtUtils::CBuilder  0.280236
    ExtUtils::Command   7.70    
    ExtUtils::Install   2.22    
    ExtUtils::MakeMaker 7.70    
    ExtUtils::Manifest  1.70    
    ExtUtils::ParseXS   3.51    
    File::Spec          3.75    
    JSON                4.10    
    JSON::PP            4.16    
    Module::Build       0.4234  
    Module::Signature   0.88    
    Parse::CPAN::Meta   2.150010
    Test2               1.302204
    Test::Harness       3.50    
    Test::More          1.302204
    YAML                1.30    
    YAML::Syck          1.34    
    version             0.9930  


--

Summary of my perl5 (revision 5 version 12 subversion 5) configuration:
  Derived from: 9a9cbd715960a905dcbc9166349a73a64a007e4e
  Platform:
    osname=linux, osvers=6.1.0-7-amd64, archname=x86_64-linux-ld
    uname='linux k93msid 6.1.0-7-amd64 #1 smp preempt_dynamic debian 6.1.20-1 (2023-03-19) x86_64 gnulinux '
    config_args='-Dprefix=/home/sand/src/perl/repoperls/installed-perls/host/k93msid/v5.12.5/fc43f -Dmyhostname=k93msid -Dinstallusrbinperl=n -Uversiononly -Dusedevel -des -Ui_db -Dlibswanted=cl pthread socket inet nsl gdbm dbm malloc dl ld sun m crypt sec util c cposix posix ucb BSD gdbm_compat -Uuseithreads -Duselongdouble -DEBUGGING=both'
    hint=recommended, useposix=true, d_sigaction=define
    useithreads=undef, usemultiplicity=undef
    useperlio=define, d_sfio=undef, uselargefiles=define, usesocks=undef
    use64bitint=define, use64bitall=define, uselongdouble=define
    usemymalloc=n, bincompat5005=undef
  Compiler:
    cc='cc', ccflags ='-fwrapv -DDEBUGGING -fno-strict-aliasing -pipe -fstack-protector -I/usr/local/include -D_LARGEFILE_SOURCE -D_FILE_OFFSET_BITS=64',
    optimize='-O2 -g',
    cppflags='-fwrapv -DDEBUGGING -fno-strict-aliasing -pipe -fstack-protector -I/usr/local/include'
    ccversion='', gccversion='12.2.0', gccosandvers=''
    intsize=4, longsize=8, ptrsize=8, doublesize=8, byteorder=12345678
    d_longlong=define, longlongsize=8, d_longdbl=define, longdblsize=16
    ivtype='long', ivsize=8, nvtype='long double', nvsize=16, Off_t='off_t', lseeksize=8
    alignbytes=16, prototype=define
  Linker and Libraries:
    ld='cc', ldflags =' -fstack-protector -L/usr/local/lib'
    libpth=/usr/local/lib /lib/x86_64-linux-gnu /lib/../lib /usr/lib/x86_64-linux-gnu /usr/lib/../lib /lib /usr/lib /lib64 /usr/lib64
    libs=-lpthread -lnsl -ldl -lm -lcrypt -lutil -lc
    perllibs=-lpthread -lnsl -ldl -lm -lcrypt -lutil -lc
    libc=/lib/x86_64-linux-gnu/libc.so.6, so=so, useshrplib=false, libperl=libperl.a
    gnulibc_version='2.36'
  Dynamic Linking:
    dlsrc=dl_dlopen.xs, dlext=so, d_dlsymun=undef, ccdlflags='-Wl,-E'
    cccdlflags='-fPIC', lddlflags='-shared -O2 -g -L/usr/local/lib -fstack-protector'


Characteristics of this binary (from libperl): 
  Compile-time options: DEBUGGING PERL_DONT_CREATE_GVSV PERL_MALLOC_WRAP
                        PERL_USE_DEVEL USE_64_BIT_ALL USE_64_BIT_INT
                        USE_LARGE_FILES USE_LONG_DOUBLE USE_PERLIO
                        USE_PERL_ATOF
  Locally applied patches:
	uncommitted-changes
  Built under linux
  Compiled at Oct  1 2023 20:47:32
  %ENV:
    PERL5LIB=""
    PERL5OPT=""
    PERL5_CPANPLUS_IS_RUNNING="437966"
    PERL5_CPAN_IS_RUNNING="437966"
    PERL_CANARY_STABILITY_NOPROMPT="1"
    PERL_MM_USE_DEFAULT="1"
    PERL_USE_UNSAFE_INC="1"
  @INC:
    /home/sand/src/perl/repoperls/installed-perls/host/k93msid/v5.12.5/fc43f/lib/site_perl/5.12.5/x86_64-linux-ld
    /home/sand/src/perl/repoperls/installed-perls/host/k93msid/v5.12.5/fc43f/lib/site_perl/5.12.5
    /home/sand/src/perl/repoperls/installed-perls/host/k93msid/v5.12.5/fc43f/lib/5.12.5/x86_64-linux-ld
    /home/sand/src/perl/repoperls/installed-perls/host/k93msid/v5.12.5/fc43f/lib/5.12.5
    .