HTTP-Upload-FlowJs v0.02 Perl 5 v5.10.1 amd64-freebsd

Status
Pass
From
Slaven Rezić
Dist
HTTP-Upload-FlowJs v0.02
Platform
Perl 5 v5.10.1 amd64-freebsd
Date
2024-09-08 13:27:05
ID
0a7d9d2c-6de6-11ef-a9f0-f5366e8775ea
This distribution has been tested as part of the CPAN Testers
project, supporting the Perl programming language.  See
http://wiki.cpantesters.org/ for more information or email
questions to cpan-testers-discuss@perl.org


--
Dear Max Maischein,

This is a computer-generated report for HTTP-Upload-FlowJs-0.02
on perl 5.10.1, created by CPAN-Reporter-1.2019.

Thank you for uploading your work to CPAN.  Congratulations!
All tests were successful.

Sections of this report:

    * Tester comments
    * Program output
    * Prerequisites
    * Environment and other context

------------------------------
TESTER COMMENTS
------------------------------

Additional comments from tester:

none provided

------------------------------
PROGRAM OUTPUT
------------------------------

Output from '/usr/bin/make test':

PERL_DL_NONLAZY=1 "/usr/perl5.10.1/bin/perl" "-MExtUtils::Command::MM" "-MTest::Harness" "-e" "undef *Test::Harness::Switches; test_harness(0, 'blib/lib', 'blib/arch')" t/00-load.t t/002_http_upload_disallowedContentType.t t/003_http_upload_flowjs.t t/004_js-config.t
# Testing HTTP::Upload::FlowJs 0.02, Perl 5.010001
# AutoLoader 5.68
# Carp 1.5
# Carp::Heavy 1.50
# Class::XSAccessor 1.19
# Class::XSAccessor::Heavy 1.19
# Config <unknown>
# Data::Dumper 2.183
# Devel::GlobalDestruction::XS 0.03
# DynaLoader 1.10
# Encode 3.21
# Encode::Alias 2.25
# Encode::Config 2.05
# Encode::Encoding 2.08
# Encode::MIME::Name 1.03
# Exporter 5.77
# Exporter::Heavy 5.77
# Fcntl 1.06
# File::Glob 1.06
# Filter::Simple 0.91
# Filter::Util::Call 1.58
# Filter::signatures 0.17
# HTTP::Upload::FlowJs 0.02
# IO 1.55
# IO::Handle 1.55
# JSON 4.10
# JSON::XS 4.03
# List::Util 1.65
# Log::Agent 1.004
# Log::Agent::Formatting <unknown>
# Log::Agent::Message <unknown>
# Log::Agent::Priorities <unknown>
# MIME::Detect 0.10
# MIME::Detect::Buffer <unknown>
# MIME::Detect::Type 0.10
# Method::Generate::Accessor <unknown>
# Method::Generate::Constructor <unknown>
# Moo 2.005005
# Moo::Object <unknown>
# Moo::_Utils <unknown>
# Moo::sification <unknown>
# POSIX 1.17
# PerlIO 1.06
# Scalar::Util 1.65
# SelectSaver 1.02
# Storable 3.25
# Sub::Defer 2.006008
# Sub::Quote 2.006008
# Sub::Util 1.65
# Symbol 1.07
# Test::Builder 1.302202
# Test::Builder::Formatter 1.302202
# Test::Builder::Module 1.302202
# Test::Builder::TodoDiag 1.302202
# Test::More 1.302202
# Test2::API 1.302202
# Test2::API::Context 1.302202
# Test2::API::Instance 1.302202
# Test2::API::Stack 1.302202
# Test2::Event 1.302202
# Test2::Event::Bail 1.302202
# Test2::Event::Diag 1.302202
# Test2::Event::Exception 1.302202
# Test2::Event::Fail 1.302202
# Test2::Event::Note 1.302202
# Test2::Event::Ok 1.302202
# Test2::Event::Pass 1.302202
# Test2::Event::Plan 1.302202
# Test2::Event::Skip 1.302202
# Test2::Event::Subtest 1.302202
# Test2::Event::V2 1.302202
# Test2::Event::Waiting 1.302202
# Test2::EventFacet 1.302202
# Test2::EventFacet::About 1.302202
# Test2::EventFacet::Amnesty 1.302202
# Test2::EventFacet::Assert 1.302202
# Test2::EventFacet::Control 1.302202
# Test2::EventFacet::Error 1.302202
# Test2::EventFacet::Hub 1.302202
# Test2::EventFacet::Info 1.302202
# Test2::EventFacet::Meta 1.302202
# Test2::EventFacet::Parent 1.302202
# Test2::EventFacet::Plan 1.302202
# Test2::EventFacet::Trace 1.302202
# Test2::Formatter 1.302202
# Test2::Formatter::TAP 1.302202
# Test2::Hub 1.302202
# Test2::Hub::Interceptor 1.302202
# Test2::Hub::Interceptor::Terminator 1.302202
# Test2::Hub::Subtest 1.302202
# Test2::Util 1.302202
# Test2::Util::ExternalMeta 1.302202
# Test2::Util::Facets2Legacy 1.302202
# Test2::Util::HashBase 1.302202
# Test2::Util::Trace 1.302202
# Text::Balanced 2.06
# Text::CleanFragment 0.05
# Text::Unidecode 1.30
# Tie::Hash 1.03
# Time::HiRes 1.9764
# Types::Serialiser 1.01
# XML::LibXML 2.0209
# XML::LibXML::AttributeHash 2.0209
# XML::LibXML::Boolean 2.0209
# XML::LibXML::Error 2.0209
# XML::LibXML::Literal 2.0209
# XML::LibXML::NodeList 2.0209
# XML::LibXML::Number 2.0209
# XML::LibXML::XPathContext 2.0209
# XML::SAX::Exception 1.08
# XSLoader 0.24
# XString 0.004
# attributes 0.09
# base 2.23
# bytes 1.03
# common::sense 3.75
# constant 1.33
# feature 1.13
# integer 1.00
# mro 1.01
# overload 1.07
# overloading 0.01
# parent 0.242
# strict 1.04
# utf8 1.07
# vars 1.01
# warnings 1.06
# warnings::register 1.01
t/00-load.t ................................ ok
Use of uninitialized value in length at /usr/perl5.10.1/lib/site_perl/5.10.1/MIME/Detect.pm line 341.
Use of uninitialized value in length at /usr/perl5.10.1/lib/site_perl/5.10.1/MIME/Detect.pm line 341.
t/002_http_upload_disallowedContentType.t .. ok
# Uploading sequence: 4 1 2 3
# Uploaded chunk 4
# Uploaded chunk 1
Use of uninitialized value in length at /usr/perl5.10.1/lib/site_perl/5.10.1/MIME/Detect.pm line 341.
# Uploaded chunk 2
Use of uninitialized value in length at /usr/perl5.10.1/lib/site_perl/5.10.1/MIME/Detect.pm line 341.
# Uploaded chunk 3
Use of uninitialized value in length at /usr/perl5.10.1/lib/site_perl/5.10.1/MIME/Detect.pm line 341.
Use of uninitialized value in length at /usr/perl5.10.1/lib/site_perl/5.10.1/MIME/Detect.pm line 341.
Use of uninitialized value in length at /usr/perl5.10.1/lib/site_perl/5.10.1/MIME/Detect.pm line 341.
Use of uninitialized value in length at /usr/perl5.10.1/lib/site_perl/5.10.1/MIME/Detect.pm line 341.
Use of uninitialized value in length at /usr/perl5.10.1/lib/site_perl/5.10.1/MIME/Detect.pm line 341.
Use of uninitialized value in length at /usr/perl5.10.1/lib/site_perl/5.10.1/MIME/Detect.pm line 341.
Use of uninitialized value in length at /usr/perl5.10.1/lib/site_perl/5.10.1/MIME/Detect.pm line 341.
# []
# Cleaning up /var/tmp/cpansmoker-1023/2024090807/ygdMr3G4Tl
t/003_http_upload_flowjs.t ................. ok
# Cleaning up /var/tmp/cpansmoker-1023/2024090807/JMh1IMTk4e
t/004_js-config.t .......................... ok
All tests successful.
Files=4, Tests=96,  5 wallclock secs ( 0.04 usr  0.00 sys +  4.27 cusr  0.24 csys =  4.55 CPU)
Result: PASS

------------------------------
PREREQUISITES
------------------------------

Prerequisite modules loaded:

requires:

    Module              Need     Have    
    ------------------- -------- --------
    Carp                0        1.50    
    Data::Dumper        0        2.183   
    Filter::signatures  0.10     0.17    
    JSON                0        4.10    
    MIME::Detect        0        0.10    
    perl                5.010    5.010001
    Test::More          0        1.302202
    Text::CleanFragment 0        0.05    

build_requires:

    Module              Need     Have    
    ------------------- -------- --------
    ExtUtils::MakeMaker 0        7.70    
    Test::More          1.302007 1.302202

configure_requires:

    Module              Need     Have    
    ------------------- -------- --------
    ExtUtils::MakeMaker 0        7.70    


------------------------------
ENVIRONMENT AND OTHER CONTEXT
------------------------------

Environment variables:

    LC_ALL = de_DE.ISO8859-1
    PATH = /usr/local/bin:/usr/bin:/bin:/usr/local/sbin:/usr/sbin:/sbin:/home/cpansand/bin/freebsd9.3:/home/cpansand/bin/sh:/home/cpansand/bin:/usr/games:/home/cpansand/devel:/usr/home/eserte/src/srezic-misc/scripts
    PERL5LIB = 
    PERL5OPT = 
    PERL5_CPANPLUS_IS_RUNNING = 44161
    PERL5_CPAN_IS_RUNNING = 44161
    PERL5_CPAN_IS_RUNNING_IN_RECURSION = 43069,44161
    PERLDOC = -MPod::Perldoc::ToTextOverstrike
    PERL_BATCH = yes
    PERL_CANARY_STABILITY_NOPROMPT = 1
    PERL_CPAN_REPORTER_CONFIG = /var/tmp/cpansmoker-1023/2024090807/cpanreporter_000_config.ini
    PERL_EXTUTILS_AUTOINSTALL = --defaultdeps
    PERL_USE_UNSAFE_INC = 1
    SHELL = /usr/local/bin/zsh
    TERM = screen
    TMPDIR = /var/tmp/cpansmoker-1023/2024090807

Perl special variables (and OS-specific diagnostics, for MSWin32):

    $^X = /usr/perl5.10.1/bin/perl
    $UID/$EUID = 1023 / 1023
    $GID = 1023 1023
    $EGID = 1023 1023

Perl module toolchain versions installed:

    Module              Have    
    ------------------- --------
    CPAN                2.36    
    CPAN::Meta          2.150010
    Cwd                 3.75    
    ExtUtils::CBuilder  0.280236
    ExtUtils::Command   7.70    
    ExtUtils::Install   2.22    
    ExtUtils::MakeMaker 7.70    
    ExtUtils::Manifest  1.75    
    ExtUtils::ParseXS   3.51    
    File::Spec          3.75    
    JSON                4.10    
    JSON::PP            4.16    
    Module::Build       0.4234  
    Module::Signature   0.88    
    Parse::CPAN::Meta   2.150010
    Test2               1.302202
    Test::Harness       3.47    
    Test::More          1.302202
    YAML                1.30    
    YAML::Syck          1.34    
    version             0.9932  


--

Summary of my perl5 (revision 5 version 10 subversion 1) configuration:
   
  Platform:
    osname=freebsd, osvers=9.2-release-p4, archname=amd64-freebsd
    uname='freebsd cvrsnica-freebsd-92 9.2-release-p4 freebsd 9.2-release-p4 #0: tue apr 8 18:08:22 utc 2014 root@amd64-builder.daemonology.net:usrobjusrsrcsysgeneric amd64 '
    config_args='-ds -e -Dprefix=/usr/perl5.10.1'
    hint=recommended, useposix=true, d_sigaction=define
    useithreads=undef, usemultiplicity=undef
    useperlio=define, d_sfio=undef, uselargefiles=define, usesocks=undef
    use64bitint=define, use64bitall=define, uselongdouble=undef
    usemymalloc=n, bincompat5005=undef
  Compiler:
    cc='cc', ccflags ='-DHAS_FPSETMASK -DHAS_FLOATINGPOINT_H -fno-strict-aliasing -pipe -fstack-protector -I/usr/local/include',
    optimize='-O',
    cppflags='-DHAS_FPSETMASK -DHAS_FLOATINGPOINT_H -fno-strict-aliasing -pipe -fstack-protector -I/usr/local/include'
    ccversion='', gccversion='4.2.1 20070831 patched [FreeBSD]', gccosandvers=''
    intsize=4, longsize=8, ptrsize=8, doublesize=8, byteorder=12345678
    d_longlong=define, longlongsize=8, d_longdbl=define, longdblsize=16
    ivtype='long', ivsize=8, nvtype='double', nvsize=8, Off_t='off_t', lseeksize=8
    alignbytes=8, prototype=define
  Linker and Libraries:
    ld='cc', ldflags ='-Wl,-E  -fstack-protector -L/usr/local/lib'
    libpth=/usr/lib /usr/local/lib
    libs=-lgdbm -lm -lcrypt -lutil -lc
    perllibs=-lm -lcrypt -lutil -lc
    libc=, so=so, useshrplib=false, libperl=libperl.a
    gnulibc_version=''
  Dynamic Linking:
    dlsrc=dl_dlopen.xs, dlext=so, d_dlsymun=undef, ccdlflags=' '
    cccdlflags='-DPIC -fPIC', lddlflags='-shared  -L/usr/local/lib -fstack-protector'


Characteristics of this binary (from libperl): 
  Compile-time options: PERL_DONT_CREATE_GVSV PERL_MALLOC_WRAP USE_64_BIT_ALL
                        USE_64_BIT_INT USE_LARGE_FILES USE_PERLIO
  Built under freebsd
  Compiled at May 15 2014 23:30:26
  %ENV:
    PERL5LIB=""
    PERL5OPT=""
    PERL5_CPANPLUS_IS_RUNNING="44161"
    PERL5_CPAN_IS_RUNNING="44161"
    PERL5_CPAN_IS_RUNNING_IN_RECURSION="43069,44161"
    PERLDOC="-MPod::Perldoc::ToTextOverstrike"
    PERL_BATCH="yes"
    PERL_CANARY_STABILITY_NOPROMPT="1"
    PERL_CPAN_REPORTER_CONFIG="/var/tmp/cpansmoker-1023/2024090807/cpanreporter_000_config.ini"
    PERL_EXTUTILS_AUTOINSTALL="--defaultdeps"
    PERL_USE_UNSAFE_INC="1"
  @INC:
    /usr/perl5.10.1/lib/5.10.1/amd64-freebsd
    /usr/perl5.10.1/lib/5.10.1
    /usr/perl5.10.1/lib/site_perl/5.10.1/amd64-freebsd
    /usr/perl5.10.1/lib/site_perl/5.10.1
    .