Report for Catalyst-Controller-ActionRole-0.17

Back
From: metabase:user:320bfe00-2aae-11df-837a-5e0a49663a4f
Subject: PASS Catalyst-Controller-ActionRole-0.17 v5.8.6 GNU/Linux
Date: 2017-05-27T20:28:27Z

This distribution has been tested as part of the CPAN Testers
project, supporting the Perl programming language.  See
http://wiki.cpantesters.org/ for more information or email
questions to cpan-testers-discuss@perl.org


--
Dear Karen Etheridge,

This is a computer-generated report for Catalyst-Controller-ActionRole-0.17
on perl 5.8.6, created by CPAN-Reporter-1.2018.

Thank you for uploading your work to CPAN.  Congratulations!
All tests were successful.

Sections of this report:

    * Tester comments
    * Program output
    * Prerequisites
    * Environment and other context

------------------------------
TESTER COMMENTS
------------------------------

Additional comments from tester:

this report is from an automated smoke testing program
and was not reviewed by a human for accuracy

------------------------------
PROGRAM OUTPUT
------------------------------

Output from '/usr/bin/make test':

PERL_DL_NONLAZY=1 "/home/sand/src/perl/repoperls/installed-perls/host/k93msid/perl-5.8.6/89ad/bin/perl" "-MExtUtils::Command::MM" "-MTest::Harness" "-e" "undef *Test::Harness::Switches; test_harness(0, 'blib/lib', 'blib/arch')" t/*.t
# 
# Versions for all modules listed in MYMETA.json (including optional ones):
# 
# === Configure Requires ===
# 
#     Module               Want  Have
#     ------------------- ----- -----
#     Module::Build::Tiny 0.039 0.039
# 
# === Build Requires ===
# 
#     Module              Want Have
#     ------------------- ---- ----
#     ExtUtils::MakeMaker  any 7.24
# 
# === Test Requires ===
# 
#     Module                 Want     Have
#     ---------------------- ---- --------
#     Catalyst                any  5.90114
#     Catalyst::Action        any    undef
#     Catalyst::Action::REST 0.74  missing
#     Catalyst::Test          any    undef
#     ExtUtils::MakeMaker     any     7.24
#     File::Spec              any     3.62
#     FindBin                 any     1.44
#     Moose::Role             any   2.2004
#     Test::More              any 1.302085
#     lib                     any   0.5565
#     namespace::clean        any     0.27
#     parent                  any    0.236
#     strict                  any     1.03
#     warnings                any     1.03
# 
# === Test Recommends ===
# 
#     Module         Want     Have
#     ---------- -------- --------
#     CPAN::Meta 2.120900 2.150010
# 
# === Runtime Requires ===
# 
#     Module                   Want    Have
#     --------------------- ------- -------
#     Catalyst::Controller      any   undef
#     Catalyst::Runtime     5.80025 5.90114
#     Catalyst::Utils           any   undef
#     Class::Load               any    0.24
#     List::Util                any    1.47
#     Moose                     any  2.2004
#     Moose::Meta::Class        any  2.2004
#     MooseX::Types::Moose      any    0.50
#     String::RewritePrefix   0.004   0.007
#     namespace::autoclean      any    0.28
# 
# 
# *** WARNING WARNING WARNING WARNING WARNING WARNING WARNING WARNING ***
# 
# The following REQUIRED prerequisites were not satisfied:
# 
# Catalyst::Action::REST is not installed (version '0.74' required)
# 
t/00-report-prereqs.t ..... ok
t/action-class.t .......... ok
t/basic.t ................. ok
t/basic_rest.t ............ skipped: This test needs Catalyst::Action::REST >=0.74
t/execution-via-config.t .. ok
t/execution-via-does.t .... ok
All tests successful.
Files=6, Tests=41,  6 wallclock secs ( 0.02 usr  0.04 sys +  3.66 cusr  0.34 csys =  4.06 CPU)
Result: PASS

------------------------------
PREREQUISITES
------------------------------

Prerequisite modules loaded:

requires:

    Module                 Need    Have    
    ---------------------- ------- --------
    Catalyst::Controller   0       0       
    Catalyst::Runtime      5.80025 5.90114 
    Catalyst::Utils        0       0       
    Class::Load            0       0.24    
    List::Util             0       1.47    
    Moose                  0       2.2004  
    Moose::Meta::Class     0       2.2004  
    MooseX::Types::Moose   0       0.50    
    namespace::autoclean   0       0.28    
    perl                   5.006   5.008006
    String::RewritePrefix  0.004   0.007   

build_requires:

    Module                 Need    Have    
    ---------------------- ------- --------
    Catalyst               0       5.90114 
    Catalyst::Action       0       0       
  ! Catalyst::Action::REST 0.74    n/a     
    Catalyst::Test         0       0       
    ExtUtils::MakeMaker    0       7.24    
    File::Spec             0       3.62    
    FindBin                0       1.44    
    lib                    0       0.5565  
    Moose::Role            0       2.2004  
    namespace::clean       0       0.27    
    parent                 0       0.236   
    strict                 0       1.03    
    Test::More             0       1.302085
    warnings               0       1.03    

configure_requires:

    Module                 Need    Have    
    ---------------------- ------- --------
    Module::Build::Tiny    0.039   0.039   
    perl                   5.006   5.008006


------------------------------
ENVIRONMENT AND OTHER CONTEXT
------------------------------

Environment variables:

    AUTOMATED_TESTING = 1
    LANG = en_US.UTF-8
    PATH = /home/sand/bin:/usr/local/bin:/usr/bin:/bin:/usr/games:/usr/local/perl/bin:/usr/X11/bin:/sbin:/usr/sbin
    PERL5LIB = 
    PERL5OPT = 
    PERL5_CPANPLUS_IS_RUNNING = 22619
    PERL5_CPAN_IS_RUNNING = 22619
    PERL_CANARY_STABILITY_NOPROMPT = 1
    PERL_MM_USE_DEFAULT = 1
    PERL_USE_UNSAFE_INC = 1
    SHELL = /usr/bin/zsh
    TERM = screen

Perl special variables (and OS-specific diagnostics, for MSWin32):

    $^X = /home/sand/src/perl/repoperls/installed-perls/host/k93msid/perl-5.8.6/89ad/bin/perl
    $UID/$EUID = 1005 / 1005
    $GID = 1005 1005
    $EGID = 1005 1005

Perl module toolchain versions installed:

    Module              Have    
    ------------------- --------
    CPAN                2.18    
    CPAN::Meta          2.150010
    Cwd                 3.62    
    ExtUtils::CBuilder  0.280224
    ExtUtils::Command   7.24    
    ExtUtils::Install   2.10    
    ExtUtils::MakeMaker 7.24    
    ExtUtils::Manifest  1.70    
    ExtUtils::ParseXS   3.30    
    File::Spec          3.62    
    JSON                2.93    
    JSON::PP            2.93    
    Module::Build       0.4222  
    Module::Signature   0.81    
    Parse::CPAN::Meta   2.150010
    Test::Harness       3.39    
    Test::More          1.302085
    YAML                n/a     
    YAML::Syck          1.30    
    version             0.9917  


--

Summary of my perl5 (revision 5 version 8 subversion 6) configuration:
  Platform:
    osname=linux, osvers=4.9.0-2-amd64, archname=x86_64-linux
    uname='linux k93msid 4.9.0-2-amd64 #1 smp debian 4.9.18-1 (2017-03-30) x86_64 gnulinux '
    config_args='-Dprefix=/home/sand/src/perl/repoperls/installed-perls/host/k93msid/perl-5.8.6/89ad -Dmyhostname=k93msid -Dinstallusrbinperl=n -Uversiononly -Dusedevel -des -Ui_db -Dlibswanted=cl pthread socket inet nsl gdbm dbm malloc dl ld sun m crypt sec util c cposix posix ucb BSD gdbm_compat -Uuseithreads -Uuselongdouble -DDEBUGGING=-g'
    hint=recommended, useposix=true, d_sigaction=define
    usethreads=undef use5005threads=undef useithreads=undef usemultiplicity=undef
    useperlio=define d_sfio=undef uselargefiles=define usesocks=undef
    use64bitint=define use64bitall=define uselongdouble=undef
    usemymalloc=n, bincompat5005=undef
  Compiler:
    cc='cc', ccflags ='-fno-strict-aliasing -pipe -I/usr/local/include -D_LARGEFILE_SOURCE -D_FILE_OFFSET_BITS=64',
    optimize='-O2',
    cppflags='-fno-strict-aliasing -pipe -I/usr/local/include'
    ccversion='', gccversion='6.3.0 20170406', gccosandvers=''
    intsize=4, longsize=8, ptrsize=8, doublesize=8, byteorder=12345678
    d_longlong=define, longlongsize=8, d_longdbl=define, longdblsize=16
    ivtype='long', ivsize=8, nvtype='double', nvsize=8, Off_t='off_t', lseeksize=8
    alignbytes=8, prototype=define
  Linker and Libraries:
    ld='cc', ldflags =' -L/usr/local/lib'
    libpth=/usr/local/lib /lib/x86_64-linux-gnu /lib/../lib /usr/lib/x86_64-linux-gnu /usr/lib/../lib /lib /usr/lib
    libs=-lpthread -lnsl -ldl -lm -lcrypt -lutil -lc
    perllibs=-lpthread -lnsl -ldl -lm -lcrypt -lutil -lc
    libc=libc-2.24.so, so=so, useshrplib=false, libperl=libperl.a
    gnulibc_version='2.24'
  Dynamic Linking:
    dlsrc=dl_dlopen.xs, dlext=so, d_dlsymun=undef, ccdlflags='-Wl,-E'
    cccdlflags='-fpic', lddlflags='-shared -L/usr/local/lib'


Characteristics of this binary (from libperl): 
  Compile-time options: USE_64_BIT_INT USE_64_BIT_ALL USE_LARGE_FILES
  Locally applied patches:
	MAINT23539
  Built under linux
  Compiled at Apr 17 2017 10:43:11
  %ENV:
    PERL5LIB=""
    PERL5OPT=""
    PERL5_CPANPLUS_IS_RUNNING="22619"
    PERL5_CPAN_IS_RUNNING="22619"
    PERL_CANARY_STABILITY_NOPROMPT="1"
    PERL_MM_USE_DEFAULT="1"
    PERL_USE_UNSAFE_INC="1"
  @INC:
    /home/sand/src/perl/repoperls/installed-perls/host/k93msid/perl-5.8.6/89ad/lib/5.8.6/x86_64-linux
    /home/sand/src/perl/repoperls/installed-perls/host/k93msid/perl-5.8.6/89ad/lib/5.8.6
    /home/sand/src/perl/repoperls/installed-perls/host/k93msid/perl-5.8.6/89ad/lib/site_perl/5.8.6/x86_64-linux
    /home/sand/src/perl/repoperls/installed-perls/host/k93msid/perl-5.8.6/89ad/lib/site_perl/5.8.6
    /home/sand/src/perl/repoperls/installed-perls/host/k93msid/perl-5.8.6/89ad/lib/site_perl
    .